Workbook

Sheet Workers
A1: Create / Edit | B1: Employee | N1: Payrun | S1: Employee Info | AE1: Residential Address | AJ1: Office Address | AO1: Mailing Address | AU1: Metadata | BS1: ID | BU1: Mapping
A2: Required | B2: Required | C2: Required | D2: Optional | E2: Required | F2: Required | G2: Optional | H2: Optional | I2: Optional | J2: Optional | K2: Optional | L2: Optional | M2: Optional | N2: Optional | O2: Optional | P2: Optional | Q2: Optional | R2: Optional | S2: Optional | T2: Optional | U2: Optional | V2: Optional | W2: Optional | X2: Optional | Y2: Optional | Z2: Optional | AA2: Optional | AB2: Optional | AC2: Optional | AD2: Optional | AE2: Optional | AF2: Optional | AG2: Optional | AH2: Optional | AI2: Optional | AJ2: Optional | AK2: Optional | AL2: Optional | AM2: Optional | AN2: Optional | AO2: Optional | AP2: Optional | AQ2: Optional | AR2: Optional | AS2: Optional | AT2: Optional | AU2: Optional | AV2: Optional | AW2: Optional | AX2: Optional | AY2: Optional | AZ2: Optional | BA2: Optional | BB2: Optional | BC2: Optional | BD2: Optional | BE2: Optional | BF2: Optional | BG2: Optional | BH2: Optional | BI2: Optional | BJ2: Optional | BK2: Optional | BL2: Optional | BM2: Optional | BN2: Optional | BO2: Optional | BP2: Optional | BQ2: Optional | BR2: Optional | BS2: Optional | BT2: Optional
A3: Create or Edit | B3: Worker Name | C3: Client | D3: End Client | E3: Work Country | F3: Employment Status | G3: Date of Birth | H3: Visa Service | I3: Visa Renewal Date | J3: Visa Application Remarks | K3: Contract Status | L3: Employment Contract Start Date | M3: Expected End Date | N3: Recurring Payrun | O3: First Payrun Date | P3: Effective Start Date | Q3: Last Payrun Date | R3: Effective End Date | S3: Spinach Demo Tenant ID | T3: Client Worker ID | U3: Legal Name in Local Language | V3: Personal Email | W3: Business Email | X3: Phone Number | Y3: Job Title | Z3: Annual Leave | AA3: Probation Period | AB3: Citizenship Country | AC3: National ID | AD3: Gender | AE3: Residential Address | AF3: Residential Address City | AG3: Residential Address Country | AH3: Residential Postal Code | AI3: Residential Address State | AJ3: Office Address | AK3: Office Address City | AL3: Office Address Country | AM3: Office Postal Code | AN3: Office Address State | AO3: Mailing Address Line 1 | AP3: Mailing Address Line 2 | AQ3: Mailing Address City | AR3: Mailing Address Country | AS3: Mail Address Postal Code | AT3: Mailing Address State | AU3: branch | AV3: branch Remarks | AW3: Cost Centre | AX3: Cost Centre Remarks | AY3: Group | AZ3: Group Remarks | BA3: Group 2 | BB3: Group 2 Remarks | BC3: Group test | BD3: Group test Remarks | BE3: Local or Expat | BF3: Local or Expat Remarks | BG3: Section | BH3: Section Remarks | BI3: Task A | BJ3: Task A Remarks | BK3: Team (チーム) | BL3: Team (チーム) Remarks | BM3: test Tal | BN3: test Tal Remarks | BO3: tier | BP3: tier Remarks | BQ3: Travel Insurance | BR3: Travel Insurance Remarks | BS3: ID | BT3: Old Recurring Payrun ID | BU3: 0__mapping | BV3: 1__mapping | BW3: 2__mapping | BX3: 3__mapping | BY3: 4__mapping | BZ3: 5__mapping | CA3: 6__mapping | CB3: 7__mapping | CC3: 8__mapping | CD3: 9__mapping | CE3: 10__mapping | CF3: 11__mapping | CG3: 12__mapping | CH3: 13__mapping | CI3: 14__mapping | CJ3: 15__mapping | CK3: 16__mapping | CL3: 17__mapping | CM3: 18__mapping | CN3: 19__mapping | CO3: 20__mapping | CP3: 21__mapping | CQ3: 22__mapping | CR3: 23__mapping | CS3: 24__mapping
A4: Create | B4: Alice Smith | C4: A Company | E4: Japan | F4: Active | BU4: =IFERROR(VLOOKUP(A4,'0__mapping'!$A:$B,2,0),"") -> CREATE | BV4: =IFERROR(VLOOKUP(C4,'1__mapping'!$A:$B,2,0),"") -> f00901e4-44e4-45ae-a8b6-b687727925da | BW4: =INDEX('2__mapping'!B2:'2__mapping'!B49,MATCH(BV4&D4, INDEX('2__mapping'!C2:C49&'2__mapping'!A2:A49,),0)) -> #N/A | BX4: =IFERROR(VLOOKUP(E4,'3__mapping'!$A:$B,2,0),"") -> JP | BY4: =IFERROR(VLOOKUP(F4,'4__mapping'!$A:$B,2,0),"") -> ACTIVE | BZ4: =IFERROR(VLOOKUP(H4,'5__mapping'!$A:$B,2,0),"") | CA4: =IFERROR(VLOOKUP(K4,'6__mapping'!$A:$B,2,0),"") | CB4: =IFERROR(VLOOKUP(N4,'7__mapping'!$A:$B,2,0),"") | CC4: =IFERROR(VLOOKUP(AB4,'8__mapping'!$A:$B,2,0),"") | CD4: =IFERROR(VLOOKUP(AD4,'9__mapping'!$A:$B,2,0),"") | CE4: =IFERROR(VLOOKUP(AG4,'10__mapping'!$A:$B,2,0),"") | CF4: =IFERROR(VLOOKUP(AL4,'11__mapping'!$A:$B,2,0),"") | CG4: =IFERROR(VLOOKUP(AR4,'12__mapping'!$A:$B,2,0),"") | CH4: =IFERROR(VLOOKUP(AU4,'13__mapping'!$A:$B,2,0),"") | CI4: =IFERROR(VLOOKUP(AW4,'14__mapping'!$A:$B,2,0),"") | CJ4: =IFERROR(VLOOKUP(AY4,'15__mapping'!$A:$B,2,0),"") | CK4: =IFERROR(VLOOKUP(BA4,'16__mapping'!$A:$B,2,0),"") | CL4: =IFERROR(VLOOKUP(BC4,'17__mapping'!$A:$B,2,0),"") | CM4: =IFERROR(VLOOKUP(BE4,'18__mapping'!$A:$B,2,0),"") | CN4: =IFERROR(VLOOKUP(BG4,'19__mapping'!$A:$B,2,0),"") | CO4: =IFERROR(VLOOKUP(BI4,'20__mapping'!$A:$B,2,0),"") | CP4: =IFERROR(VLOOKUP(BK4,'21__mapping'!$A:$B,2,0),"") | CQ4: =IFERROR(VLOOKUP(BM4,'22__mapping'!$A:$B,2,0),"") | CR4: =IFERROR(VLOOKUP(BO4,'23__mapping'!$A:$B,2,0),"") | CS4: =IFERROR(VLOOKUP(BQ4,'24__mapping'!$A:$B,2,0),"")
A5: Create | BU5: =IFERROR(VLOOKUP(A5,'0__mapping'!$A:$B,2,0),"") -> CREATE | BV5: =IFERROR(VLOOKUP(C5,'1__mapping'!$A:$B,2,0),"") | BW5: =INDEX('2__mapping'!B2:'2__mapping'!B49,MATCH(BV5&D5, INDEX('2__mapping'!C2:C49&'2__mapping'!A2:A49,),0)) -> #N/A | BX5: =IFERROR(VLOOKUP(E5,'3__mapping'!$A:$B,2,0),"") | BY5: =IFERROR(VLOOKUP(F5,'4__mapping'!$A:$B,2,0),"") | BZ5: =IFERROR(VLOOKUP(H5,'5__mapping'!$A:$B,2,0),"") | CA5: =IFERROR(VLOOKUP(K5,'6__mapping'!$A:$B,2,0),"") | CB5: =IFERROR(VLOOKUP(N5,'7__mapping'!$A:$B,2,0),"") | CC5: =IFERROR(VLOOKUP(AB5,'8__mapping'!$A:$B,2,0),"") | CD5: =IFERROR(VLOOKUP(AD5,'9__mapping'!$A:$B,2,0),"") | CE5: =IFERROR(VLOOKUP(AG5,'10__mapping'!$A:$B,2,0),"") | CF5: =IFERROR(VLOOKUP(AL5,'11__mapping'!$A:$B,2,0),"") | CG5: =IFERROR(VLOOKUP(AR5,'12__mapping'!$A:$B,2,0),"") | CH5: =IFERROR(VLOOKUP(AU5,'13__mapping'!$A:$B,2,0),"") | CI5: =IFERROR(VLOOKUP(AW5,'14__mapping'!$A:$B,2,0),"") | CJ5: =IFERROR(VLOOKUP(AY5,'15__mapping'!$A:$B,2,0),"") | CK5: =IFERROR(VLOOKUP(BA5,'16__mapping'!$A:$B,2,0),"") | CL5: =IFERROR(VLOOKUP(BC5,'17__mapping'!$A:$B,2,0),"") | CM5: =IFERROR(VLOOKUP(BE5,'18__mapping'!$A:$B,2,0),"") | CN5: =IFERROR(VLOOKUP(BG5,'19__mapping'!$A:$B,2,0),"") | CO5: =IFERROR(VLOOKUP(BI5,'20__mapping'!$A:$B,2,0),"") | CP5: =IFERROR(VLOOKUP(BK5,'21__mapping'!$A:$B,2,0),"") | CQ5: =IFERROR(VLOOKUP(BM5,'22__mapping'!$A:$B,2,0),"") | CR5: =IFERROR(VLOOKUP(BO5,'23__mapping'!$A:$B,2,0),"") | CS5: =IFERROR(VLOOKUP(BQ5,'24__mapping'!$A:$B,2,0),"")
A6: Create | BU6: =IFERROR(VLOOKUP(A6,'0__mapping'!$A:$B,2,0),"") -> CREATE | BV6: =IFERROR(VLOOKUP(C6,'1__mapping'!$A:$B,2,0),"") | BW6: =INDEX('2__mapping'!B2:'2__mapping'!B49,MATCH(BV6&D6, INDEX('2__mapping'!C2:C49&'2__mapping'!A2:A49,),0)) -> #N/A | BX6: =IFERROR(VLOOKUP(E6,'3__mapping'!$A:$B,2,0),"") | BY6: =IFERROR(VLOOKUP(F6,'4__mapping'!$A:$B,2,0),"") | BZ6: =IFERROR(VLOOKUP(H6,'5__mapping'!$A:$B,2,0),"") | CA6: =IFERROR(VLOOKUP(K6,'6__mapping'!$A:$B,2,0),"") | CB6: =IFERROR(VLOOKUP(N6,'7__mapping'!$A:$B,2,0),"") | CC6: =IFERROR(VLOOKUP(AB6,'8__mapping'!$A:$B,2,0),"") | CD6: =IFERROR(VLOOKUP(AD6,'9__mapping'!$A:$B,2,0),"") | CE6: =IFERROR(VLOOKUP(AG6,'10__mapping'!$A:$B,2,0),"") | CF6: =IFERROR(VLOOKUP(AL6,'11__mapping'!$A:$B,2,0),"") | CG6: =IFERROR(VLOOKUP(AR6,'12__mapping'!$A:$B,2,0),"") | CH6: =IFERROR(VLOOKUP(AU6,'13__mapping'!$A:$B,2,0),"") | CI6: =IFERROR(VLOOKUP(AW6,'14__mapping'!$A:$B,2,0),"") | CJ6: =IFERROR(VLOOKUP(AY6,'15__mapping'!$A:$B,2,0),"") | CK6: =IFERROR(VLOOKUP(BA6,'16__mapping'!$A:$B,2,0),"") | CL6: =IFERROR(VLOOKUP(BC6,'17__mapping'!$A:$B,2,0),"") | CM6: =IFERROR(VLOOKUP(BE6,'18__mapping'!$A:$B,2,0),"") | CN6: =IFERROR(VLOOKUP(BG6,'19__mapping'!$A:$B,2,0),"") | CO6: =IFERROR(VLOOKUP(BI6,'20__mapping'!$A:$B,2,0),"") | CP6: =IFERROR(VLOOKUP(BK6,'21__mapping'!$A:$B,2,0),"") | CQ6: =IFERROR(VLOOKUP(BM6,'22__mapping'!$A:$B,2,0),"") | CR6: =IFERROR(VLOOKUP(BO6,'23__mapping'!$A:$B,2,0),"") | CS6: =IFERROR(VLOOKUP(BQ6,'24__mapping'!$A:$B,2,0),"")
A7: Create | BU7: =IFERROR(VLOOKUP(A7,'0__mapping'!$A:$B,2,0),"") -> CREATE | BV7: =IFERROR(VLOOKUP(C7,'1__mapping'!$A:$B,2,0),"") | BW7: =INDEX('2__mapping'!B2:'2__mapping'!B49,MATCH(BV7&D7, INDEX('2__mapping'!C2:C49&'2__mapping'!A2:A49,),0)) -> #N/A | BX7: =IFERROR(VLOOKUP(E7,'3__mapping'!$A:$B,2,0),"") | BY7: =IFERROR(VLOOKUP(F7,'4__mapping'!$A:$B,2,0),"") | BZ7: =IFERROR(VLOOKUP(H7,'5__mapping'!$A:$B,2,0),"") | CA7: =IFERROR(VLOOKUP(K7,'6__mapping'!$A:$B,2,0),"") | CB7: =IFERROR(VLOOKUP(N7,'7__mapping'!$A:$B,2,0),"") | CC7: =IFERROR(VLOOKUP(AB7,'8__mapping'!$A:$B,2,0),"") | CD7: =IFERROR(VLOOKUP(AD7,'9__mapping'!$A:$B,2,0),"") | CE7: =IFERROR(VLOOKUP(AG7,'10__mapping'!$A:$B,2,0),"") | CF7: =IFERROR(VLOOKUP(AL7,'11__mapping'!$A:$B,2,0),"") | CG7: =IFERROR(VLOOKUP(AR7,'12__mapping'!$A:$B,2,0),"") | CH7: =IFERROR(VLOOKUP(AU7,'13__mapping'!$A:$B,2,0),"") | CI7: =IFERROR(VLOOKUP(AW7,'14__mapping'!$A:$B,2,0),"") | CJ7: =IFERROR(VLOOKUP(AY7,'15__mapping'!$A:$B,2,0),"") | CK7: =IFERROR(VLOOKUP(BA7,'16__mapping'!$A:$B,2,0),"") | CL7: =IFERROR(VLOOKUP(BC7,'17__mapping'!$A:$B,2,0),"") | CM7: =IFERROR(VLOOKUP(BE7,'18__mapping'!$A:$B,2,0),"") | CN7: =IFERROR(VLOOKUP(BG7,'19__mapping'!$A:$B,2,0),"") | CO7: =IFERROR(VLOOKUP(BI7,'20__mapping'!$A:$B,2,0),"") | CP7: =IFERROR(VLOOKUP(BK7,'21__mapping'!$A:$B,2,0),"") | CQ7: =IFERROR(VLOOKUP(BM7,'22__mapping'!$A:$B,2,0),"") | CR7: =IFERROR(VLOOKUP(BO7,'23__mapping'!$A:$B,2,0),"") | CS7: =IFERROR(VLOOKUP(BQ7,'24__mapping'!$A:$B,2,0),"")
A8: Create | BU8: =IFERROR(VLOOKUP(A8,'0__mapping'!$A:$B,2,0),"") -> CREATE | BV8: =IFERROR(VLOOKUP(C8,'1__mapping'!$A:$B,2,0),"") | BW8: =INDEX('2__mapping'!B2:'2__mapping'!B49,MATCH(BV8&D8, INDEX('2__mapping'!C2:C49&'2__mapping'!A2:A49,),0)) -> #N/A | BX8: =IFERROR(VLOOKUP(E8,'3__mapping'!$A:$B,2,0),"") | BY8: =IFERROR(VLOOKUP(F8,'4__mapping'!$A:$B,2,0),"") | BZ8: =IFERROR(VLOOKUP(H8,'5__mapping'!$A:$B,2,0),"") | CA8: =IFERROR(VLOOKUP(K8,'6__mapping'!$A:$B,2,0),"") | CB8: =IFERROR(VLOOKUP(N8,'7__mapping'!$A:$B,2,0),"") | CC8: =IFERROR(VLOOKUP(AB8,'8__mapping'!$A:$B,2,0),"") | CD8: =IFERROR(VLOOKUP(AD8,'9__mapping'!$A:$B,2,0),"") | CE8: =IFERROR(VLOOKUP(AG8,'10__mapping'!$A:$B,2,0),"") | CF8: =IFERROR(VLOOKUP(AL8,'11__mapping'!$A:$B,2,0),"") | CG8: =IFERROR(VLOOKUP(AR8,'12__mapping'!$A:$B,2,0),"") | CH8: =IFERROR(VLOOKUP(AU8,'13__mapping'!$A:$B,2,0),"") | CI8: =IFERROR(VLOOKUP(AW8,'14__mapping'!$A:$B,2,0),"") | CJ8: =IFERROR(VLOOKUP(AY8,'15__mapping'!$A:$B,2,0),"") | CK8: =IFERROR(VLOOKUP(BA8,'16__mapping'!$A:$B,2,0),"") | CL8: =IFERROR(VLOOKUP(BC8,'17__mapping'!$A:$B,2,0),"") | CM8: =IFERROR(VLOOKUP(BE8,'18__mapping'!$A:$B,2,0),"") | CN8: =IFERROR(VLOOKUP(BG8,'19__mapping'!$A:$B,2,0),"") | CO8: =IFERROR(VLOOKUP(BI8,'20__mapping'!$A:$B,2,0),"") | CP8: =IFERROR(VLOOKUP(BK8,'21__mapping'!$A:$B,2,0),"") | CQ8: =IFERROR(VLOOKUP(BM8,'22__mapping'!$A:$B,2,0),"") | CR8: =IFERROR(VLOOKUP(BO8,'23__mapping'!$A:$B,2,0),"") | CS8: =IFERROR(VLOOKUP(BQ8,'24__mapping'!$A:$B,2,0),"")
A9: Create | BU9: =IFERROR(VLOOKUP(A9,'0__mapping'!$A:$B,2,0),"") -> CREATE | BV9: =IFERROR(VLOOKUP(C9,'1__mapping'!$A:$B,2,0),"") | BW9: =INDEX('2__mapping'!B2:'2__mapping'!B49,MATCH(BV9&D9, INDEX('2__mapping'!C2:C49&'2__mapping'!A2:A49,),0)) -> #N/A | BX9: =IFERROR(VLOOKUP(E9,'3__mapping'!$A:$B,2,0),"") | BY9: =IFERROR(VLOOKUP(F9,'4__mapping'!$A:$B,2,0),"") | BZ9: =IFERROR(VLOOKUP(H9,'5__mapping'!$A:$B,2,0),"") | CA9: =IFERROR(VLOOKUP(K9,'6__mapping'!$A:$B,2,0),"") | CB9: =IFERROR(VLOOKUP(N9,'7__mapping'!$A:$B,2,0),"") | CC9: =IFERROR(VLOOKUP(AB9,'8__mapping'!$A:$B,2,0),"") | CD9: =IFERROR(VLOOKUP(AD9,'9__mapping'!$A:$B,2,0),"") | CE9: =IFERROR(VLOOKUP(AG9,'10__mapping'!$A:$B,2,0),"") | CF9: =IFERROR(VLOOKUP(AL9,'11__mapping'!$A:$B,2,0),"") | CG9: =IFERROR(VLOOKUP(AR9,'12__mapping'!$A:$B,2,0),"") | CH9: =IFERROR(VLOOKUP(AU9,'13__mapping'!$A:$B,2,0),"") | CI9: =IFERROR(VLOOKUP(AW9,'14__mapping'!$A:$B,2,0),"") | CJ9: =IFERROR(VLOOKUP(AY9,'15__mapping'!$A:$B,2,0),"") | CK9: =IFERROR(VLOOKUP(BA9,'16__mapping'!$A:$B,2,0),"") | CL9: =IFERROR(VLOOKUP(BC9,'17__mapping'!$A:$B,2,0),"") | CM9: =IFERROR(VLOOKUP(BE9,'18__mapping'!$A:$B,2,0),"") | CN9: =IFERROR(VLOOKUP(BG9,'19__mapping'!$A:$B,2,0),"") | CO9: =IFERROR(VLOOKUP(BI9,'20__mapping'!$A:$B,2,0),"") | CP9: =IFERROR(VLOOKUP(BK9,'21__mapping'!$A:$B,2,0),"") | CQ9: =IFERROR(VLOOKUP(BM9,'22__mapping'!$A:$B,2,0),"") | CR9: =IFERROR(VLOOKUP(BO9,'23__mapping'!$A:$B,2,0),"") | CS9: =IFERROR(VLOOKUP(BQ9,'24__mapping'!$A:$B,2,0),"")
A10: Create | BU10: =IFERROR(VLOOKUP(A10,'0__mapping'!$A:$B,2,0),"") -> CREATE | BV10: =IFERROR(VLOOKUP(C10,'1__mapping'!$A:$B,2,0),"") | BW10: =INDEX('2__mapping'!B2:'2__mapping'!B49,MATCH(BV10&D10, INDEX('2__mapping'!C2:C49&'2__mapping'!A2:A49,),0)) -> #N/A | BX10: =IFERROR(VLOOKUP(E10,'3__mapping'!$A:$B,2,0),"") | BY10: =IFERROR(VLOOKUP(F10,'4__mapping'!$A:$B,2,0),"") | BZ10: =IFERROR(VLOOKUP(H10,'5__mapping'!$A:$B,2,0),"") | CA10: =IFERROR(VLOOKUP(K10,'6__mapping'!$A:$B,2,0),"") | CB10: =IFERROR(VLOOKUP(N10,'7__mapping'!$A:$B,2,0),"") | CC10: =IFERROR(VLOOKUP(AB10,'8__mapping'!$A:$B,2,0),"") | CD10: =IFERROR(VLOOKUP(AD10,'9__mapping'!$A:$B,2,0),"") | CE10: =IFERROR(VLOOKUP(AG10,'10__mapping'!$A:$B,2,0),"") | CF10: =IFERROR(VLOOKUP(AL10,'11__mapping'!$A:$B,2,0),"") | CG10: =IFERROR(VLOOKUP(AR10,'12__mapping'!$A:$B,2,0),"") | CH10: =IFERROR(VLOOKUP(AU10,'13__mapping'!$A:$B,2,0),"") | CI10: =IFERROR(VLOOKUP(AW10,'14__mapping'!$A:$B,2,0),"") | CJ10: =IFERROR(VLOOKUP(AY10,'15__mapping'!$A:$B,2,0),"") | CK10: =IFERROR(VLOOKUP(BA10,'16__mapping'!$A:$B,2,0),"") | CL10: =IFERROR(VLOOKUP(BC10,'17__mapping'!$A:$B,2,0),"") | CM10: =IFERROR(VLOOKUP(BE10,'18__mapping'!$A:$B,2,0),"") | CN10: =IFERROR(VLOOKUP(BG10,'19__mapping'!$A:$B,2,0),"") | CO10: =IFERROR(VLOOKUP(BI10,'20__mapping'!$A:$B,2,0),"") | CP10: =IFERROR(VLOOKUP(BK10,'21__mapping'!$A:$B,2,0),"") | CQ10: =IFERROR(VLOOKUP(BM10,'22__mapping'!$A:$B,2,0),"") | CR10: =IFERROR(VLOOKUP(BO10,'23__mapping'!$A:$B,2,0),"") | CS10: =IFERROR(VLOOKUP(BQ10,'24__mapping'!$A:$B,2,0),"")
A11: Create | BU11: =IFERROR(VLOOKUP(A11,'0__mapping'!$A:$B,2,0),"") -> CREATE | BV11: =IFERROR(VLOOKUP(C11,'1__mapping'!$A:$B,2,0),"") | BW11: =INDEX('2__mapping'!B2:'2__mapping'!B49,MATCH(BV11&D11, INDEX('2__mapping'!C2:C49&'2__mapping'!A2:A49,),0)) -> #N/A | BX11: =IFERROR(VLOOKUP(E11,'3__mapping'!$A:$B,2,0),"") | BY11: =IFERROR(VLOOKUP(F11,'4__mapping'!$A:$B,2,0),"") | BZ11: =IFERROR(VLOOKUP(H11,'5__mapping'!$A:$B,2,0),"") | CA11: =IFERROR(VLOOKUP(K11,'6__mapping'!$A:$B,2,0),"") | CB11: =IFERROR(VLOOKUP(N11,'7__mapping'!$A:$B,2,0),"") | CC11: =IFERROR(VLOOKUP(AB11,'8__mapping'!$A:$B,2,0),"") | CD11: =IFERROR(VLOOKUP(AD11,'9__mapping'!$A:$B,2,0),"") | CE11: =IFERROR(VLOOKUP(AG11,'10__mapping'!$A:$B,2,0),"") | CF11: =IFERROR(VLOOKUP(AL11,'11__mapping'!$A:$B,2,0),"") | CG11: =IFERROR(VLOOKUP(AR11,'12__mapping'!$A:$B,2,0),"") | CH11: =IFERROR(VLOOKUP(AU11,'13__mapping'!$A:$B,2,0),"") | CI11: =IFERROR(VLOOKUP(AW11,'14__mapping'!$A:$B,2,0),"") | CJ11: =IFERROR(VLOOKUP(AY11,'15__mapping'!$A:$B,2,0),"") | CK11: =IFERROR(VLOOKUP(BA11,'16__mapping'!$A:$B,2,0),"") | CL11: =IFERROR(VLOOKUP(BC11,'17__mapping'!$A:$B,2,0),"") | CM11: =IFERROR(VLOOKUP(BE11,'18__mapping'!$A:$B,2,0),"") | CN11: =IFERROR(VLOOKUP(BG11,'19__mapping'!$A:$B,2,0),"") | CO11: =IFERROR(VLOOKUP(BI11,'20__mapping'!$A:$B,2,0),"") | CP11: =IFERROR(VLOOKUP(BK11,'21__mapping'!$A:$B,2,0),"") | CQ11: =IFERROR(VLOOKUP(BM11,'22__mapping'!$A:$B,2,0),"") | CR11: =IFERROR(VLOOKUP(BO11,'23__mapping'!$A:$B,2,0),"") | CS11: =IFERROR(VLOOKUP(BQ11,'24__mapping'!$A:$B,2,0),"")
A12: Create | BU12: =IFERROR(VLOOKUP(A12,'0__mapping'!$A:$B,2,0),"") -> CREATE | BV12: =IFERROR(VLOOKUP(C12,'1__mapping'!$A:$B,2,0),"") | BW12: =INDEX('2__mapping'!B2:'2__mapping'!B49,MATCH(BV12&D12, INDEX('2__mapping'!C2:C49&'2__mapping'!A2:A49,),0)) -> #N/A | BX12: =IFERROR(VLOOKUP(E12,'3__mapping'!$A:$B,2,0),"") | BY12: =IFERROR(VLOOKUP(F12,'4__mapping'!$A:$B,2,0),"") | BZ12: =IFERROR(VLOOKUP(H12,'5__mapping'!$A:$B,2,0),"") | CA12: =IFERROR(VLOOKUP(K12,'6__mapping'!$A:$B,2,0),"") | CB12: =IFERROR(VLOOKUP(N12,'7__mapping'!$A:$B,2,0),"") | CC12: =IFERROR(VLOOKUP(AB12,'8__mapping'!$A:$B,2,0),"") | CD12: =IFERROR(VLOOKUP(AD12,'9__mapping'!$A:$B,2,0),"") | CE12: =IFERROR(VLOOKUP(AG12,'10__mapping'!$A:$B,2,0),"") | CF12: =IFERROR(VLOOKUP(AL12,'11__mapping'!$A:$B,2,0),"") | CG12: =IFERROR(VLOOKUP(AR12,'12__mapping'!$A:$B,2,0),"") | CH12: =IFERROR(VLOOKUP(AU12,'13__mapping'!$A:$B,2,0),"") | CI12: =IFERROR(VLOOKUP(AW12,'14__mapping'!$A:$B,2,0),"") | CJ12: =IFERROR(VLOOKUP(AY12,'15__mapping'!$A:$B,2,0),"") | CK12: =IFERROR(VLOOKUP(BA12,'16__mapping'!$A:$B,2,0),"") | CL12: =IFERROR(VLOOKUP(BC12,'17__mapping'!$A:$B,2,0),"") | CM12: =IFERROR(VLOOKUP(BE12,'18__mapping'!$A:$B,2,0),"") | CN12: =IFERROR(VLOOKUP(BG12,'19__mapping'!$A:$B,2,0),"") | CO12: =IFERROR(VLOOKUP(BI12,'20__mapping'!$A:$B,2,0),"") | CP12: =IFERROR(VLOOKUP(BK12,'21__mapping'!$A:$B,2,0),"") | CQ12: =IFERROR(VLOOKUP(BM12,'22__mapping'!$A:$B,2,0),"") | CR12: =IFERROR(VLOOKUP(BO12,'23__mapping'!$A:$B,2,0),"") | CS12: =IFERROR(VLOOKUP(BQ12,'24__mapping'!$A:$B,2,0),"")
A13: Create | BU13: =IFERROR(VLOOKUP(A13,'0__mapping'!$A:$B,2,0),"") -> CREATE | BV13: =IFERROR(VLOOKUP(C13,'1__mapping'!$A:$B,2,0),"") | BW13: =INDEX('2__mapping'!B2:'2__mapping'!B49,MATCH(BV13&D13, INDEX('2__mapping'!C2:C49&'2__mapping'!A2:A49,),0)) -> #N/A | BX13: =IFERROR(VLOOKUP(E13,'3__mapping'!$A:$B,2,0),"") | BY13: =IFERROR(VLOOKUP(F13,'4__mapping'!$A:$B,2,0),"") | BZ13: =IFERROR(VLOOKUP(H13,'5__mapping'!$A:$B,2,0),"") | CA13: =IFERROR(VLOOKUP(K13,'6__mapping'!$A:$B,2,0),"") | CB13: =IFERROR(VLOOKUP(N13,'7__mapping'!$A:$B,2,0),"") | CC13: =IFERROR(VLOOKUP(AB13,'8__mapping'!$A:$B,2,0),"") | CD13: =IFERROR(VLOOKUP(AD13,'9__mapping'!$A:$B,2,0),"") | CE13: =IFERROR(VLOOKUP(AG13,'10__mapping'!$A:$B,2,0),"") | CF13: =IFERROR(VLOOKUP(AL13,'11__mapping'!$A:$B,2,0),"") | CG13: =IFERROR(VLOOKUP(AR13,'12__mapping'!$A:$B,2,0),"") | CH13: =IFERROR(VLOOKUP(AU13,'13__mapping'!$A:$B,2,0),"") | CI13: =IFERROR(VLOOKUP(AW13,'14__mapping'!$A:$B,2,0),"") | CJ13: =IFERROR(VLOOKUP(AY13,'15__mapping'!$A:$B,2,0),"") | CK13: =IFERROR(VLOOKUP(BA13,'16__mapping'!$A:$B,2,0),"") | CL13: =IFERROR(VLOOKUP(BC13,'17__mapping'!$A:$B,2,0),"") | CM13: =IFERROR(VLOOKUP(BE13,'18__mapping'!$A:$B,2,0),"") | CN13: =IFERROR(VLOOKUP(BG13,'19__mapping'!$A:$B,2,0),"") | CO13: =IFERROR(VLOOKUP(BI13,'20__mapping'!$A:$B,2,0),"") | CP13: =IFERROR(VLOOKUP(BK13,'21__mapping'!$A:$B,2,0),"") | CQ13: =IFERROR(VLOOKUP(BM13,'22__mapping'!$A:$B,2,0),"") | CR13: =IFERROR(VLOOKUP(BO13,'23__mapping'!$A:$B,2,0),"") | CS13: =IFERROR(VLOOKUP(BQ13,'24__mapping'!$A:$B,2,0),"")
A14: Create | BU14: =IFERROR(VLOOKUP(A14,'0__mapping'!$A:$B,2,0),"") -> CREATE | BV14: =IFERROR(VLOOKUP(C14,'1__mapping'!$A:$B,2,0),"") | BW14: =INDEX('2__mapping'!B2:'2__mapping'!B49,MATCH(BV14&D14, INDEX('2__mapping'!C2:C49&'2__mapping'!A2:A49,),0)) -> #N/A | BX14: =IFERROR(VLOOKUP(E14,'3__mapping'!$A:$B,2,0),"") | BY14: =IFERROR(VLOOKUP(F14,'4__mapping'!$A:$B,2,0),"") | BZ14: =IFERROR(VLOOKUP(H14,'5__mapping'!$A:$B,2,0),"") | CA14: =IFERROR(VLOOKUP(K14,'6__mapping'!$A:$B,2,0),"") | CB14: =IFERROR(VLOOKUP(N14,'7__mapping'!$A:$B,2,0),"") | CC14: =IFERROR(VLOOKUP(AB14,'8__mapping'!$A:$B,2,0),"") | CD14: =IFERROR(VLOOKUP(AD14,'9__mapping'!$A:$B,2,0),"") | CE14: =IFERROR(VLOOKUP(AG14,'10__mapping'!$A:$B,2,0),"") | CF14: =IFERROR(VLOOKUP(AL14,'11__mapping'!$A:$B,2,0),"") | CG14: =IFERROR(VLOOKUP(AR14,'12__mapping'!$A:$B,2,0),"") | CH14: =IFERROR(VLOOKUP(AU14,'13__mapping'!$A:$B,2,0),"") | CI14: =IFERROR(VLOOKUP(AW14,'14__mapping'!$A:$B,2,0),"") | CJ14: =IFERROR(VLOOKUP(AY14,'15__mapping'!$A:$B,2,0),"") | CK14: =IFERROR(VLOOKUP(BA14,'16__mapping'!$A:$B,2,0),"") | CL14: =IFERROR(VLOOKUP(BC14,'17__mapping'!$A:$B,2,0),"") | CM14: =IFERROR(VLOOKUP(BE14,'18__mapping'!$A:$B,2,0),"") | CN14: =IFERROR(VLOOKUP(BG14,'19__mapping'!$A:$B,2,0),"") | CO14: =IFERROR(VLOOKUP(BI14,'20__mapping'!$A:$B,2,0),"") | CP14: =IFERROR(VLOOKUP(BK14,'21__mapping'!$A:$B,2,0),"") | CQ14: =IFERROR(VLOOKUP(BM14,'22__mapping'!$A:$B,2,0),"") | CR14: =IFERROR(VLOOKUP(BO14,'23__mapping'!$A:$B,2,0),"") | CS14: =IFERROR(VLOOKUP(BQ14,'24__mapping'!$A:$B,2,0),"")
A15: Create | BU15: =IFERROR(VLOOKUP(A15,'0__mapping'!$A:$B,2,0),"") -> CREATE | BV15: =IFERROR(VLOOKUP(C15,'1__mapping'!$A:$B,2,0),"") | BW15: =INDEX('2__mapping'!B2:'2__mapping'!B49,MATCH(BV15&D15, INDEX('2__mapping'!C2:C49&'2__mapping'!A2:A49,),0)) -> #N/A | BX15: =IFERROR(VLOOKUP(E15,'3__mapping'!$A:$B,2,0),"") | BY15: =IFERROR(VLOOKUP(F15,'4__mapping'!$A:$B,2,0),"") | BZ15: =IFERROR(VLOOKUP(H15,'5__mapping'!$A:$B,2,0),"") | CA15: =IFERROR(VLOOKUP(K15,'6__mapping'!$A:$B,2,0),"") | CB15: =IFERROR(VLOOKUP(N15,'7__mapping'!$A:$B,2,0),"") | CC15: =IFERROR(VLOOKUP(AB15,'8__mapping'!$A:$B,2,0),"") | CD15: =IFERROR(VLOOKUP(AD15,'9__mapping'!$A:$B,2,0),"") | CE15: =IFERROR(VLOOKUP(AG15,'10__mapping'!$A:$B,2,0),"") | CF15: =IFERROR(VLOOKUP(AL15,'11__mapping'!$A:$B,2,0),"") | CG15: =IFERROR(VLOOKUP(AR15,'12__mapping'!$A:$B,2,0),"") | CH15: =IFERROR(VLOOKUP(AU15,'13__mapping'!$A:$B,2,0),"") | CI15: =IFERROR(VLOOKUP(AW15,'14__mapping'!$A:$B,2,0),"") | CJ15: =IFERROR(VLOOKUP(AY15,'15__mapping'!$A:$B,2,0),"") | CK15: =IFERROR(VLOOKUP(BA15,'16__mapping'!$A:$B,2,0),"") | CL15: =IFERROR(VLOOKUP(BC15,'17__mapping'!$A:$B,2,0),"") | CM15: =IFERROR(VLOOKUP(BE15,'18__mapping'!$A:$B,2,0),"") | CN15: =IFERROR(VLOOKUP(BG15,'19__mapping'!$A:$B,2,0),"") | CO15: =IFERROR(VLOOKUP(BI15,'20__mapping'!$A:$B,2,0),"") | CP15: =IFERROR(VLOOKUP(BK15,'21__mapping'!$A:$B,2,0),"") | CQ15: =IFERROR(VLOOKUP(BM15,'22__mapping'!$A:$B,2,0),"") | CR15: =IFERROR(VLOOKUP(BO15,'23__mapping'!$A:$B,2,0),"") | CS15: =IFERROR(VLOOKUP(BQ15,'24__mapping'!$A:$B,2,0),"")
A16: Create | BU16: =IFERROR(VLOOKUP(A16,'0__mapping'!$A:$B,2,0),"") -> CREATE | BV16: =IFERROR(VLOOKUP(C16,'1__mapping'!$A:$B,2,0),"") | BW16: =INDEX('2__mapping'!B2:'2__mapping'!B49,MATCH(BV16&D16, INDEX('2__mapping'!C2:C49&'2__mapping'!A2:A49,),0)) -> #N/A | BX16: =IFERROR(VLOOKUP(E16,'3__mapping'!$A:$B,2,0),"") | BY16: =IFERROR(VLOOKUP(F16,'4__mapping'!$A:$B,2,0),"") | BZ16: =IFERROR(VLOOKUP(H16,'5__mapping'!$A:$B,2,0),"") | CA16: =IFERROR(VLOOKUP(K16,'6__mapping'!$A:$B,2,0),"") | CB16: =IFERROR(VLOOKUP(N16,'7__mapping'!$A:$B,2,0),"") | CC16: =IFERROR(VLOOKUP(AB16,'8__mapping'!$A:$B,2,0),"") | CD16: =IFERROR(VLOOKUP(AD16,'9__mapping'!$A:$B,2,0),"") | CE16: =IFERROR(VLOOKUP(AG16,'10__mapping'!$A:$B,2,0),"") | CF16: =IFERROR(VLOOKUP(AL16,'11__mapping'!$A:$B,2,0),"") | CG16: =IFERROR(VLOOKUP(AR16,'12__mapping'!$A:$B,2,0),"") | CH16: =IFERROR(VLOOKUP(AU16,'13__mapping'!$A:$B,2,0),"") | CI16: =IFERROR(VLOOKUP(AW16,'14__mapping'!$A:$B,2,0),"") | CJ16: =IFERROR(VLOOKUP(AY16,'15__mapping'!$A:$B,2,0),"") | CK16: =IFERROR(VLOOKUP(BA16,'16__mapping'!$A:$B,2,0),"") | CL16: =IFERROR(VLOOKUP(BC16,'17__mapping'!$A:$B,2,0),"") | CM16: =IFERROR(VLOOKUP(BE16,'18__mapping'!$A:$B,2,0),"") | CN16: =IFERROR(VLOOKUP(BG16,'19__mapping'!$A:$B,2,0),"") | CO16: =IFERROR(VLOOKUP(BI16,'20__mapping'!$A:$B,2,0),"") | CP16: =IFERROR(VLOOKUP(BK16,'21__mapping'!$A:$B,2,0),"") | CQ16: =IFERROR(VLOOKUP(BM16,'22__mapping'!$A:$B,2,0),"") | CR16: =IFERROR(VLOOKUP(BO16,'23__mapping'!$A:$B,2,0),"") | CS16: =IFERROR(VLOOKUP(BQ16,'24__mapping'!$A:$B,2,0),"")
A17: Create | BU17: =IFERROR(VLOOKUP(A17,'0__mapping'!$A:$B,2,0),"") -> CREATE | BV17: =IFERROR(VLOOKUP(C17,'1__mapping'!$A:$B,2,0),"") | BW17: =INDEX('2__mapping'!B2:'2__mapping'!B49,MATCH(BV17&D17, INDEX('2__mapping'!C2:C49&'2__mapping'!A2:A49,),0)) -> #N/A | BX17: =IFERROR(VLOOKUP(E17,'3__mapping'!$A:$B,2,0),"") | BY17: =IFERROR(VLOOKUP(F17,'4__mapping'!$A:$B,2,0),"") | BZ17: =IFERROR(VLOOKUP(H17,'5__mapping'!$A:$B,2,0),"") | CA17: =IFERROR(VLOOKUP(K17,'6__mapping'!$A:$B,2,0),"") | CB17: =IFERROR(VLOOKUP(N17,'7__mapping'!$A:$B,2,0),"") | CC17: =IFERROR(VLOOKUP(AB17,'8__mapping'!$A:$B,2,0),"") | CD17: =IFERROR(VLOOKUP(AD17,'9__mapping'!$A:$B,2,0),"") | CE17: =IFERROR(VLOOKUP(AG17,'10__mapping'!$A:$B,2,0),"") | CF17: =IFERROR(VLOOKUP(AL17,'11__mapping'!$A:$B,2,0),"") | CG17: =IFERROR(VLOOKUP(AR17,'12__mapping'!$A:$B,2,0),"") | CH17: =IFERROR(VLOOKUP(AU17,'13__mapping'!$A:$B,2,0),"") | CI17: =IFERROR(VLOOKUP(AW17,'14__mapping'!$A:$B,2,0),"") | CJ17: =IFERROR(VLOOKUP(AY17,'15__mapping'!$A:$B,2,0),"") | CK17: =IFERROR(VLOOKUP(BA17,'16__mapping'!$A:$B,2,0),"") | CL17: =IFERROR(VLOOKUP(BC17,'17__mapping'!$A:$B,2,0),"") | CM17: =IFERROR(VLOOKUP(BE17,'18__mapping'!$A:$B,2,0),"") | CN17: =IFERROR(VLOOKUP(BG17,'19__mapping'!$A:$B,2,0),"") | CO17: =IFERROR(VLOOKUP(BI17,'20__mapping'!$A:$B,2,0),"") | CP17: =IFERROR(VLOOKUP(BK17,'21__mapping'!$A:$B,2,0),"") | CQ17: =IFERROR(VLOOKUP(BM17,'22__mapping'!$A:$B,2,0),"") | CR17: =IFERROR(VLOOKUP(BO17,'23__mapping'!$A:$B,2,0),"") | CS17: =IFERROR(VLOOKUP(BQ17,'24__mapping'!$A:$B,2,0),"")
A18: Create | BU18: =IFERROR(VLOOKUP(A18,'0__mapping'!$A:$B,2,0),"") -> CREATE | BV18: =IFERROR(VLOOKUP(C18,'1__mapping'!$A:$B,2,0),"") | BW18: =INDEX('2__mapping'!B2:'2__mapping'!B49,MATCH(BV18&D18, INDEX('2__mapping'!C2:C49&'2__mapping'!A2:A49,),0)) -> #N/A | BX18: =IFERROR(VLOOKUP(E18,'3__mapping'!$A:$B,2,0),"") | BY18: =IFERROR(VLOOKUP(F18,'4__mapping'!$A:$B,2,0),"") | BZ18: =IFERROR(VLOOKUP(H18,'5__mapping'!$A:$B,2,0),"") | CA18: =IFERROR(VLOOKUP(K18,'6__mapping'!$A:$B,2,0),"") | CB18: =IFERROR(VLOOKUP(N18,'7__mapping'!$A:$B,2,0),"") | CC18: =IFERROR(VLOOKUP(AB18,'8__mapping'!$A:$B,2,0),"") | CD18: =IFERROR(VLOOKUP(AD18,'9__mapping'!$A:$B,2,0),"") | CE18: =IFERROR(VLOOKUP(AG18,'10__mapping'!$A:$B,2,0),"") | CF18: =IFERROR(VLOOKUP(AL18,'11__mapping'!$A:$B,2,0),"") | CG18: =IFERROR(VLOOKUP(AR18,'12__mapping'!$A:$B,2,0),"") | CH18: =IFERROR(VLOOKUP(AU18,'13__mapping'!$A:$B,2,0),"") | CI18: =IFERROR(VLOOKUP(AW18,'14__mapping'!$A:$B,2,0),"") | CJ18: =IFERROR(VLOOKUP(AY18,'15__mapping'!$A:$B,2,0),"") | CK18: =IFERROR(VLOOKUP(BA18,'16__mapping'!$A:$B,2,0),"") | CL18: =IFERROR(VLOOKUP(BC18,'17__mapping'!$A:$B,2,0),"") | CM18: =IFERROR(VLOOKUP(BE18,'18__mapping'!$A:$B,2,0),"") | CN18: =IFERROR(VLOOKUP(BG18,'19__mapping'!$A:$B,2,0),"") | CO18: =IFERROR(VLOOKUP(BI18,'20__mapping'!$A:$B,2,0),"") | CP18: =IFERROR(VLOOKUP(BK18,'21__mapping'!$A:$B,2,0),"") | CQ18: =IFERROR(VLOOKUP(BM18,'22__mapping'!$A:$B,2,0),"") | CR18: =IFERROR(VLOOKUP(BO18,'23__mapping'!$A:$B,2,0),"") | CS18: =IFERROR(VLOOKUP(BQ18,'24__mapping'!$A:$B,2,0),"")
A19: Create | BU19: =IFERROR(VLOOKUP(A19,'0__mapping'!$A:$B,2,0),"") -> CREATE | BV19: =IFERROR(VLOOKUP(C19,'1__mapping'!$A:$B,2,0),"") | BW19: =INDEX('2__mapping'!B2:'2__mapping'!B49,MATCH(BV19&D19, INDEX('2__mapping'!C2:C49&'2__mapping'!A2:A49,),0)) -> #N/A | BX19: =IFERROR(VLOOKUP(E19,'3__mapping'!$A:$B,2,0),"") | BY19: =IFERROR(VLOOKUP(F19,'4__mapping'!$A:$B,2,0),"") | BZ19: =IFERROR(VLOOKUP(H19,'5__mapping'!$A:$B,2,0),"") | CA19: =IFERROR(VLOOKUP(K19,'6__mapping'!$A:$B,2,0),"") | CB19: =IFERROR(VLOOKUP(N19,'7__mapping'!$A:$B,2,0),"") | CC19: =IFERROR(VLOOKUP(AB19,'8__mapping'!$A:$B,2,0),"") | CD19: =IFERROR(VLOOKUP(AD19,'9__mapping'!$A:$B,2,0),"") | CE19: =IFERROR(VLOOKUP(AG19,'10__mapping'!$A:$B,2,0),"") | CF19: =IFERROR(VLOOKUP(AL19,'11__mapping'!$A:$B,2,0),"") | CG19: =IFERROR(VLOOKUP(AR19,'12__mapping'!$A:$B,2,0),"") | CH19: =IFERROR(VLOOKUP(AU19,'13__mapping'!$A:$B,2,0),"") | CI19: =IFERROR(VLOOKUP(AW19,'14__mapping'!$A:$B,2,0),"") | CJ19: =IFERROR(VLOOKUP(AY19,'15__mapping'!$A:$B,2,0),"") | CK19: =IFERROR(VLOOKUP(BA19,'16__mapping'!$A:$B,2,0),"") | CL19: =IFERROR(VLOOKUP(BC19,'17__mapping'!$A:$B,2,0),"") | CM19: =IFERROR(VLOOKUP(BE19,'18__mapping'!$A:$B,2,0),"") | CN19: =IFERROR(VLOOKUP(BG19,'19__mapping'!$A:$B,2,0),"") | CO19: =IFERROR(VLOOKUP(BI19,'20__mapping'!$A:$B,2,0),"") | CP19: =IFERROR(VLOOKUP(BK19,'21__mapping'!$A:$B,2,0),"") | CQ19: =IFERROR(VLOOKUP(BM19,'22__mapping'!$A:$B,2,0),"") | CR19: =IFERROR(VLOOKUP(BO19,'23__mapping'!$A:$B,2,0),"") | CS19: =IFERROR(VLOOKUP(BQ19,'24__mapping'!$A:$B,2,0),"")
A20: Create | BU20: =IFERROR(VLOOKUP(A20,'0__mapping'!$A:$B,2,0),"") -> CREATE | BV20: =IFERROR(VLOOKUP(C20,'1__mapping'!$A:$B,2,0),"") | BW20: =INDEX('2__mapping'!B2:'2__mapping'!B49,MATCH(BV20&D20, INDEX('2__mapping'!C2:C49&'2__mapping'!A2:A49,),0)) -> #N/A | BX20: =IFERROR(VLOOKUP(E20,'3__mapping'!$A:$B,2,0),"") | BY20: =IFERROR(VLOOKUP(F20,'4__mapping'!$A:$B,2,0),"") | BZ20: =IFERROR(VLOOKUP(H20,'5__mapping'!$A:$B,2,0),"") | CA20: =IFERROR(VLOOKUP(K20,'6__mapping'!$A:$B,2,0),"") | CB20: =IFERROR(VLOOKUP(N20,'7__mapping'!$A:$B,2,0),"") | CC20: =IFERROR(VLOOKUP(AB20,'8__mapping'!$A:$B,2,0),"") | CD20: =IFERROR(VLOOKUP(AD20,'9__mapping'!$A:$B,2,0),"") | CE20: =IFERROR(VLOOKUP(AG20,'10__mapping'!$A:$B,2,0),"") | CF20: =IFERROR(VLOOKUP(AL20,'11__mapping'!$A:$B,2,0),"") | CG20: =IFERROR(VLOOKUP(AR20,'12__mapping'!$A:$B,2,0),"") | CH20: =IFERROR(VLOOKUP(AU20,'13__mapping'!$A:$B,2,0),"") | CI20: =IFERROR(VLOOKUP(AW20,'14__mapping'!$A:$B,2,0),"") | CJ20: =IFERROR(VLOOKUP(AY20,'15__mapping'!$A:$B,2,0),"") | CK20: =IFERROR(VLOOKUP(BA20,'16__mapping'!$A:$B,2,0),"") | CL20: =IFERROR(VLOOKUP(BC20,'17__mapping'!$A:$B,2,0),"") | CM20: =IFERROR(VLOOKUP(BE20,'18__mapping'!$A:$B,2,0),"") | CN20: =IFERROR(VLOOKUP(BG20,'19__mapping'!$A:$B,2,0),"") | CO20: =IFERROR(VLOOKUP(BI20,'20__mapping'!$A:$B,2,0),"") | CP20: =IFERROR(VLOOKUP(BK20,'21__mapping'!$A:$B,2,0),"") | CQ20: =IFERROR(VLOOKUP(BM20,'22__mapping'!$A:$B,2,0),"") | CR20: =IFERROR(VLOOKUP(BO20,'23__mapping'!$A:$B,2,0),"") | CS20: =IFERROR(VLOOKUP(BQ20,'24__mapping'!$A:$B,2,0),"")
A21: Create | BU21: =IFERROR(VLOOKUP(A21,'0__mapping'!$A:$B,2,0),"") -> CREATE | BV21: =IFERROR(VLOOKUP(C21,'1__mapping'!$A:$B,2,0),"") | BW21: =INDEX('2__mapping'!B2:'2__mapping'!B49,MATCH(BV21&D21, INDEX('2__mapping'!C2:C49&'2__mapping'!A2:A49,),0)) -> #N/A | BX21: =IFERROR(VLOOKUP(E21,'3__mapping'!$A:$B,2,0),"") | BY21: =IFERROR(VLOOKUP(F21,'4__mapping'!$A:$B,2,0),"") | BZ21: =IFERROR(VLOOKUP(H21,'5__mapping'!$A:$B,2,0),"") | CA21: =IFERROR(VLOOKUP(K21,'6__mapping'!$A:$B,2,0),"") | CB21: =IFERROR(VLOOKUP(N21,'7__mapping'!$A:$B,2,0),"") | CC21: =IFERROR(VLOOKUP(AB21,'8__mapping'!$A:$B,2,0),"") | CD21: =IFERROR(VLOOKUP(AD21,'9__mapping'!$A:$B,2,0),"") | CE21: =IFERROR(VLOOKUP(AG21,'10__mapping'!$A:$B,2,0),"") | CF21: =IFERROR(VLOOKUP(AL21,'11__mapping'!$A:$B,2,0),"") | CG21: =IFERROR(VLOOKUP(AR21,'12__mapping'!$A:$B,2,0),"") | CH21: =IFERROR(VLOOKUP(AU21,'13__mapping'!$A:$B,2,0),"") | CI21: =IFERROR(VLOOKUP(AW21,'14__mapping'!$A:$B,2,0),"") | CJ21: =IFERROR(VLOOKUP(AY21,'15__mapping'!$A:$B,2,0),"") | CK21: =IFERROR(VLOOKUP(BA21,'16__mapping'!$A:$B,2,0),"") | CL21: =IFERROR(VLOOKUP(BC21,'17__mapping'!$A:$B,2,0),"") | CM21: =IFERROR(VLOOKUP(BE21,'18__mapping'!$A:$B,2,0),"") | CN21: =IFERROR(VLOOKUP(BG21,'19__mapping'!$A:$B,2,0),"") | CO21: =IFERROR(VLOOKUP(BI21,'20__mapping'!$A:$B,2,0),"") | CP21: =IFERROR(VLOOKUP(BK21,'21__mapping'!$A:$B,2,0),"") | CQ21: =IFERROR(VLOOKUP(BM21,'22__mapping'!$A:$B,2,0),"") | CR21: =IFERROR(VLOOKUP(BO21,'23__mapping'!$A:$B,2,0),"") | CS21: =IFERROR(VLOOKUP(BQ21,'24__mapping'!$A:$B,2,0),"")
A22: Create | BU22: =IFERROR(VLOOKUP(A22,'0__mapping'!$A:$B,2,0),"") -> CREATE | BV22: =IFERROR(VLOOKUP(C22,'1__mapping'!$A:$B,2,0),"") | BW22: =INDEX('2__mapping'!B2:'2__mapping'!B49,MATCH(BV22&D22, INDEX('2__mapping'!C2:C49&'2__mapping'!A2:A49,),0)) -> #N/A | BX22: =IFERROR(VLOOKUP(E22,'3__mapping'!$A:$B,2,0),"") | BY22: =IFERROR(VLOOKUP(F22,'4__mapping'!$A:$B,2,0),"") | BZ22: =IFERROR(VLOOKUP(H22,'5__mapping'!$A:$B,2,0),"") | CA22: =IFERROR(VLOOKUP(K22,'6__mapping'!$A:$B,2,0),"") | CB22: =IFERROR(VLOOKUP(N22,'7__mapping'!$A:$B,2,0),"") | CC22: =IFERROR(VLOOKUP(AB22,'8__mapping'!$A:$B,2,0),"") | CD22: =IFERROR(VLOOKUP(AD22,'9__mapping'!$A:$B,2,0),"") | CE22: =IFERROR(VLOOKUP(AG22,'10__mapping'!$A:$B,2,0),"") | CF22: =IFERROR(VLOOKUP(AL22,'11__mapping'!$A:$B,2,0),"") | CG22: =IFERROR(VLOOKUP(AR22,'12__mapping'!$A:$B,2,0),"") | CH22: =IFERROR(VLOOKUP(AU22,'13__mapping'!$A:$B,2,0),"") | CI22: =IFERROR(VLOOKUP(AW22,'14__mapping'!$A:$B,2,0),"") | CJ22: =IFERROR(VLOOKUP(AY22,'15__mapping'!$A:$B,2,0),"") | CK22: =IFERROR(VLOOKUP(BA22,'16__mapping'!$A:$B,2,0),"") | CL22: =IFERROR(VLOOKUP(BC22,'17__mapping'!$A:$B,2,0),"") | CM22: =IFERROR(VLOOKUP(BE22,'18__mapping'!$A:$B,2,0),"") | CN22: =IFERROR(VLOOKUP(BG22,'19__mapping'!$A:$B,2,0),"") | CO22: =IFERROR(VLOOKUP(BI22,'20__mapping'!$A:$B,2,0),"") | CP22: =IFERROR(VLOOKUP(BK22,'21__mapping'!$A:$B,2,0),"") | CQ22: =IFERROR(VLOOKUP(BM22,'22__mapping'!$A:$B,2,0),"") | CR22: =IFERROR(VLOOKUP(BO22,'23__mapping'!$A:$B,2,0),"") | CS22: =IFERROR(VLOOKUP(BQ22,'24__mapping'!$A:$B,2,0),"")
A23: Create | BU23: =IFERROR(VLOOKUP(A23,'0__mapping'!$A:$B,2,0),"") -> CREATE | BV23: =IFERROR(VLOOKUP(C23,'1__mapping'!$A:$B,2,0),"") | BW23: =INDEX('2__mapping'!B2:'2__mapping'!B49,MATCH(BV23&D23, INDEX('2__mapping'!C2:C49&'2__mapping'!A2:A49,),0)) -> #N/A | BX23: =IFERROR(VLOOKUP(E23,'3__mapping'!$A:$B,2,0),"") | BY23: =IFERROR(VLOOKUP(F23,'4__mapping'!$A:$B,2,0),"") | BZ23: =IFERROR(VLOOKUP(H23,'5__mapping'!$A:$B,2,0),"") | CA23: =IFERROR(VLOOKUP(K23,'6__mapping'!$A:$B,2,0),"") | CB23: =IFERROR(VLOOKUP(N23,'7__mapping'!$A:$B,2,0),"") | CC23: =IFERROR(VLOOKUP(AB23,'8__mapping'!$A:$B,2,0),"") | CD23: =IFERROR(VLOOKUP(AD23,'9__mapping'!$A:$B,2,0),"") | CE23: =IFERROR(VLOOKUP(AG23,'10__mapping'!$A:$B,2,0),"") | CF23: =IFERROR(VLOOKUP(AL23,'11__mapping'!$A:$B,2,0),"") | CG23: =IFERROR(VLOOKUP(AR23,'12__mapping'!$A:$B,2,0),"") | CH23: =IFERROR(VLOOKUP(AU23,'13__mapping'!$A:$B,2,0),"") | CI23: =IFERROR(VLOOKUP(AW23,'14__mapping'!$A:$B,2,0),"") | CJ23: =IFERROR(VLOOKUP(AY23,'15__mapping'!$A:$B,2,0),"") | CK23: =IFERROR(VLOOKUP(BA23,'16__mapping'!$A:$B,2,0),"") | CL23: =IFERROR(VLOOKUP(BC23,'17__mapping'!$A:$B,2,0),"") | CM23: =IFERROR(VLOOKUP(BE23,'18__mapping'!$A:$B,2,0),"") | CN23: =IFERROR(VLOOKUP(BG23,'19__mapping'!$A:$B,2,0),"") | CO23: =IFERROR(VLOOKUP(BI23,'20__mapping'!$A:$B,2,0),"") | CP23: =IFERROR(VLOOKUP(BK23,'21__mapping'!$A:$B,2,0),"") | CQ23: =IFERROR(VLOOKUP(BM23,'22__mapping'!$A:$B,2,0),"") | CR23: =IFERROR(VLOOKUP(BO23,'23__mapping'!$A:$B,2,0),"") | CS23: =IFERROR(VLOOKUP(BQ23,'24__mapping'!$A:$B,2,0),"")
A24: Create | BU24: =IFERROR(VLOOKUP(A24,'0__mapping'!$A:$B,2,0),"") -> CREATE | BV24: =IFERROR(VLOOKUP(C24,'1__mapping'!$A:$B,2,0),"") | BW24: =INDEX('2__mapping'!B2:'2__mapping'!B49,MATCH(BV24&D24, INDEX('2__mapping'!C2:C49&'2__mapping'!A2:A49,),0)) -> #N/A | BX24: =IFERROR(VLOOKUP(E24,'3__mapping'!$A:$B,2,0),"") | BY24: =IFERROR(VLOOKUP(F24,'4__mapping'!$A:$B,2,0),"") | BZ24: =IFERROR(VLOOKUP(H24,'5__mapping'!$A:$B,2,0),"") | CA24: =IFERROR(VLOOKUP(K24,'6__mapping'!$A:$B,2,0),"") | CB24: =IFERROR(VLOOKUP(N24,'7__mapping'!$A:$B,2,0),"") | CC24: =IFERROR(VLOOKUP(AB24,'8__mapping'!$A:$B,2,0),"") | CD24: =IFERROR(VLOOKUP(AD24,'9__mapping'!$A:$B,2,0),"") | CE24: =IFERROR(VLOOKUP(AG24,'10__mapping'!$A:$B,2,0),"") | CF24: =IFERROR(VLOOKUP(AL24,'11__mapping'!$A:$B,2,0),"") | CG24: =IFERROR(VLOOKUP(AR24,'12__mapping'!$A:$B,2,0),"") | CH24: =IFERROR(VLOOKUP(AU24,'13__mapping'!$A:$B,2,0),"") | CI24: =IFERROR(VLOOKUP(AW24,'14__mapping'!$A:$B,2,0),"") | CJ24: =IFERROR(VLOOKUP(AY24,'15__mapping'!$A:$B,2,0),"") | CK24: =IFERROR(VLOOKUP(BA24,'16__mapping'!$A:$B,2,0),"") | CL24: =IFERROR(VLOOKUP(BC24,'17__mapping'!$A:$B,2,0),"") | CM24: =IFERROR(VLOOKUP(BE24,'18__mapping'!$A:$B,2,0),"") | CN24: =IFERROR(VLOOKUP(BG24,'19__mapping'!$A:$B,2,0),"") | CO24: =IFERROR(VLOOKUP(BI24,'20__mapping'!$A:$B,2,0),"") | CP24: =IFERROR(VLOOKUP(BK24,'21__mapping'!$A:$B,2,0),"") | CQ24: =IFERROR(VLOOKUP(BM24,'22__mapping'!$A:$B,2,0),"") | CR24: =IFERROR(VLOOKUP(BO24,'23__mapping'!$A:$B,2,0),"") | CS24: =IFERROR(VLOOKUP(BQ24,'24__mapping'!$A:$B,2,0),"")
A25: Create | BU25: =IFERROR(VLOOKUP(A25,'0__mapping'!$A:$B,2,0),"") -> CREATE | BV25: =IFERROR(VLOOKUP(C25,'1__mapping'!$A:$B,2,0),"") | BW25: =INDEX('2__mapping'!B2:'2__mapping'!B49,MATCH(BV25&D25, INDEX('2__mapping'!C2:C49&'2__mapping'!A2:A49,),0)) -> #N/A | BX25: =IFERROR(VLOOKUP(E25,'3__mapping'!$A:$B,2,0),"") | BY25: =IFERROR(VLOOKUP(F25,'4__mapping'!$A:$B,2,0),"") | BZ25: =IFERROR(VLOOKUP(H25,'5__mapping'!$A:$B,2,0),"") | CA25: =IFERROR(VLOOKUP(K25,'6__mapping'!$A:$B,2,0),"") | CB25: =IFERROR(VLOOKUP(N25,'7__mapping'!$A:$B,2,0),"") | CC25: =IFERROR(VLOOKUP(AB25,'8__mapping'!$A:$B,2,0),"") | CD25: =IFERROR(VLOOKUP(AD25,'9__mapping'!$A:$B,2,0),"") | CE25: =IFERROR(VLOOKUP(AG25,'10__mapping'!$A:$B,2,0),"") | CF25: =IFERROR(VLOOKUP(AL25,'11__mapping'!$A:$B,2,0),"") | CG25: =IFERROR(VLOOKUP(AR25,'12__mapping'!$A:$B,2,0),"") | CH25: =IFERROR(VLOOKUP(AU25,'13__mapping'!$A:$B,2,0),"") | CI25: =IFERROR(VLOOKUP(AW25,'14__mapping'!$A:$B,2,0),"") | CJ25: =IFERROR(VLOOKUP(AY25,'15__mapping'!$A:$B,2,0),"") | CK25: =IFERROR(VLOOKUP(BA25,'16__mapping'!$A:$B,2,0),"") | CL25: =IFERROR(VLOOKUP(BC25,'17__mapping'!$A:$B,2,0),"") | CM25: =IFERROR(VLOOKUP(BE25,'18__mapping'!$A:$B,2,0),"") | CN25: =IFERROR(VLOOKUP(BG25,'19__mapping'!$A:$B,2,0),"") | CO25: =IFERROR(VLOOKUP(BI25,'20__mapping'!$A:$B,2,0),"") | CP25: =IFERROR(VLOOKUP(BK25,'21__mapping'!$A:$B,2,0),"") | CQ25: =IFERROR(VLOOKUP(BM25,'22__mapping'!$A:$B,2,0),"") | CR25: =IFERROR(VLOOKUP(BO25,'23__mapping'!$A:$B,2,0),"") | CS25: =IFERROR(VLOOKUP(BQ25,'24__mapping'!$A:$B,2,0),"")
A26: Create | BU26: =IFERROR(VLOOKUP(A26,'0__mapping'!$A:$B,2,0),"") -> CREATE | BV26: =IFERROR(VLOOKUP(C26,'1__mapping'!$A:$B,2,0),"") | BW26: =INDEX('2__mapping'!B2:'2__mapping'!B49,MATCH(BV26&D26, INDEX('2__mapping'!C2:C49&'2__mapping'!A2:A49,),0)) -> #N/A | BX26: =IFERROR(VLOOKUP(E26,'3__mapping'!$A:$B,2,0),"") | BY26: =IFERROR(VLOOKUP(F26,'4__mapping'!$A:$B,2,0),"") | BZ26: =IFERROR(VLOOKUP(H26,'5__mapping'!$A:$B,2,0),"") | CA26: =IFERROR(VLOOKUP(K26,'6__mapping'!$A:$B,2,0),"") | CB26: =IFERROR(VLOOKUP(N26,'7__mapping'!$A:$B,2,0),"") | CC26: =IFERROR(VLOOKUP(AB26,'8__mapping'!$A:$B,2,0),"") | CD26: =IFERROR(VLOOKUP(AD26,'9__mapping'!$A:$B,2,0),"") | CE26: =IFERROR(VLOOKUP(AG26,'10__mapping'!$A:$B,2,0),"") | CF26: =IFERROR(VLOOKUP(AL26,'11__mapping'!$A:$B,2,0),"") | CG26: =IFERROR(VLOOKUP(AR26,'12__mapping'!$A:$B,2,0),"") | CH26: =IFERROR(VLOOKUP(AU26,'13__mapping'!$A:$B,2,0),"") | CI26: =IFERROR(VLOOKUP(AW26,'14__mapping'!$A:$B,2,0),"") | CJ26: =IFERROR(VLOOKUP(AY26,'15__mapping'!$A:$B,2,0),"") | CK26: =IFERROR(VLOOKUP(BA26,'16__mapping'!$A:$B,2,0),"") | CL26: =IFERROR(VLOOKUP(BC26,'17__mapping'!$A:$B,2,0),"") | CM26: =IFERROR(VLOOKUP(BE26,'18__mapping'!$A:$B,2,0),"") | CN26: =IFERROR(VLOOKUP(BG26,'19__mapping'!$A:$B,2,0),"") | CO26: =IFERROR(VLOOKUP(BI26,'20__mapping'!$A:$B,2,0),"") | CP26: =IFERROR(VLOOKUP(BK26,'21__mapping'!$A:$B,2,0),"") | CQ26: =IFERROR(VLOOKUP(BM26,'22__mapping'!$A:$B,2,0),"") | CR26: =IFERROR(VLOOKUP(BO26,'23__mapping'!$A:$B,2,0),"") | CS26: =IFERROR(VLOOKUP(BQ26,'24__mapping'!$A:$B,2,0),"")
A27: Create | BU27: =IFERROR(VLOOKUP(A27,'0__mapping'!$A:$B,2,0),"") -> CREATE | BV27: =IFERROR(VLOOKUP(C27,'1__mapping'!$A:$B,2,0),"") | BW27: =INDEX('2__mapping'!B2:'2__mapping'!B49,MATCH(BV27&D27, INDEX('2__mapping'!C2:C49&'2__mapping'!A2:A49,),0)) -> #N/A | BX27: =IFERROR(VLOOKUP(E27,'3__mapping'!$A:$B,2,0),"") | BY27: =IFERROR(VLOOKUP(F27,'4__mapping'!$A:$B,2,0),"") | BZ27: =IFERROR(VLOOKUP(H27,'5__mapping'!$A:$B,2,0),"") | CA27: =IFERROR(VLOOKUP(K27,'6__mapping'!$A:$B,2,0),"") | CB27: =IFERROR(VLOOKUP(N27,'7__mapping'!$A:$B,2,0),"") | CC27: =IFERROR(VLOOKUP(AB27,'8__mapping'!$A:$B,2,0),"") | CD27: =IFERROR(VLOOKUP(AD27,'9__mapping'!$A:$B,2,0),"") | CE27: =IFERROR(VLOOKUP(AG27,'10__mapping'!$A:$B,2,0),"") | CF27: =IFERROR(VLOOKUP(AL27,'11__mapping'!$A:$B,2,0),"") | CG27: =IFERROR(VLOOKUP(AR27,'12__mapping'!$A:$B,2,0),"") | CH27: =IFERROR(VLOOKUP(AU27,'13__mapping'!$A:$B,2,0),"") | CI27: =IFERROR(VLOOKUP(AW27,'14__mapping'!$A:$B,2,0),"") | CJ27: =IFERROR(VLOOKUP(AY27,'15__mapping'!$A:$B,2,0),"") | CK27: =IFERROR(VLOOKUP(BA27,'16__mapping'!$A:$B,2,0),"") | CL27: =IFERROR(VLOOKUP(BC27,'17__mapping'!$A:$B,2,0),"") | CM27: =IFERROR(VLOOKUP(BE27,'18__mapping'!$A:$B,2,0),"") | CN27: =IFERROR(VLOOKUP(BG27,'19__mapping'!$A:$B,2,0),"") | CO27: =IFERROR(VLOOKUP(BI27,'20__mapping'!$A:$B,2,0),"") | CP27: =IFERROR(VLOOKUP(BK27,'21__mapping'!$A:$B,2,0),"") | CQ27: =IFERROR(VLOOKUP(BM27,'22__mapping'!$A:$B,2,0),"") | CR27: =IFERROR(VLOOKUP(BO27,'23__mapping'!$A:$B,2,0),"") | CS27: =IFERROR(VLOOKUP(BQ27,'24__mapping'!$A:$B,2,0),"")
A28: Create | BU28: =IFERROR(VLOOKUP(A28,'0__mapping'!$A:$B,2,0),"") -> CREATE | BV28: =IFERROR(VLOOKUP(C28,'1__mapping'!$A:$B,2,0),"") | BW28: =INDEX('2__mapping'!B2:'2__mapping'!B49,MATCH(BV28&D28, INDEX('2__mapping'!C2:C49&'2__mapping'!A2:A49,),0)) -> #N/A | BX28: =IFERROR(VLOOKUP(E28,'3__mapping'!$A:$B,2,0),"") | BY28: =IFERROR(VLOOKUP(F28,'4__mapping'!$A:$B,2,0),"") | BZ28: =IFERROR(VLOOKUP(H28,'5__mapping'!$A:$B,2,0),"") | CA28: =IFERROR(VLOOKUP(K28,'6__mapping'!$A:$B,2,0),"") | CB28: =IFERROR(VLOOKUP(N28,'7__mapping'!$A:$B,2,0),"") | CC28: =IFERROR(VLOOKUP(AB28,'8__mapping'!$A:$B,2,0),"") | CD28: =IFERROR(VLOOKUP(AD28,'9__mapping'!$A:$B,2,0),"") | CE28: =IFERROR(VLOOKUP(AG28,'10__mapping'!$A:$B,2,0),"") | CF28: =IFERROR(VLOOKUP(AL28,'11__mapping'!$A:$B,2,0),"") | CG28: =IFERROR(VLOOKUP(AR28,'12__mapping'!$A:$B,2,0),"") | CH28: =IFERROR(VLOOKUP(AU28,'13__mapping'!$A:$B,2,0),"") | CI28: =IFERROR(VLOOKUP(AW28,'14__mapping'!$A:$B,2,0),"") | CJ28: =IFERROR(VLOOKUP(AY28,'15__mapping'!$A:$B,2,0),"") | CK28: =IFERROR(VLOOKUP(BA28,'16__mapping'!$A:$B,2,0),"") | CL28: =IFERROR(VLOOKUP(BC28,'17__mapping'!$A:$B,2,0),"") | CM28: =IFERROR(VLOOKUP(BE28,'18__mapping'!$A:$B,2,0),"") | CN28: =IFERROR(VLOOKUP(BG28,'19__mapping'!$A:$B,2,0),"") | CO28: =IFERROR(VLOOKUP(BI28,'20__mapping'!$A:$B,2,0),"") | CP28: =IFERROR(VLOOKUP(BK28,'21__mapping'!$A:$B,2,0),"") | CQ28: =IFERROR(VLOOKUP(BM28,'22__mapping'!$A:$B,2,0),"") | CR28: =IFERROR(VLOOKUP(BO28,'23__mapping'!$A:$B,2,0),"") | CS28: =IFERROR(VLOOKUP(BQ28,'24__mapping'!$A:$B,2,0),"")
A29: Create | BU29: =IFERROR(VLOOKUP(A29,'0__mapping'!$A:$B,2,0),"") -> CREATE | BV29: =IFERROR(VLOOKUP(C29,'1__mapping'!$A:$B,2,0),"") | BW29: =INDEX('2__mapping'!B2:'2__mapping'!B49,MATCH(BV29&D29, INDEX('2__mapping'!C2:C49&'2__mapping'!A2:A49,),0)) -> #N/A | BX29: =IFERROR(VLOOKUP(E29,'3__mapping'!$A:$B,2,0),"") | BY29: =IFERROR(VLOOKUP(F29,'4__mapping'!$A:$B,2,0),"") | BZ29: =IFERROR(VLOOKUP(H29,'5__mapping'!$A:$B,2,0),"") | CA29: =IFERROR(VLOOKUP(K29,'6__mapping'!$A:$B,2,0),"") | CB29: =IFERROR(VLOOKUP(N29,'7__mapping'!$A:$B,2,0),"") | CC29: =IFERROR(VLOOKUP(AB29,'8__mapping'!$A:$B,2,0),"") | CD29: =IFERROR(VLOOKUP(AD29,'9__mapping'!$A:$B,2,0),"") | CE29: =IFERROR(VLOOKUP(AG29,'10__mapping'!$A:$B,2,0),"") | CF29: =IFERROR(VLOOKUP(AL29,'11__mapping'!$A:$B,2,0),"") | CG29: =IFERROR(VLOOKUP(AR29,'12__mapping'!$A:$B,2,0),"") | CH29: =IFERROR(VLOOKUP(AU29,'13__mapping'!$A:$B,2,0),"") | CI29: =IFERROR(VLOOKUP(AW29,'14__mapping'!$A:$B,2,0),"") | CJ29: =IFERROR(VLOOKUP(AY29,'15__mapping'!$A:$B,2,0),"") | CK29: =IFERROR(VLOOKUP(BA29,'16__mapping'!$A:$B,2,0),"") | CL29: =IFERROR(VLOOKUP(BC29,'17__mapping'!$A:$B,2,0),"") | CM29: =IFERROR(VLOOKUP(BE29,'18__mapping'!$A:$B,2,0),"") | CN29: =IFERROR(VLOOKUP(BG29,'19__mapping'!$A:$B,2,0),"") | CO29: =IFERROR(VLOOKUP(BI29,'20__mapping'!$A:$B,2,0),"") | CP29: =IFERROR(VLOOKUP(BK29,'21__mapping'!$A:$B,2,0),"") | CQ29: =IFERROR(VLOOKUP(BM29,'22__mapping'!$A:$B,2,0),"") | CR29: =IFERROR(VLOOKUP(BO29,'23__mapping'!$A:$B,2,0),"") | CS29: =IFERROR(VLOOKUP(BQ29,'24__mapping'!$A:$B,2,0),"")
A30: Create | BU30: =IFERROR(VLOOKUP(A30,'0__mapping'!$A:$B,2,0),"") -> CREATE | BV30: =IFERROR(VLOOKUP(C30,'1__mapping'!$A:$B,2,0),"") | BW30: =INDEX('2__mapping'!B2:'2__mapping'!B49,MATCH(BV30&D30, INDEX('2__mapping'!C2:C49&'2__mapping'!A2:A49,),0)) -> #N/A | BX30: =IFERROR(VLOOKUP(E30,'3__mapping'!$A:$B,2,0),"") | BY30: =IFERROR(VLOOKUP(F30,'4__mapping'!$A:$B,2,0),"") | BZ30: =IFERROR(VLOOKUP(H30,'5__mapping'!$A:$B,2,0),"") | CA30: =IFERROR(VLOOKUP(K30,'6__mapping'!$A:$B,2,0),"") | CB30: =IFERROR(VLOOKUP(N30,'7__mapping'!$A:$B,2,0),"") | CC30: =IFERROR(VLOOKUP(AB30,'8__mapping'!$A:$B,2,0),"") | CD30: =IFERROR(VLOOKUP(AD30,'9__mapping'!$A:$B,2,0),"") | CE30: =IFERROR(VLOOKUP(AG30,'10__mapping'!$A:$B,2,0),"") | CF30: =IFERROR(VLOOKUP(AL30,'11__mapping'!$A:$B,2,0),"") | CG30: =IFERROR(VLOOKUP(AR30,'12__mapping'!$A:$B,2,0),"") | CH30: =IFERROR(VLOOKUP(AU30,'13__mapping'!$A:$B,2,0),"") | CI30: =IFERROR(VLOOKUP(AW30,'14__mapping'!$A:$B,2,0),"") | CJ30: =IFERROR(VLOOKUP(AY30,'15__mapping'!$A:$B,2,0),"") | CK30: =IFERROR(VLOOKUP(BA30,'16__mapping'!$A:$B,2,0),"") | CL30: =IFERROR(VLOOKUP(BC30,'17__mapping'!$A:$B,2,0),"") | CM30: =IFERROR(VLOOKUP(BE30,'18__mapping'!$A:$B,2,0),"") | CN30: =IFERROR(VLOOKUP(BG30,'19__mapping'!$A:$B,2,0),"") | CO30: =IFERROR(VLOOKUP(BI30,'20__mapping'!$A:$B,2,0),"") | CP30: =IFERROR(VLOOKUP(BK30,'21__mapping'!$A:$B,2,0),"") | CQ30: =IFERROR(VLOOKUP(BM30,'22__mapping'!$A:$B,2,0),"") | CR30: =IFERROR(VLOOKUP(BO30,'23__mapping'!$A:$B,2,0),"") | CS30: =IFERROR(VLOOKUP(BQ30,'24__mapping'!$A:$B,2,0),"")
A31: Create | BU31: =IFERROR(VLOOKUP(A31,'0__mapping'!$A:$B,2,0),"") -> CREATE | BV31: =IFERROR(VLOOKUP(C31,'1__mapping'!$A:$B,2,0),"") | BW31: =INDEX('2__mapping'!B2:'2__mapping'!B49,MATCH(BV31&D31, INDEX('2__mapping'!C2:C49&'2__mapping'!A2:A49,),0)) -> #N/A | BX31: =IFERROR(VLOOKUP(E31,'3__mapping'!$A:$B,2,0),"") | BY31: =IFERROR(VLOOKUP(F31,'4__mapping'!$A:$B,2,0),"") | BZ31: =IFERROR(VLOOKUP(H31,'5__mapping'!$A:$B,2,0),"") | CA31: =IFERROR(VLOOKUP(K31,'6__mapping'!$A:$B,2,0),"") | CB31: =IFERROR(VLOOKUP(N31,'7__mapping'!$A:$B,2,0),"") | CC31: =IFERROR(VLOOKUP(AB31,'8__mapping'!$A:$B,2,0),"") | CD31: =IFERROR(VLOOKUP(AD31,'9__mapping'!$A:$B,2,0),"") | CE31: =IFERROR(VLOOKUP(AG31,'10__mapping'!$A:$B,2,0),"") | CF31: =IFERROR(VLOOKUP(AL31,'11__mapping'!$A:$B,2,0),"") | CG31: =IFERROR(VLOOKUP(AR31,'12__mapping'!$A:$B,2,0),"") | CH31: =IFERROR(VLOOKUP(AU31,'13__mapping'!$A:$B,2,0),"") | CI31: =IFERROR(VLOOKUP(AW31,'14__mapping'!$A:$B,2,0),"") | CJ31: =IFERROR(VLOOKUP(AY31,'15__mapping'!$A:$B,2,0),"") | CK31: =IFERROR(VLOOKUP(BA31,'16__mapping'!$A:$B,2,0),"") | CL31: =IFERROR(VLOOKUP(BC31,'17__mapping'!$A:$B,2,0),"") | CM31: =IFERROR(VLOOKUP(BE31,'18__mapping'!$A:$B,2,0),"") | CN31: =IFERROR(VLOOKUP(BG31,'19__mapping'!$A:$B,2,0),"") | CO31: =IFERROR(VLOOKUP(BI31,'20__mapping'!$A:$B,2,0),"") | CP31: =IFERROR(VLOOKUP(BK31,'21__mapping'!$A:$B,2,0),"") | CQ31: =IFERROR(VLOOKUP(BM31,'22__mapping'!$A:$B,2,0),"") | CR31: =IFERROR(VLOOKUP(BO31,'23__mapping'!$A:$B,2,0),"") | CS31: =IFERROR(VLOOKUP(BQ31,'24__mapping'!$A:$B,2,0),"")
A32: Create | BU32: =IFERROR(VLOOKUP(A32,'0__mapping'!$A:$B,2,0),"") -> CREATE | BV32: =IFERROR(VLOOKUP(C32,'1__mapping'!$A:$B,2,0),"") | BW32: =INDEX('2__mapping'!B2:'2__mapping'!B49,MATCH(BV32&D32, INDEX('2__mapping'!C2:C49&'2__mapping'!A2:A49,),0)) -> #N/A | BX32: =IFERROR(VLOOKUP(E32,'3__mapping'!$A:$B,2,0),"") | BY32: =IFERROR(VLOOKUP(F32,'4__mapping'!$A:$B,2,0),"") | BZ32: =IFERROR(VLOOKUP(H32,'5__mapping'!$A:$B,2,0),"") | CA32: =IFERROR(VLOOKUP(K32,'6__mapping'!$A:$B,2,0),"") | CB32: =IFERROR(VLOOKUP(N32,'7__mapping'!$A:$B,2,0),"") | CC32: =IFERROR(VLOOKUP(AB32,'8__mapping'!$A:$B,2,0),"") | CD32: =IFERROR(VLOOKUP(AD32,'9__mapping'!$A:$B,2,0),"") | CE32: =IFERROR(VLOOKUP(AG32,'10__mapping'!$A:$B,2,0),"") | CF32: =IFERROR(VLOOKUP(AL32,'11__mapping'!$A:$B,2,0),"") | CG32: =IFERROR(VLOOKUP(AR32,'12__mapping'!$A:$B,2,0),"") | CH32: =IFERROR(VLOOKUP(AU32,'13__mapping'!$A:$B,2,0),"") | CI32: =IFERROR(VLOOKUP(AW32,'14__mapping'!$A:$B,2,0),"") | CJ32: =IFERROR(VLOOKUP(AY32,'15__mapping'!$A:$B,2,0),"") | CK32: =IFERROR(VLOOKUP(BA32,'16__mapping'!$A:$B,2,0),"") | CL32: =IFERROR(VLOOKUP(BC32,'17__mapping'!$A:$B,2,0),"") | CM32: =IFERROR(VLOOKUP(BE32,'18__mapping'!$A:$B,2,0),"") | CN32: =IFERROR(VLOOKUP(BG32,'19__mapping'!$A:$B,2,0),"") | CO32: =IFERROR(VLOOKUP(BI32,'20__mapping'!$A:$B,2,0),"") | CP32: =IFERROR(VLOOKUP(BK32,'21__mapping'!$A:$B,2,0),"") | CQ32: =IFERROR(VLOOKUP(BM32,'22__mapping'!$A:$B,2,0),"") | CR32: =IFERROR(VLOOKUP(BO32,'23__mapping'!$A:$B,2,0),"") | CS32: =IFERROR(VLOOKUP(BQ32,'24__mapping'!$A:$B,2,0),"")
A33: Create | BU33: =IFERROR(VLOOKUP(A33,'0__mapping'!$A:$B,2,0),"") -> CREATE | BV33: =IFERROR(VLOOKUP(C33,'1__mapping'!$A:$B,2,0),"") | BW33: =INDEX('2__mapping'!B2:'2__mapping'!B49,MATCH(BV33&D33, INDEX('2__mapping'!C2:C49&'2__mapping'!A2:A49,),0)) -> #N/A | BX33: =IFERROR(VLOOKUP(E33,'3__mapping'!$A:$B,2,0),"") | BY33: =IFERROR(VLOOKUP(F33,'4__mapping'!$A:$B,2,0),"") | BZ33: =IFERROR(VLOOKUP(H33,'5__mapping'!$A:$B,2,0),"") | CA33: =IFERROR(VLOOKUP(K33,'6__mapping'!$A:$B,2,0),"") | CB33: =IFERROR(VLOOKUP(N33,'7__mapping'!$A:$B,2,0),"") | CC33: =IFERROR(VLOOKUP(AB33,'8__mapping'!$A:$B,2,0),"") | CD33: =IFERROR(VLOOKUP(AD33,'9__mapping'!$A:$B,2,0),"") | CE33: =IFERROR(VLOOKUP(AG33,'10__mapping'!$A:$B,2,0),"") | CF33: =IFERROR(VLOOKUP(AL33,'11__mapping'!$A:$B,2,0),"") | CG33: =IFERROR(VLOOKUP(AR33,'12__mapping'!$A:$B,2,0),"") | CH33: =IFERROR(VLOOKUP(AU33,'13__mapping'!$A:$B,2,0),"") | CI33: =IFERROR(VLOOKUP(AW33,'14__mapping'!$A:$B,2,0),"") | CJ33: =IFERROR(VLOOKUP(AY33,'15__mapping'!$A:$B,2,0),"") | CK33: =IFERROR(VLOOKUP(BA33,'16__mapping'!$A:$B,2,0),"") | CL33: =IFERROR(VLOOKUP(BC33,'17__mapping'!$A:$B,2,0),"") | CM33: =IFERROR(VLOOKUP(BE33,'18__mapping'!$A:$B,2,0),"") | CN33: =IFERROR(VLOOKUP(BG33,'19__mapping'!$A:$B,2,0),"") | CO33: =IFERROR(VLOOKUP(BI33,'20__mapping'!$A:$B,2,0),"") | CP33: =IFERROR(VLOOKUP(BK33,'21__mapping'!$A:$B,2,0),"") | CQ33: =IFERROR(VLOOKUP(BM33,'22__mapping'!$A:$B,2,0),"") | CR33: =IFERROR(VLOOKUP(BO33,'23__mapping'!$A:$B,2,0),"") | CS33: =IFERROR(VLOOKUP(BQ33,'24__mapping'!$A:$B,2,0),"")
A34: Create | BU34: =IFERROR(VLOOKUP(A34,'0__mapping'!$A:$B,2,0),"") -> CREATE | BV34: =IFERROR(VLOOKUP(C34,'1__mapping'!$A:$B,2,0),"") | BW34: =INDEX('2__mapping'!B2:'2__mapping'!B49,MATCH(BV34&D34, INDEX('2__mapping'!C2:C49&'2__mapping'!A2:A49,),0)) -> #N/A | BX34: =IFERROR(VLOOKUP(E34,'3__mapping'!$A:$B,2,0),"") | BY34: =IFERROR(VLOOKUP(F34,'4__mapping'!$A:$B,2,0),"") | BZ34: =IFERROR(VLOOKUP(H34,'5__mapping'!$A:$B,2,0),"") | CA34: =IFERROR(VLOOKUP(K34,'6__mapping'!$A:$B,2,0),"") | CB34: =IFERROR(VLOOKUP(N34,'7__mapping'!$A:$B,2,0),"") | CC34: =IFERROR(VLOOKUP(AB34,'8__mapping'!$A:$B,2,0),"") | CD34: =IFERROR(VLOOKUP(AD34,'9__mapping'!$A:$B,2,0),"") | CE34: =IFERROR(VLOOKUP(AG34,'10__mapping'!$A:$B,2,0),"") | CF34: =IFERROR(VLOOKUP(AL34,'11__mapping'!$A:$B,2,0),"") | CG34: =IFERROR(VLOOKUP(AR34,'12__mapping'!$A:$B,2,0),"") | CH34: =IFERROR(VLOOKUP(AU34,'13__mapping'!$A:$B,2,0),"") | CI34: =IFERROR(VLOOKUP(AW34,'14__mapping'!$A:$B,2,0),"") | CJ34: =IFERROR(VLOOKUP(AY34,'15__mapping'!$A:$B,2,0),"") | CK34: =IFERROR(VLOOKUP(BA34,'16__mapping'!$A:$B,2,0),"") | CL34: =IFERROR(VLOOKUP(BC34,'17__mapping'!$A:$B,2,0),"") | CM34: =IFERROR(VLOOKUP(BE34,'18__mapping'!$A:$B,2,0),"") | CN34: =IFERROR(VLOOKUP(BG34,'19__mapping'!$A:$B,2,0),"") | CO34: =IFERROR(VLOOKUP(BI34,'20__mapping'!$A:$B,2,0),"") | CP34: =IFERROR(VLOOKUP(BK34,'21__mapping'!$A:$B,2,0),"") | CQ34: =IFERROR(VLOOKUP(BM34,'22__mapping'!$A:$B,2,0),"") | CR34: =IFERROR(VLOOKUP(BO34,'23__mapping'!$A:$B,2,0),"") | CS34: =IFERROR(VLOOKUP(BQ34,'24__mapping'!$A:$B,2,0),"")
A35: Create | BU35: =IFERROR(VLOOKUP(A35,'0__mapping'!$A:$B,2,0),"") -> CREATE | BV35: =IFERROR(VLOOKUP(C35,'1__mapping'!$A:$B,2,0),"") | BW35: =INDEX('2__mapping'!B2:'2__mapping'!B49,MATCH(BV35&D35, INDEX('2__mapping'!C2:C49&'2__mapping'!A2:A49,),0)) -> #N/A | BX35: =IFERROR(VLOOKUP(E35,'3__mapping'!$A:$B,2,0),"") | BY35: =IFERROR(VLOOKUP(F35,'4__mapping'!$A:$B,2,0),"") | BZ35: =IFERROR(VLOOKUP(H35,'5__mapping'!$A:$B,2,0),"") | CA35: =IFERROR(VLOOKUP(K35,'6__mapping'!$A:$B,2,0),"") | CB35: =IFERROR(VLOOKUP(N35,'7__mapping'!$A:$B,2,0),"") | CC35: =IFERROR(VLOOKUP(AB35,'8__mapping'!$A:$B,2,0),"") | CD35: =IFERROR(VLOOKUP(AD35,'9__mapping'!$A:$B,2,0),"") | CE35: =IFERROR(VLOOKUP(AG35,'10__mapping'!$A:$B,2,0),"") | CF35: =IFERROR(VLOOKUP(AL35,'11__mapping'!$A:$B,2,0),"") | CG35: =IFERROR(VLOOKUP(AR35,'12__mapping'!$A:$B,2,0),"") | CH35: =IFERROR(VLOOKUP(AU35,'13__mapping'!$A:$B,2,0),"") | CI35: =IFERROR(VLOOKUP(AW35,'14__mapping'!$A:$B,2,0),"") | CJ35: =IFERROR(VLOOKUP(AY35,'15__mapping'!$A:$B,2,0),"") | CK35: =IFERROR(VLOOKUP(BA35,'16__mapping'!$A:$B,2,0),"") | CL35: =IFERROR(VLOOKUP(BC35,'17__mapping'!$A:$B,2,0),"") | CM35: =IFERROR(VLOOKUP(BE35,'18__mapping'!$A:$B,2,0),"") | CN35: =IFERROR(VLOOKUP(BG35,'19__mapping'!$A:$B,2,0),"") | CO35: =IFERROR(VLOOKUP(BI35,'20__mapping'!$A:$B,2,0),"") | CP35: =IFERROR(VLOOKUP(BK35,'21__mapping'!$A:$B,2,0),"") | CQ35: =IFERROR(VLOOKUP(BM35,'22__mapping'!$A:$B,2,0),"") | CR35: =IFERROR(VLOOKUP(BO35,'23__mapping'!$A:$B,2,0),"") | CS35: =IFERROR(VLOOKUP(BQ35,'24__mapping'!$A:$B,2,0),"")
A36: Create | BU36: =IFERROR(VLOOKUP(A36,'0__mapping'!$A:$B,2,0),"") -> CREATE | BV36: =IFERROR(VLOOKUP(C36,'1__mapping'!$A:$B,2,0),"") | BW36: =INDEX('2__mapping'!B2:'2__mapping'!B49,MATCH(BV36&D36, INDEX('2__mapping'!C2:C49&'2__mapping'!A2:A49,),0)) -> #N/A | BX36: =IFERROR(VLOOKUP(E36,'3__mapping'!$A:$B,2,0),"") | BY36: =IFERROR(VLOOKUP(F36,'4__mapping'!$A:$B,2,0),"") | BZ36: =IFERROR(VLOOKUP(H36,'5__mapping'!$A:$B,2,0),"") | CA36: =IFERROR(VLOOKUP(K36,'6__mapping'!$A:$B,2,0),"") | CB36: =IFERROR(VLOOKUP(N36,'7__mapping'!$A:$B,2,0),"") | CC36: =IFERROR(VLOOKUP(AB36,'8__mapping'!$A:$B,2,0),"") | CD36: =IFERROR(VLOOKUP(AD36,'9__mapping'!$A:$B,2,0),"") | CE36: =IFERROR(VLOOKUP(AG36,'10__mapping'!$A:$B,2,0),"") | CF36: =IFERROR(VLOOKUP(AL36,'11__mapping'!$A:$B,2,0),"") | CG36: =IFERROR(VLOOKUP(AR36,'12__mapping'!$A:$B,2,0),"") | CH36: =IFERROR(VLOOKUP(AU36,'13__mapping'!$A:$B,2,0),"") | CI36: =IFERROR(VLOOKUP(AW36,'14__mapping'!$A:$B,2,0),"") | CJ36: =IFERROR(VLOOKUP(AY36,'15__mapping'!$A:$B,2,0),"") | CK36: =IFERROR(VLOOKUP(BA36,'16__mapping'!$A:$B,2,0),"") | CL36: =IFERROR(VLOOKUP(BC36,'17__mapping'!$A:$B,2,0),"") | CM36: =IFERROR(VLOOKUP(BE36,'18__mapping'!$A:$B,2,0),"") | CN36: =IFERROR(VLOOKUP(BG36,'19__mapping'!$A:$B,2,0),"") | CO36: =IFERROR(VLOOKUP(BI36,'20__mapping'!$A:$B,2,0),"") | CP36: =IFERROR(VLOOKUP(BK36,'21__mapping'!$A:$B,2,0),"") | CQ36: =IFERROR(VLOOKUP(BM36,'22__mapping'!$A:$B,2,0),"") | CR36: =IFERROR(VLOOKUP(BO36,'23__mapping'!$A:$B,2,0),"") | CS36: =IFERROR(VLOOKUP(BQ36,'24__mapping'!$A:$B,2,0),"")
A37: Create | BU37: =IFERROR(VLOOKUP(A37,'0__mapping'!$A:$B,2,0),"") -> CREATE | BV37: =IFERROR(VLOOKUP(C37,'1__mapping'!$A:$B,2,0),"") | BW37: =INDEX('2__mapping'!B2:'2__mapping'!B49,MATCH(BV37&D37, INDEX('2__mapping'!C2:C49&'2__mapping'!A2:A49,),0)) -> #N/A | BX37: =IFERROR(VLOOKUP(E37,'3__mapping'!$A:$B,2,0),"") | BY37: =IFERROR(VLOOKUP(F37,'4__mapping'!$A:$B,2,0),"") | BZ37: =IFERROR(VLOOKUP(H37,'5__mapping'!$A:$B,2,0),"") | CA37: =IFERROR(VLOOKUP(K37,'6__mapping'!$A:$B,2,0),"") | CB37: =IFERROR(VLOOKUP(N37,'7__mapping'!$A:$B,2,0),"") | CC37: =IFERROR(VLOOKUP(AB37,'8__mapping'!$A:$B,2,0),"") | CD37: =IFERROR(VLOOKUP(AD37,'9__mapping'!$A:$B,2,0),"") | CE37: =IFERROR(VLOOKUP(AG37,'10__mapping'!$A:$B,2,0),"") | CF37: =IFERROR(VLOOKUP(AL37,'11__mapping'!$A:$B,2,0),"") | CG37: =IFERROR(VLOOKUP(AR37,'12__mapping'!$A:$B,2,0),"") | CH37: =IFERROR(VLOOKUP(AU37,'13__mapping'!$A:$B,2,0),"") | CI37: =IFERROR(VLOOKUP(AW37,'14__mapping'!$A:$B,2,0),"") | CJ37: =IFERROR(VLOOKUP(AY37,'15__mapping'!$A:$B,2,0),"") | CK37: =IFERROR(VLOOKUP(BA37,'16__mapping'!$A:$B,2,0),"") | CL37: =IFERROR(VLOOKUP(BC37,'17__mapping'!$A:$B,2,0),"") | CM37: =IFERROR(VLOOKUP(BE37,'18__mapping'!$A:$B,2,0),"") | CN37: =IFERROR(VLOOKUP(BG37,'19__mapping'!$A:$B,2,0),"") | CO37: =IFERROR(VLOOKUP(BI37,'20__mapping'!$A:$B,2,0),"") | CP37: =IFERROR(VLOOKUP(BK37,'21__mapping'!$A:$B,2,0),"") | CQ37: =IFERROR(VLOOKUP(BM37,'22__mapping'!$A:$B,2,0),"") | CR37: =IFERROR(VLOOKUP(BO37,'23__mapping'!$A:$B,2,0),"") | CS37: =IFERROR(VLOOKUP(BQ37,'24__mapping'!$A:$B,2,0),"")
A38: Create | BU38: =IFERROR(VLOOKUP(A38,'0__mapping'!$A:$B,2,0),"") -> CREATE | BV38: =IFERROR(VLOOKUP(C38,'1__mapping'!$A:$B,2,0),"") | BW38: =INDEX('2__mapping'!B2:'2__mapping'!B49,MATCH(BV38&D38, INDEX('2__mapping'!C2:C49&'2__mapping'!A2:A49,),0)) -> #N/A | BX38: =IFERROR(VLOOKUP(E38,'3__mapping'!$A:$B,2,0),"") | BY38: =IFERROR(VLOOKUP(F38,'4__mapping'!$A:$B,2,0),"") | BZ38: =IFERROR(VLOOKUP(H38,'5__mapping'!$A:$B,2,0),"") | CA38: =IFERROR(VLOOKUP(K38,'6__mapping'!$A:$B,2,0),"") | CB38: =IFERROR(VLOOKUP(N38,'7__mapping'!$A:$B,2,0),"") | CC38: =IFERROR(VLOOKUP(AB38,'8__mapping'!$A:$B,2,0),"") | CD38: =IFERROR(VLOOKUP(AD38,'9__mapping'!$A:$B,2,0),"") | CE38: =IFERROR(VLOOKUP(AG38,'10__mapping'!$A:$B,2,0),"") | CF38: =IFERROR(VLOOKUP(AL38,'11__mapping'!$A:$B,2,0),"") | CG38: =IFERROR(VLOOKUP(AR38,'12__mapping'!$A:$B,2,0),"") | CH38: =IFERROR(VLOOKUP(AU38,'13__mapping'!$A:$B,2,0),"") | CI38: =IFERROR(VLOOKUP(AW38,'14__mapping'!$A:$B,2,0),"") | CJ38: =IFERROR(VLOOKUP(AY38,'15__mapping'!$A:$B,2,0),"") | CK38: =IFERROR(VLOOKUP(BA38,'16__mapping'!$A:$B,2,0),"") | CL38: =IFERROR(VLOOKUP(BC38,'17__mapping'!$A:$B,2,0),"") | CM38: =IFERROR(VLOOKUP(BE38,'18__mapping'!$A:$B,2,0),"") | CN38: =IFERROR(VLOOKUP(BG38,'19__mapping'!$A:$B,2,0),"") | CO38: =IFERROR(VLOOKUP(BI38,'20__mapping'!$A:$B,2,0),"") | CP38: =IFERROR(VLOOKUP(BK38,'21__mapping'!$A:$B,2,0),"") | CQ38: =IFERROR(VLOOKUP(BM38,'22__mapping'!$A:$B,2,0),"") | CR38: =IFERROR(VLOOKUP(BO38,'23__mapping'!$A:$B,2,0),"") | CS38: =IFERROR(VLOOKUP(BQ38,'24__mapping'!$A:$B,2,0),"")
A39: Create | BU39: =IFERROR(VLOOKUP(A39,'0__mapping'!$A:$B,2,0),"") -> CREATE | BV39: =IFERROR(VLOOKUP(C39,'1__mapping'!$A:$B,2,0),"") | BW39: =INDEX('2__mapping'!B2:'2__mapping'!B49,MATCH(BV39&D39, INDEX('2__mapping'!C2:C49&'2__mapping'!A2:A49,),0)) -> #N/A | BX39: =IFERROR(VLOOKUP(E39,'3__mapping'!$A:$B,2,0),"") | BY39: =IFERROR(VLOOKUP(F39,'4__mapping'!$A:$B,2,0),"") | BZ39: =IFERROR(VLOOKUP(H39,'5__mapping'!$A:$B,2,0),"") | CA39: =IFERROR(VLOOKUP(K39,'6__mapping'!$A:$B,2,0),"") | CB39: =IFERROR(VLOOKUP(N39,'7__mapping'!$A:$B,2,0),"") | CC39: =IFERROR(VLOOKUP(AB39,'8__mapping'!$A:$B,2,0),"") | CD39: =IFERROR(VLOOKUP(AD39,'9__mapping'!$A:$B,2,0),"") | CE39: =IFERROR(VLOOKUP(AG39,'10__mapping'!$A:$B,2,0),"") | CF39: =IFERROR(VLOOKUP(AL39,'11__mapping'!$A:$B,2,0),"") | CG39: =IFERROR(VLOOKUP(AR39,'12__mapping'!$A:$B,2,0),"") | CH39: =IFERROR(VLOOKUP(AU39,'13__mapping'!$A:$B,2,0),"") | CI39: =IFERROR(VLOOKUP(AW39,'14__mapping'!$A:$B,2,0),"") | CJ39: =IFERROR(VLOOKUP(AY39,'15__mapping'!$A:$B,2,0),"") | CK39: =IFERROR(VLOOKUP(BA39,'16__mapping'!$A:$B,2,0),"") | CL39: =IFERROR(VLOOKUP(BC39,'17__mapping'!$A:$B,2,0),"") | CM39: =IFERROR(VLOOKUP(BE39,'18__mapping'!$A:$B,2,0),"") | CN39: =IFERROR(VLOOKUP(BG39,'19__mapping'!$A:$B,2,0),"") | CO39: =IFERROR(VLOOKUP(BI39,'20__mapping'!$A:$B,2,0),"") | CP39: =IFERROR(VLOOKUP(BK39,'21__mapping'!$A:$B,2,0),"") | CQ39: =IFERROR(VLOOKUP(BM39,'22__mapping'!$A:$B,2,0),"") | CR39: =IFERROR(VLOOKUP(BO39,'23__mapping'!$A:$B,2,0),"") | CS39: =IFERROR(VLOOKUP(BQ39,'24__mapping'!$A:$B,2,0),"")
A40: Create | BU40: =IFERROR(VLOOKUP(A40,'0__mapping'!$A:$B,2,0),"") -> CREATE | BV40: =IFERROR(VLOOKUP(C40,'1__mapping'!$A:$B,2,0),"") | BW40: =INDEX('2__mapping'!B2:'2__mapping'!B49,MATCH(BV40&D40, INDEX('2__mapping'!C2:C49&'2__mapping'!A2:A49,),0)) -> #N/A | BX40: =IFERROR(VLOOKUP(E40,'3__mapping'!$A:$B,2,0),"") | BY40: =IFERROR(VLOOKUP(F40,'4__mapping'!$A:$B,2,0),"") | BZ40: =IFERROR(VLOOKUP(H40,'5__mapping'!$A:$B,2,0),"") | CA40: =IFERROR(VLOOKUP(K40,'6__mapping'!$A:$B,2,0),"") | CB40: =IFERROR(VLOOKUP(N40,'7__mapping'!$A:$B,2,0),"") | CC40: =IFERROR(VLOOKUP(AB40,'8__mapping'!$A:$B,2,0),"") | CD40: =IFERROR(VLOOKUP(AD40,'9__mapping'!$A:$B,2,0),"") | CE40: =IFERROR(VLOOKUP(AG40,'10__mapping'!$A:$B,2,0),"") | CF40: =IFERROR(VLOOKUP(AL40,'11__mapping'!$A:$B,2,0),"") | CG40: =IFERROR(VLOOKUP(AR40,'12__mapping'!$A:$B,2,0),"") | CH40: =IFERROR(VLOOKUP(AU40,'13__mapping'!$A:$B,2,0),"") | CI40: =IFERROR(VLOOKUP(AW40,'14__mapping'!$A:$B,2,0),"") | CJ40: =IFERROR(VLOOKUP(AY40,'15__mapping'!$A:$B,2,0),"") | CK40: =IFERROR(VLOOKUP(BA40,'16__mapping'!$A:$B,2,0),"") | CL40: =IFERROR(VLOOKUP(BC40,'17__mapping'!$A:$B,2,0),"") | CM40: =IFERROR(VLOOKUP(BE40,'18__mapping'!$A:$B,2,0),"") | CN40: =IFERROR(VLOOKUP(BG40,'19__mapping'!$A:$B,2,0),"") | CO40: =IFERROR(VLOOKUP(BI40,'20__mapping'!$A:$B,2,0),"") | CP40: =IFERROR(VLOOKUP(BK40,'21__mapping'!$A:$B,2,0),"") | CQ40: =IFERROR(VLOOKUP(BM40,'22__mapping'!$A:$B,2,0),"") | CR40: =IFERROR(VLOOKUP(BO40,'23__mapping'!$A:$B,2,0),"") | CS40: =IFERROR(VLOOKUP(BQ40,'24__mapping'!$A:$B,2,0),"")
A41: Create | BU41: =IFERROR(VLOOKUP(A41,'0__mapping'!$A:$B,2,0),"") -> CREATE | BV41: =IFERROR(VLOOKUP(C41,'1__mapping'!$A:$B,2,0),"") | BW41: =INDEX('2__mapping'!B2:'2__mapping'!B49,MATCH(BV41&D41, INDEX('2__mapping'!C2:C49&'2__mapping'!A2:A49,),0)) -> #N/A | BX41: =IFERROR(VLOOKUP(E41,'3__mapping'!$A:$B,2,0),"") | BY41: =IFERROR(VLOOKUP(F41,'4__mapping'!$A:$B,2,0),"") | BZ41: =IFERROR(VLOOKUP(H41,'5__mapping'!$A:$B,2,0),"") | CA41: =IFERROR(VLOOKUP(K41,'6__mapping'!$A:$B,2,0),"") | CB41: =IFERROR(VLOOKUP(N41,'7__mapping'!$A:$B,2,0),"") | CC41: =IFERROR(VLOOKUP(AB41,'8__mapping'!$A:$B,2,0),"") | CD41: =IFERROR(VLOOKUP(AD41,'9__mapping'!$A:$B,2,0),"") | CE41: =IFERROR(VLOOKUP(AG41,'10__mapping'!$A:$B,2,0),"") | CF41: =IFERROR(VLOOKUP(AL41,'11__mapping'!$A:$B,2,0),"") | CG41: =IFERROR(VLOOKUP(AR41,'12__mapping'!$A:$B,2,0),"") | CH41: =IFERROR(VLOOKUP(AU41,'13__mapping'!$A:$B,2,0),"") | CI41: =IFERROR(VLOOKUP(AW41,'14__mapping'!$A:$B,2,0),"") | CJ41: =IFERROR(VLOOKUP(AY41,'15__mapping'!$A:$B,2,0),"") | CK41: =IFERROR(VLOOKUP(BA41,'16__mapping'!$A:$B,2,0),"") | CL41: =IFERROR(VLOOKUP(BC41,'17__mapping'!$A:$B,2,0),"") | CM41: =IFERROR(VLOOKUP(BE41,'18__mapping'!$A:$B,2,0),"") | CN41: =IFERROR(VLOOKUP(BG41,'19__mapping'!$A:$B,2,0),"") | CO41: =IFERROR(VLOOKUP(BI41,'20__mapping'!$A:$B,2,0),"") | CP41: =IFERROR(VLOOKUP(BK41,'21__mapping'!$A:$B,2,0),"") | CQ41: =IFERROR(VLOOKUP(BM41,'22__mapping'!$A:$B,2,0),"") | CR41: =IFERROR(VLOOKUP(BO41,'23__mapping'!$A:$B,2,0),"") | CS41: =IFERROR(VLOOKUP(BQ41,'24__mapping'!$A:$B,2,0),"")
A42: Create | BU42: =IFERROR(VLOOKUP(A42,'0__mapping'!$A:$B,2,0),"") -> CREATE | BV42: =IFERROR(VLOOKUP(C42,'1__mapping'!$A:$B,2,0),"") | BW42: =INDEX('2__mapping'!B2:'2__mapping'!B49,MATCH(BV42&D42, INDEX('2__mapping'!C2:C49&'2__mapping'!A2:A49,),0)) -> #N/A | BX42: =IFERROR(VLOOKUP(E42,'3__mapping'!$A:$B,2,0),"") | BY42: =IFERROR(VLOOKUP(F42,'4__mapping'!$A:$B,2,0),"") | BZ42: =IFERROR(VLOOKUP(H42,'5__mapping'!$A:$B,2,0),"") | CA42: =IFERROR(VLOOKUP(K42,'6__mapping'!$A:$B,2,0),"") | CB42: =IFERROR(VLOOKUP(N42,'7__mapping'!$A:$B,2,0),"") | CC42: =IFERROR(VLOOKUP(AB42,'8__mapping'!$A:$B,2,0),"") | CD42: =IFERROR(VLOOKUP(AD42,'9__mapping'!$A:$B,2,0),"") | CE42: =IFERROR(VLOOKUP(AG42,'10__mapping'!$A:$B,2,0),"") | CF42: =IFERROR(VLOOKUP(AL42,'11__mapping'!$A:$B,2,0),"") | CG42: =IFERROR(VLOOKUP(AR42,'12__mapping'!$A:$B,2,0),"") | CH42: =IFERROR(VLOOKUP(AU42,'13__mapping'!$A:$B,2,0),"") | CI42: =IFERROR(VLOOKUP(AW42,'14__mapping'!$A:$B,2,0),"") | CJ42: =IFERROR(VLOOKUP(AY42,'15__mapping'!$A:$B,2,0),"") | CK42: =IFERROR(VLOOKUP(BA42,'16__mapping'!$A:$B,2,0),"") | CL42: =IFERROR(VLOOKUP(BC42,'17__mapping'!$A:$B,2,0),"") | CM42: =IFERROR(VLOOKUP(BE42,'18__mapping'!$A:$B,2,0),"") | CN42: =IFERROR(VLOOKUP(BG42,'19__mapping'!$A:$B,2,0),"") | CO42: =IFERROR(VLOOKUP(BI42,'20__mapping'!$A:$B,2,0),"") | CP42: =IFERROR(VLOOKUP(BK42,'21__mapping'!$A:$B,2,0),"") | CQ42: =IFERROR(VLOOKUP(BM42,'22__mapping'!$A:$B,2,0),"") | CR42: =IFERROR(VLOOKUP(BO42,'23__mapping'!$A:$B,2,0),"") | CS42: =IFERROR(VLOOKUP(BQ42,'24__mapping'!$A:$B,2,0),"")
A43: Create | BU43: =IFERROR(VLOOKUP(A43,'0__mapping'!$A:$B,2,0),"") -> CREATE | BV43: =IFERROR(VLOOKUP(C43,'1__mapping'!$A:$B,2,0),"") | BW43: =INDEX('2__mapping'!B2:'2__mapping'!B49,MATCH(BV43&D43, INDEX('2__mapping'!C2:C49&'2__mapping'!A2:A49,),0)) -> #N/A | BX43: =IFERROR(VLOOKUP(E43,'3__mapping'!$A:$B,2,0),"") | BY43: =IFERROR(VLOOKUP(F43,'4__mapping'!$A:$B,2,0),"") | BZ43: =IFERROR(VLOOKUP(H43,'5__mapping'!$A:$B,2,0),"") | CA43: =IFERROR(VLOOKUP(K43,'6__mapping'!$A:$B,2,0),"") | CB43: =IFERROR(VLOOKUP(N43,'7__mapping'!$A:$B,2,0),"") | CC43: =IFERROR(VLOOKUP(AB43,'8__mapping'!$A:$B,2,0),"") | CD43: =IFERROR(VLOOKUP(AD43,'9__mapping'!$A:$B,2,0),"") | CE43: =IFERROR(VLOOKUP(AG43,'10__mapping'!$A:$B,2,0),"") | CF43: =IFERROR(VLOOKUP(AL43,'11__mapping'!$A:$B,2,0),"") | CG43: =IFERROR(VLOOKUP(AR43,'12__mapping'!$A:$B,2,0),"") | CH43: =IFERROR(VLOOKUP(AU43,'13__mapping'!$A:$B,2,0),"") | CI43: =IFERROR(VLOOKUP(AW43,'14__mapping'!$A:$B,2,0),"") | CJ43: =IFERROR(VLOOKUP(AY43,'15__mapping'!$A:$B,2,0),"") | CK43: =IFERROR(VLOOKUP(BA43,'16__mapping'!$A:$B,2,0),"") | CL43: =IFERROR(VLOOKUP(BC43,'17__mapping'!$A:$B,2,0),"") | CM43: =IFERROR(VLOOKUP(BE43,'18__mapping'!$A:$B,2,0),"") | CN43: =IFERROR(VLOOKUP(BG43,'19__mapping'!$A:$B,2,0),"") | CO43: =IFERROR(VLOOKUP(BI43,'20__mapping'!$A:$B,2,0),"") | CP43: =IFERROR(VLOOKUP(BK43,'21__mapping'!$A:$B,2,0),"") | CQ43: =IFERROR(VLOOKUP(BM43,'22__mapping'!$A:$B,2,0),"") | CR43: =IFERROR(VLOOKUP(BO43,'23__mapping'!$A:$B,2,0),"") | CS43: =IFERROR(VLOOKUP(BQ43,'24__mapping'!$A:$B,2,0),"")
A44: Create | BU44: =IFERROR(VLOOKUP(A44,'0__mapping'!$A:$B,2,0),"") -> CREATE | BV44: =IFERROR(VLOOKUP(C44,'1__mapping'!$A:$B,2,0),"") | BW44: =INDEX('2__mapping'!B2:'2__mapping'!B49,MATCH(BV44&D44, INDEX('2__mapping'!C2:C49&'2__mapping'!A2:A49,),0)) -> #N/A | BX44: =IFERROR(VLOOKUP(E44,'3__mapping'!$A:$B,2,0),"") | BY44: =IFERROR(VLOOKUP(F44,'4__mapping'!$A:$B,2,0),"") | BZ44: =IFERROR(VLOOKUP(H44,'5__mapping'!$A:$B,2,0),"") | CA44: =IFERROR(VLOOKUP(K44,'6__mapping'!$A:$B,2,0),"") | CB44: =IFERROR(VLOOKUP(N44,'7__mapping'!$A:$B,2,0),"") | CC44: =IFERROR(VLOOKUP(AB44,'8__mapping'!$A:$B,2,0),"") | CD44: =IFERROR(VLOOKUP(AD44,'9__mapping'!$A:$B,2,0),"") | CE44: =IFERROR(VLOOKUP(AG44,'10__mapping'!$A:$B,2,0),"") | CF44: =IFERROR(VLOOKUP(AL44,'11__mapping'!$A:$B,2,0),"") | CG44: =IFERROR(VLOOKUP(AR44,'12__mapping'!$A:$B,2,0),"") | CH44: =IFERROR(VLOOKUP(AU44,'13__mapping'!$A:$B,2,0),"") | CI44: =IFERROR(VLOOKUP(AW44,'14__mapping'!$A:$B,2,0),"") | CJ44: =IFERROR(VLOOKUP(AY44,'15__mapping'!$A:$B,2,0),"") | CK44: =IFERROR(VLOOKUP(BA44,'16__mapping'!$A:$B,2,0),"") | CL44: =IFERROR(VLOOKUP(BC44,'17__mapping'!$A:$B,2,0),"") | CM44: =IFERROR(VLOOKUP(BE44,'18__mapping'!$A:$B,2,0),"") | CN44: =IFERROR(VLOOKUP(BG44,'19__mapping'!$A:$B,2,0),"") | CO44: =IFERROR(VLOOKUP(BI44,'20__mapping'!$A:$B,2,0),"") | CP44: =IFERROR(VLOOKUP(BK44,'21__mapping'!$A:$B,2,0),"") | CQ44: =IFERROR(VLOOKUP(BM44,'22__mapping'!$A:$B,2,0),"") | CR44: =IFERROR(VLOOKUP(BO44,'23__mapping'!$A:$B,2,0),"") | CS44: =IFERROR(VLOOKUP(BQ44,'24__mapping'!$A:$B,2,0),"")
A45: Create | BU45: =IFERROR(VLOOKUP(A45,'0__mapping'!$A:$B,2,0),"") -> CREATE | BV45: =IFERROR(VLOOKUP(C45,'1__mapping'!$A:$B,2,0),"") | BW45: =INDEX('2__mapping'!B2:'2__mapping'!B49,MATCH(BV45&D45, INDEX('2__mapping'!C2:C49&'2__mapping'!A2:A49,),0)) -> #N/A | BX45: =IFERROR(VLOOKUP(E45,'3__mapping'!$A:$B,2,0),"") | BY45: =IFERROR(VLOOKUP(F45,'4__mapping'!$A:$B,2,0),"") | BZ45: =IFERROR(VLOOKUP(H45,'5__mapping'!$A:$B,2,0),"") | CA45: =IFERROR(VLOOKUP(K45,'6__mapping'!$A:$B,2,0),"") | CB45: =IFERROR(VLOOKUP(N45,'7__mapping'!$A:$B,2,0),"") | CC45: =IFERROR(VLOOKUP(AB45,'8__mapping'!$A:$B,2,0),"") | CD45: =IFERROR(VLOOKUP(AD45,'9__mapping'!$A:$B,2,0),"") | CE45: =IFERROR(VLOOKUP(AG45,'10__mapping'!$A:$B,2,0),"") | CF45: =IFERROR(VLOOKUP(AL45,'11__mapping'!$A:$B,2,0),"") | CG45: =IFERROR(VLOOKUP(AR45,'12__mapping'!$A:$B,2,0),"") | CH45: =IFERROR(VLOOKUP(AU45,'13__mapping'!$A:$B,2,0),"") | CI45: =IFERROR(VLOOKUP(AW45,'14__mapping'!$A:$B,2,0),"") | CJ45: =IFERROR(VLOOKUP(AY45,'15__mapping'!$A:$B,2,0),"") | CK45: =IFERROR(VLOOKUP(BA45,'16__mapping'!$A:$B,2,0),"") | CL45: =IFERROR(VLOOKUP(BC45,'17__mapping'!$A:$B,2,0),"") | CM45: =IFERROR(VLOOKUP(BE45,'18__mapping'!$A:$B,2,0),"") | CN45: =IFERROR(VLOOKUP(BG45,'19__mapping'!$A:$B,2,0),"") | CO45: =IFERROR(VLOOKUP(BI45,'20__mapping'!$A:$B,2,0),"") | CP45: =IFERROR(VLOOKUP(BK45,'21__mapping'!$A:$B,2,0),"") | CQ45: =IFERROR(VLOOKUP(BM45,'22__mapping'!$A:$B,2,0),"") | CR45: =IFERROR(VLOOKUP(BO45,'23__mapping'!$A:$B,2,0),"") | CS45: =IFERROR(VLOOKUP(BQ45,'24__mapping'!$A:$B,2,0),"")
A46: Create | BU46: =IFERROR(VLOOKUP(A46,'0__mapping'!$A:$B,2,0),"") -> CREATE | BV46: =IFERROR(VLOOKUP(C46,'1__mapping'!$A:$B,2,0),"") | BW46: =INDEX('2__mapping'!B2:'2__mapping'!B49,MATCH(BV46&D46, INDEX('2__mapping'!C2:C49&'2__mapping'!A2:A49,),0)) -> #N/A | BX46: =IFERROR(VLOOKUP(E46,'3__mapping'!$A:$B,2,0),"") | BY46: =IFERROR(VLOOKUP(F46,'4__mapping'!$A:$B,2,0),"") | BZ46: =IFERROR(VLOOKUP(H46,'5__mapping'!$A:$B,2,0),"") | CA46: =IFERROR(VLOOKUP(K46,'6__mapping'!$A:$B,2,0),"") | CB46: =IFERROR(VLOOKUP(N46,'7__mapping'!$A:$B,2,0),"") | CC46: =IFERROR(VLOOKUP(AB46,'8__mapping'!$A:$B,2,0),"") | CD46: =IFERROR(VLOOKUP(AD46,'9__mapping'!$A:$B,2,0),"") | CE46: =IFERROR(VLOOKUP(AG46,'10__mapping'!$A:$B,2,0),"") | CF46: =IFERROR(VLOOKUP(AL46,'11__mapping'!$A:$B,2,0),"") | CG46: =IFERROR(VLOOKUP(AR46,'12__mapping'!$A:$B,2,0),"") | CH46: =IFERROR(VLOOKUP(AU46,'13__mapping'!$A:$B,2,0),"") | CI46: =IFERROR(VLOOKUP(AW46,'14__mapping'!$A:$B,2,0),"") | CJ46: =IFERROR(VLOOKUP(AY46,'15__mapping'!$A:$B,2,0),"") | CK46: =IFERROR(VLOOKUP(BA46,'16__mapping'!$A:$B,2,0),"") | CL46: =IFERROR(VLOOKUP(BC46,'17__mapping'!$A:$B,2,0),"") | CM46: =IFERROR(VLOOKUP(BE46,'18__mapping'!$A:$B,2,0),"") | CN46: =IFERROR(VLOOKUP(BG46,'19__mapping'!$A:$B,2,0),"") | CO46: =IFERROR(VLOOKUP(BI46,'20__mapping'!$A:$B,2,0),"") | CP46: =IFERROR(VLOOKUP(BK46,'21__mapping'!$A:$B,2,0),"") | CQ46: =IFERROR(VLOOKUP(BM46,'22__mapping'!$A:$B,2,0),"") | CR46: =IFERROR(VLOOKUP(BO46,'23__mapping'!$A:$B,2,0),"") | CS46: =IFERROR(VLOOKUP(BQ46,'24__mapping'!$A:$B,2,0),"")
A47: Create | BU47: =IFERROR(VLOOKUP(A47,'0__mapping'!$A:$B,2,0),"") -> CREATE | BV47: =IFERROR(VLOOKUP(C47,'1__mapping'!$A:$B,2,0),"") | BW47: =INDEX('2__mapping'!B2:'2__mapping'!B49,MATCH(BV47&D47, INDEX('2__mapping'!C2:C49&'2__mapping'!A2:A49,),0)) -> #N/A | BX47: =IFERROR(VLOOKUP(E47,'3__mapping'!$A:$B,2,0),"") | BY47: =IFERROR(VLOOKUP(F47,'4__mapping'!$A:$B,2,0),"") | BZ47: =IFERROR(VLOOKUP(H47,'5__mapping'!$A:$B,2,0),"") | CA47: =IFERROR(VLOOKUP(K47,'6__mapping'!$A:$B,2,0),"") | CB47: =IFERROR(VLOOKUP(N47,'7__mapping'!$A:$B,2,0),"") | CC47: =IFERROR(VLOOKUP(AB47,'8__mapping'!$A:$B,2,0),"") | CD47: =IFERROR(VLOOKUP(AD47,'9__mapping'!$A:$B,2,0),"") | CE47: =IFERROR(VLOOKUP(AG47,'10__mapping'!$A:$B,2,0),"") | CF47: =IFERROR(VLOOKUP(AL47,'11__mapping'!$A:$B,2,0),"") | CG47: =IFERROR(VLOOKUP(AR47,'12__mapping'!$A:$B,2,0),"") | CH47: =IFERROR(VLOOKUP(AU47,'13__mapping'!$A:$B,2,0),"") | CI47: =IFERROR(VLOOKUP(AW47,'14__mapping'!$A:$B,2,0),"") | CJ47: =IFERROR(VLOOKUP(AY47,'15__mapping'!$A:$B,2,0),"") | CK47: =IFERROR(VLOOKUP(BA47,'16__mapping'!$A:$B,2,0),"") | CL47: =IFERROR(VLOOKUP(BC47,'17__mapping'!$A:$B,2,0),"") | CM47: =IFERROR(VLOOKUP(BE47,'18__mapping'!$A:$B,2,0),"") | CN47: =IFERROR(VLOOKUP(BG47,'19__mapping'!$A:$B,2,0),"") | CO47: =IFERROR(VLOOKUP(BI47,'20__mapping'!$A:$B,2,0),"") | CP47: =IFERROR(VLOOKUP(BK47,'21__mapping'!$A:$B,2,0),"") | CQ47: =IFERROR(VLOOKUP(BM47,'22__mapping'!$A:$B,2,0),"") | CR47: =IFERROR(VLOOKUP(BO47,'23__mapping'!$A:$B,2,0),"") | CS47: =IFERROR(VLOOKUP(BQ47,'24__mapping'!$A:$B,2,0),"")
A48: Create | BU48: =IFERROR(VLOOKUP(A48,'0__mapping'!$A:$B,2,0),"") -> CREATE | BV48: =IFERROR(VLOOKUP(C48,'1__mapping'!$A:$B,2,0),"") | BW48: =INDEX('2__mapping'!B2:'2__mapping'!B49,MATCH(BV48&D48, INDEX('2__mapping'!C2:C49&'2__mapping'!A2:A49,),0)) -> #N/A | BX48: =IFERROR(VLOOKUP(E48,'3__mapping'!$A:$B,2,0),"") | BY48: =IFERROR(VLOOKUP(F48,'4__mapping'!$A:$B,2,0),"") | BZ48: =IFERROR(VLOOKUP(H48,'5__mapping'!$A:$B,2,0),"") | CA48: =IFERROR(VLOOKUP(K48,'6__mapping'!$A:$B,2,0),"") | CB48: =IFERROR(VLOOKUP(N48,'7__mapping'!$A:$B,2,0),"") | CC48: =IFERROR(VLOOKUP(AB48,'8__mapping'!$A:$B,2,0),"") | CD48: =IFERROR(VLOOKUP(AD48,'9__mapping'!$A:$B,2,0),"") | CE48: =IFERROR(VLOOKUP(AG48,'10__mapping'!$A:$B,2,0),"") | CF48: =IFERROR(VLOOKUP(AL48,'11__mapping'!$A:$B,2,0),"") | CG48: =IFERROR(VLOOKUP(AR48,'12__mapping'!$A:$B,2,0),"") | CH48: =IFERROR(VLOOKUP(AU48,'13__mapping'!$A:$B,2,0),"") | CI48: =IFERROR(VLOOKUP(AW48,'14__mapping'!$A:$B,2,0),"") | CJ48: =IFERROR(VLOOKUP(AY48,'15__mapping'!$A:$B,2,0),"") | CK48: =IFERROR(VLOOKUP(BA48,'16__mapping'!$A:$B,2,0),"") | CL48: =IFERROR(VLOOKUP(BC48,'17__mapping'!$A:$B,2,0),"") | CM48: =IFERROR(VLOOKUP(BE48,'18__mapping'!$A:$B,2,0),"") | CN48: =IFERROR(VLOOKUP(BG48,'19__mapping'!$A:$B,2,0),"") | CO48: =IFERROR(VLOOKUP(BI48,'20__mapping'!$A:$B,2,0),"") | CP48: =IFERROR(VLOOKUP(BK48,'21__mapping'!$A:$B,2,0),"") | CQ48: =IFERROR(VLOOKUP(BM48,'22__mapping'!$A:$B,2,0),"") | CR48: =IFERROR(VLOOKUP(BO48,'23__mapping'!$A:$B,2,0),"") | CS48: =IFERROR(VLOOKUP(BQ48,'24__mapping'!$A:$B,2,0),"")
A49: Create | BU49: =IFERROR(VLOOKUP(A49,'0__mapping'!$A:$B,2,0),"") -> CREATE | BV49: =IFERROR(VLOOKUP(C49,'1__mapping'!$A:$B,2,0),"") | BW49: =INDEX('2__mapping'!B2:'2__mapping'!B49,MATCH(BV49&D49, INDEX('2__mapping'!C2:C49&'2__mapping'!A2:A49,),0)) -> #N/A | BX49: =IFERROR(VLOOKUP(E49,'3__mapping'!$A:$B,2,0),"") | BY49: =IFERROR(VLOOKUP(F49,'4__mapping'!$A:$B,2,0),"") | BZ49: =IFERROR(VLOOKUP(H49,'5__mapping'!$A:$B,2,0),"") | CA49: =IFERROR(VLOOKUP(K49,'6__mapping'!$A:$B,2,0),"") | CB49: =IFERROR(VLOOKUP(N49,'7__mapping'!$A:$B,2,0),"") | CC49: =IFERROR(VLOOKUP(AB49,'8__mapping'!$A:$B,2,0),"") | CD49: =IFERROR(VLOOKUP(AD49,'9__mapping'!$A:$B,2,0),"") | CE49: =IFERROR(VLOOKUP(AG49,'10__mapping'!$A:$B,2,0),"") | CF49: =IFERROR(VLOOKUP(AL49,'11__mapping'!$A:$B,2,0),"") | CG49: =IFERROR(VLOOKUP(AR49,'12__mapping'!$A:$B,2,0),"") | CH49: =IFERROR(VLOOKUP(AU49,'13__mapping'!$A:$B,2,0),"") | CI49: =IFERROR(VLOOKUP(AW49,'14__mapping'!$A:$B,2,0),"") | CJ49: =IFERROR(VLOOKUP(AY49,'15__mapping'!$A:$B,2,0),"") | CK49: =IFERROR(VLOOKUP(BA49,'16__mapping'!$A:$B,2,0),"") | CL49: =IFERROR(VLOOKUP(BC49,'17__mapping'!$A:$B,2,0),"") | CM49: =IFERROR(VLOOKUP(BE49,'18__mapping'!$A:$B,2,0),"") | CN49: =IFERROR(VLOOKUP(BG49,'19__mapping'!$A:$B,2,0),"") | CO49: =IFERROR(VLOOKUP(BI49,'20__mapping'!$A:$B,2,0),"") | CP49: =IFERROR(VLOOKUP(BK49,'21__mapping'!$A:$B,2,0),"") | CQ49: =IFERROR(VLOOKUP(BM49,'22__mapping'!$A:$B,2,0),"") | CR49: =IFERROR(VLOOKUP(BO49,'23__mapping'!$A:$B,2,0),"") | CS49: =IFERROR(VLOOKUP(BQ49,'24__mapping'!$A:$B,2,0),"")
A50: Create | BU50: =IFERROR(VLOOKUP(A50,'0__mapping'!$A:$B,2,0),"") -> CREATE | BV50: =IFERROR(VLOOKUP(C50,'1__mapping'!$A:$B,2,0),"") | BW50: =INDEX('2__mapping'!B2:'2__mapping'!B49,MATCH(BV50&D50, INDEX('2__mapping'!C2:C49&'2__mapping'!A2:A49,),0)) -> #N/A | BX50: =IFERROR(VLOOKUP(E50,'3__mapping'!$A:$B,2,0),"") | BY50: =IFERROR(VLOOKUP(F50,'4__mapping'!$A:$B,2,0),"") | BZ50: =IFERROR(VLOOKUP(H50,'5__mapping'!$A:$B,2,0),"") | CA50: =IFERROR(VLOOKUP(K50,'6__mapping'!$A:$B,2,0),"") | CB50: =IFERROR(VLOOKUP(N50,'7__mapping'!$A:$B,2,0),"") | CC50: =IFERROR(VLOOKUP(AB50,'8__mapping'!$A:$B,2,0),"") | CD50: =IFERROR(VLOOKUP(AD50,'9__mapping'!$A:$B,2,0),"") | CE50: =IFERROR(VLOOKUP(AG50,'10__mapping'!$A:$B,2,0),"") | CF50: =IFERROR(VLOOKUP(AL50,'11__mapping'!$A:$B,2,0),"") | CG50: =IFERROR(VLOOKUP(AR50,'12__mapping'!$A:$B,2,0),"") | CH50: =IFERROR(VLOOKUP(AU50,'13__mapping'!$A:$B,2,0),"") | CI50: =IFERROR(VLOOKUP(AW50,'14__mapping'!$A:$B,2,0),"") | CJ50: =IFERROR(VLOOKUP(AY50,'15__mapping'!$A:$B,2,0),"") | CK50: =IFERROR(VLOOKUP(BA50,'16__mapping'!$A:$B,2,0),"") | CL50: =IFERROR(VLOOKUP(BC50,'17__mapping'!$A:$B,2,0),"") | CM50: =IFERROR(VLOOKUP(BE50,'18__mapping'!$A:$B,2,0),"") | CN50: =IFERROR(VLOOKUP(BG50,'19__mapping'!$A:$B,2,0),"") | CO50: =IFERROR(VLOOKUP(BI50,'20__mapping'!$A:$B,2,0),"") | CP50: =IFERROR(VLOOKUP(BK50,'21__mapping'!$A:$B,2,0),"") | CQ50: =IFERROR(VLOOKUP(BM50,'22__mapping'!$A:$B,2,0),"") | CR50: =IFERROR(VLOOKUP(BO50,'23__mapping'!$A:$B,2,0),"") | CS50: =IFERROR(VLOOKUP(BQ50,'24__mapping'!$A:$B,2,0),"")
A51: Create | BU51: =IFERROR(VLOOKUP(A51,'0__mapping'!$A:$B,2,0),"") -> CREATE | BV51: =IFERROR(VLOOKUP(C51,'1__mapping'!$A:$B,2,0),"") | BW51: =INDEX('2__mapping'!B2:'2__mapping'!B49,MATCH(BV51&D51, INDEX('2__mapping'!C2:C49&'2__mapping'!A2:A49,),0)) -> #N/A | BX51: =IFERROR(VLOOKUP(E51,'3__mapping'!$A:$B,2,0),"") | BY51: =IFERROR(VLOOKUP(F51,'4__mapping'!$A:$B,2,0),"") | BZ51: =IFERROR(VLOOKUP(H51,'5__mapping'!$A:$B,2,0),"") | CA51: =IFERROR(VLOOKUP(K51,'6__mapping'!$A:$B,2,0),"") | CB51: =IFERROR(VLOOKUP(N51,'7__mapping'!$A:$B,2,0),"") | CC51: =IFERROR(VLOOKUP(AB51,'8__mapping'!$A:$B,2,0),"") | CD51: =IFERROR(VLOOKUP(AD51,'9__mapping'!$A:$B,2,0),"") | CE51: =IFERROR(VLOOKUP(AG51,'10__mapping'!$A:$B,2,0),"") | CF51: =IFERROR(VLOOKUP(AL51,'11__mapping'!$A:$B,2,0),"") | CG51: =IFERROR(VLOOKUP(AR51,'12__mapping'!$A:$B,2,0),"") | CH51: =IFERROR(VLOOKUP(AU51,'13__mapping'!$A:$B,2,0),"") | CI51: =IFERROR(VLOOKUP(AW51,'14__mapping'!$A:$B,2,0),"") | CJ51: =IFERROR(VLOOKUP(AY51,'15__mapping'!$A:$B,2,0),"") | CK51: =IFERROR(VLOOKUP(BA51,'16__mapping'!$A:$B,2,0),"") | CL51: =IFERROR(VLOOKUP(BC51,'17__mapping'!$A:$B,2,0),"") | CM51: =IFERROR(VLOOKUP(BE51,'18__mapping'!$A:$B,2,0),"") | CN51: =IFERROR(VLOOKUP(BG51,'19__mapping'!$A:$B,2,0),"") | CO51: =IFERROR(VLOOKUP(BI51,'20__mapping'!$A:$B,2,0),"") | CP51: =IFERROR(VLOOKUP(BK51,'21__mapping'!$A:$B,2,0),"") | CQ51: =IFERROR(VLOOKUP(BM51,'22__mapping'!$A:$B,2,0),"") | CR51: =IFERROR(VLOOKUP(BO51,'23__mapping'!$A:$B,2,0),"") | CS51: =IFERROR(VLOOKUP(BQ51,'24__mapping'!$A:$B,2,0),"")
A52: Create | BU52: =IFERROR(VLOOKUP(A52,'0__mapping'!$A:$B,2,0),"") -> CREATE | BV52: =IFERROR(VLOOKUP(C52,'1__mapping'!$A:$B,2,0),"") | BW52: =INDEX('2__mapping'!B2:'2__mapping'!B49,MATCH(BV52&D52, INDEX('2__mapping'!C2:C49&'2__mapping'!A2:A49,),0)) -> #N/A | BX52: =IFERROR(VLOOKUP(E52,'3__mapping'!$A:$B,2,0),"") | BY52: =IFERROR(VLOOKUP(F52,'4__mapping'!$A:$B,2,0),"") | BZ52: =IFERROR(VLOOKUP(H52,'5__mapping'!$A:$B,2,0),"") | CA52: =IFERROR(VLOOKUP(K52,'6__mapping'!$A:$B,2,0),"") | CB52: =IFERROR(VLOOKUP(N52,'7__mapping'!$A:$B,2,0),"") | CC52: =IFERROR(VLOOKUP(AB52,'8__mapping'!$A:$B,2,0),"") | CD52: =IFERROR(VLOOKUP(AD52,'9__mapping'!$A:$B,2,0),"") | CE52: =IFERROR(VLOOKUP(AG52,'10__mapping'!$A:$B,2,0),"") | CF52: =IFERROR(VLOOKUP(AL52,'11__mapping'!$A:$B,2,0),"") | CG52: =IFERROR(VLOOKUP(AR52,'12__mapping'!$A:$B,2,0),"") | CH52: =IFERROR(VLOOKUP(AU52,'13__mapping'!$A:$B,2,0),"") | CI52: =IFERROR(VLOOKUP(AW52,'14__mapping'!$A:$B,2,0),"") | CJ52: =IFERROR(VLOOKUP(AY52,'15__mapping'!$A:$B,2,0),"") | CK52: =IFERROR(VLOOKUP(BA52,'16__mapping'!$A:$B,2,0),"") | CL52: =IFERROR(VLOOKUP(BC52,'17__mapping'!$A:$B,2,0),"") | CM52: =IFERROR(VLOOKUP(BE52,'18__mapping'!$A:$B,2,0),"") | CN52: =IFERROR(VLOOKUP(BG52,'19__mapping'!$A:$B,2,0),"") | CO52: =IFERROR(VLOOKUP(BI52,'20__mapping'!$A:$B,2,0),"") | CP52: =IFERROR(VLOOKUP(BK52,'21__mapping'!$A:$B,2,0),"") | CQ52: =IFERROR(VLOOKUP(BM52,'22__mapping'!$A:$B,2,0),"") | CR52: =IFERROR(VLOOKUP(BO52,'23__mapping'!$A:$B,2,0),"") | CS52: =IFERROR(VLOOKUP(BQ52,'24__mapping'!$A:$B,2,0),"")
A53: Create | BU53: =IFERROR(VLOOKUP(A53,'0__mapping'!$A:$B,2,0),"") -> CREATE | BV53: =IFERROR(VLOOKUP(C53,'1__mapping'!$A:$B,2,0),"") | BW53: =INDEX('2__mapping'!B2:'2__mapping'!B49,MATCH(BV53&D53, INDEX('2__mapping'!C2:C49&'2__mapping'!A2:A49,),0)) -> #N/A | BX53: =IFERROR(VLOOKUP(E53,'3__mapping'!$A:$B,2,0),"") | BY53: =IFERROR(VLOOKUP(F53,'4__mapping'!$A:$B,2,0),"") | BZ53: =IFERROR(VLOOKUP(H53,'5__mapping'!$A:$B,2,0),"") | CA53: =IFERROR(VLOOKUP(K53,'6__mapping'!$A:$B,2,0),"") | CB53: =IFERROR(VLOOKUP(N53,'7__mapping'!$A:$B,2,0),"") | CC53: =IFERROR(VLOOKUP(AB53,'8__mapping'!$A:$B,2,0),"") | CD53: =IFERROR(VLOOKUP(AD53,'9__mapping'!$A:$B,2,0),"") | CE53: =IFERROR(VLOOKUP(AG53,'10__mapping'!$A:$B,2,0),"") | CF53: =IFERROR(VLOOKUP(AL53,'11__mapping'!$A:$B,2,0),"") | CG53: =IFERROR(VLOOKUP(AR53,'12__mapping'!$A:$B,2,0),"") | CH53: =IFERROR(VLOOKUP(AU53,'13__mapping'!$A:$B,2,0),"") | CI53: =IFERROR(VLOOKUP(AW53,'14__mapping'!$A:$B,2,0),"") | CJ53: =IFERROR(VLOOKUP(AY53,'15__mapping'!$A:$B,2,0),"") | CK53: =IFERROR(VLOOKUP(BA53,'16__mapping'!$A:$B,2,0),"") | CL53: =IFERROR(VLOOKUP(BC53,'17__mapping'!$A:$B,2,0),"") | CM53: =IFERROR(VLOOKUP(BE53,'18__mapping'!$A:$B,2,0),"") | CN53: =IFERROR(VLOOKUP(BG53,'19__mapping'!$A:$B,2,0),"") | CO53: =IFERROR(VLOOKUP(BI53,'20__mapping'!$A:$B,2,0),"") | CP53: =IFERROR(VLOOKUP(BK53,'21__mapping'!$A:$B,2,0),"") | CQ53: =IFERROR(VLOOKUP(BM53,'22__mapping'!$A:$B,2,0),"") | CR53: =IFERROR(VLOOKUP(BO53,'23__mapping'!$A:$B,2,0),"") | CS53: =IFERROR(VLOOKUP(BQ53,'24__mapping'!$A:$B,2,0),"")
A54: Create | BU54: =IFERROR(VLOOKUP(A54,'0__mapping'!$A:$B,2,0),"") -> CREATE | BV54: =IFERROR(VLOOKUP(C54,'1__mapping'!$A:$B,2,0),"") | BW54: =INDEX('2__mapping'!B2:'2__mapping'!B49,MATCH(BV54&D54, INDEX('2__mapping'!C2:C49&'2__mapping'!A2:A49,),0)) -> #N/A | BX54: =IFERROR(VLOOKUP(E54,'3__mapping'!$A:$B,2,0),"") | BY54: =IFERROR(VLOOKUP(F54,'4__mapping'!$A:$B,2,0),"") | BZ54: =IFERROR(VLOOKUP(H54,'5__mapping'!$A:$B,2,0),"") | CA54: =IFERROR(VLOOKUP(K54,'6__mapping'!$A:$B,2,0),"") | CB54: =IFERROR(VLOOKUP(N54,'7__mapping'!$A:$B,2,0),"") | CC54: =IFERROR(VLOOKUP(AB54,'8__mapping'!$A:$B,2,0),"") | CD54: =IFERROR(VLOOKUP(AD54,'9__mapping'!$A:$B,2,0),"") | CE54: =IFERROR(VLOOKUP(AG54,'10__mapping'!$A:$B,2,0),"") | CF54: =IFERROR(VLOOKUP(AL54,'11__mapping'!$A:$B,2,0),"") | CG54: =IFERROR(VLOOKUP(AR54,'12__mapping'!$A:$B,2,0),"") | CH54: =IFERROR(VLOOKUP(AU54,'13__mapping'!$A:$B,2,0),"") | CI54: =IFERROR(VLOOKUP(AW54,'14__mapping'!$A:$B,2,0),"") | CJ54: =IFERROR(VLOOKUP(AY54,'15__mapping'!$A:$B,2,0),"") | CK54: =IFERROR(VLOOKUP(BA54,'16__mapping'!$A:$B,2,0),"") | CL54: =IFERROR(VLOOKUP(BC54,'17__mapping'!$A:$B,2,0),"") | CM54: =IFERROR(VLOOKUP(BE54,'18__mapping'!$A:$B,2,0),"") | CN54: =IFERROR(VLOOKUP(BG54,'19__mapping'!$A:$B,2,0),"") | CO54: =IFERROR(VLOOKUP(BI54,'20__mapping'!$A:$B,2,0),"") | CP54: =IFERROR(VLOOKUP(BK54,'21__mapping'!$A:$B,2,0),"") | CQ54: =IFERROR(VLOOKUP(BM54,'22__mapping'!$A:$B,2,0),"") | CR54: =IFERROR(VLOOKUP(BO54,'23__mapping'!$A:$B,2,0),"") | CS54: =IFERROR(VLOOKUP(BQ54,'24__mapping'!$A:$B,2,0),"")
A55: Create | BU55: =IFERROR(VLOOKUP(A55,'0__mapping'!$A:$B,2,0),"") -> CREATE | BV55: =IFERROR(VLOOKUP(C55,'1__mapping'!$A:$B,2,0),"") | BW55: =INDEX('2__mapping'!B2:'2__mapping'!B49,MATCH(BV55&D55, INDEX('2__mapping'!C2:C49&'2__mapping'!A2:A49,),0)) -> #N/A | BX55: =IFERROR(VLOOKUP(E55,'3__mapping'!$A:$B,2,0),"") | BY55: =IFERROR(VLOOKUP(F55,'4__mapping'!$A:$B,2,0),"") | BZ55: =IFERROR(VLOOKUP(H55,'5__mapping'!$A:$B,2,0),"") | CA55: =IFERROR(VLOOKUP(K55,'6__mapping'!$A:$B,2,0),"") | CB55: =IFERROR(VLOOKUP(N55,'7__mapping'!$A:$B,2,0),"") | CC55: =IFERROR(VLOOKUP(AB55,'8__mapping'!$A:$B,2,0),"") | CD55: =IFERROR(VLOOKUP(AD55,'9__mapping'!$A:$B,2,0),"") | CE55: =IFERROR(VLOOKUP(AG55,'10__mapping'!$A:$B,2,0),"") | CF55: =IFERROR(VLOOKUP(AL55,'11__mapping'!$A:$B,2,0),"") | CG55: =IFERROR(VLOOKUP(AR55,'12__mapping'!$A:$B,2,0),"") | CH55: =IFERROR(VLOOKUP(AU55,'13__mapping'!$A:$B,2,0),"") | CI55: =IFERROR(VLOOKUP(AW55,'14__mapping'!$A:$B,2,0),"") | CJ55: =IFERROR(VLOOKUP(AY55,'15__mapping'!$A:$B,2,0),"") | CK55: =IFERROR(VLOOKUP(BA55,'16__mapping'!$A:$B,2,0),"") | CL55: =IFERROR(VLOOKUP(BC55,'17__mapping'!$A:$B,2,0),"") | CM55: =IFERROR(VLOOKUP(BE55,'18__mapping'!$A:$B,2,0),"") | CN55: =IFERROR(VLOOKUP(BG55,'19__mapping'!$A:$B,2,0),"") | CO55: =IFERROR(VLOOKUP(BI55,'20__mapping'!$A:$B,2,0),"") | CP55: =IFERROR(VLOOKUP(BK55,'21__mapping'!$A:$B,2,0),"") | CQ55: =IFERROR(VLOOKUP(BM55,'22__mapping'!$A:$B,2,0),"") | CR55: =IFERROR(VLOOKUP(BO55,'23__mapping'!$A:$B,2,0),"") | CS55: =IFERROR(VLOOKUP(BQ55,'24__mapping'!$A:$B,2,0),"")
A56: Create | BU56: =IFERROR(VLOOKUP(A56,'0__mapping'!$A:$B,2,0),"") -> CREATE | BV56: =IFERROR(VLOOKUP(C56,'1__mapping'!$A:$B,2,0),"") | BW56: =INDEX('2__mapping'!B2:'2__mapping'!B49,MATCH(BV56&D56, INDEX('2__mapping'!C2:C49&'2__mapping'!A2:A49,),0)) -> #N/A | BX56: =IFERROR(VLOOKUP(E56,'3__mapping'!$A:$B,2,0),"") | BY56: =IFERROR(VLOOKUP(F56,'4__mapping'!$A:$B,2,0),"") | BZ56: =IFERROR(VLOOKUP(H56,'5__mapping'!$A:$B,2,0),"") | CA56: =IFERROR(VLOOKUP(K56,'6__mapping'!$A:$B,2,0),"") | CB56: =IFERROR(VLOOKUP(N56,'7__mapping'!$A:$B,2,0),"") | CC56: =IFERROR(VLOOKUP(AB56,'8__mapping'!$A:$B,2,0),"") | CD56: =IFERROR(VLOOKUP(AD56,'9__mapping'!$A:$B,2,0),"") | CE56: =IFERROR(VLOOKUP(AG56,'10__mapping'!$A:$B,2,0),"") | CF56: =IFERROR(VLOOKUP(AL56,'11__mapping'!$A:$B,2,0),"") | CG56: =IFERROR(VLOOKUP(AR56,'12__mapping'!$A:$B,2,0),"") | CH56: =IFERROR(VLOOKUP(AU56,'13__mapping'!$A:$B,2,0),"") | CI56: =IFERROR(VLOOKUP(AW56,'14__mapping'!$A:$B,2,0),"") | CJ56: =IFERROR(VLOOKUP(AY56,'15__mapping'!$A:$B,2,0),"") | CK56: =IFERROR(VLOOKUP(BA56,'16__mapping'!$A:$B,2,0),"") | CL56: =IFERROR(VLOOKUP(BC56,'17__mapping'!$A:$B,2,0),"") | CM56: =IFERROR(VLOOKUP(BE56,'18__mapping'!$A:$B,2,0),"") | CN56: =IFERROR(VLOOKUP(BG56,'19__mapping'!$A:$B,2,0),"") | CO56: =IFERROR(VLOOKUP(BI56,'20__mapping'!$A:$B,2,0),"") | CP56: =IFERROR(VLOOKUP(BK56,'21__mapping'!$A:$B,2,0),"") | CQ56: =IFERROR(VLOOKUP(BM56,'22__mapping'!$A:$B,2,0),"") | CR56: =IFERROR(VLOOKUP(BO56,'23__mapping'!$A:$B,2,0),"") | CS56: =IFERROR(VLOOKUP(BQ56,'24__mapping'!$A:$B,2,0),"")
A57: Create | BU57: =IFERROR(VLOOKUP(A57,'0__mapping'!$A:$B,2,0),"") -> CREATE | BV57: =IFERROR(VLOOKUP(C57,'1__mapping'!$A:$B,2,0),"") | BW57: =INDEX('2__mapping'!B2:'2__mapping'!B49,MATCH(BV57&D57, INDEX('2__mapping'!C2:C49&'2__mapping'!A2:A49,),0)) -> #N/A | BX57: =IFERROR(VLOOKUP(E57,'3__mapping'!$A:$B,2,0),"") | BY57: =IFERROR(VLOOKUP(F57,'4__mapping'!$A:$B,2,0),"") | BZ57: =IFERROR(VLOOKUP(H57,'5__mapping'!$A:$B,2,0),"") | CA57: =IFERROR(VLOOKUP(K57,'6__mapping'!$A:$B,2,0),"") | CB57: =IFERROR(VLOOKUP(N57,'7__mapping'!$A:$B,2,0),"") | CC57: =IFERROR(VLOOKUP(AB57,'8__mapping'!$A:$B,2,0),"") | CD57: =IFERROR(VLOOKUP(AD57,'9__mapping'!$A:$B,2,0),"") | CE57: =IFERROR(VLOOKUP(AG57,'10__mapping'!$A:$B,2,0),"") | CF57: =IFERROR(VLOOKUP(AL57,'11__mapping'!$A:$B,2,0),"") | CG57: =IFERROR(VLOOKUP(AR57,'12__mapping'!$A:$B,2,0),"") | CH57: =IFERROR(VLOOKUP(AU57,'13__mapping'!$A:$B,2,0),"") | CI57: =IFERROR(VLOOKUP(AW57,'14__mapping'!$A:$B,2,0),"") | CJ57: =IFERROR(VLOOKUP(AY57,'15__mapping'!$A:$B,2,0),"") | CK57: =IFERROR(VLOOKUP(BA57,'16__mapping'!$A:$B,2,0),"") | CL57: =IFERROR(VLOOKUP(BC57,'17__mapping'!$A:$B,2,0),"") | CM57: =IFERROR(VLOOKUP(BE57,'18__mapping'!$A:$B,2,0),"") | CN57: =IFERROR(VLOOKUP(BG57,'19__mapping'!$A:$B,2,0),"") | CO57: =IFERROR(VLOOKUP(BI57,'20__mapping'!$A:$B,2,0),"") | CP57: =IFERROR(VLOOKUP(BK57,'21__mapping'!$A:$B,2,0),"") | CQ57: =IFERROR(VLOOKUP(BM57,'22__mapping'!$A:$B,2,0),"") | CR57: =IFERROR(VLOOKUP(BO57,'23__mapping'!$A:$B,2,0),"") | CS57: =IFERROR(VLOOKUP(BQ57,'24__mapping'!$A:$B,2,0),"")
A58: Create | BU58: =IFERROR(VLOOKUP(A58,'0__mapping'!$A:$B,2,0),"") -> CREATE | BV58: =IFERROR(VLOOKUP(C58,'1__mapping'!$A:$B,2,0),"") | BW58: =INDEX('2__mapping'!B2:'2__mapping'!B49,MATCH(BV58&D58, INDEX('2__mapping'!C2:C49&'2__mapping'!A2:A49,),0)) -> #N/A | BX58: =IFERROR(VLOOKUP(E58,'3__mapping'!$A:$B,2,0),"") | BY58: =IFERROR(VLOOKUP(F58,'4__mapping'!$A:$B,2,0),"") | BZ58: =IFERROR(VLOOKUP(H58,'5__mapping'!$A:$B,2,0),"") | CA58: =IFERROR(VLOOKUP(K58,'6__mapping'!$A:$B,2,0),"") | CB58: =IFERROR(VLOOKUP(N58,'7__mapping'!$A:$B,2,0),"") | CC58: =IFERROR(VLOOKUP(AB58,'8__mapping'!$A:$B,2,0),"") | CD58: =IFERROR(VLOOKUP(AD58,'9__mapping'!$A:$B,2,0),"") | CE58: =IFERROR(VLOOKUP(AG58,'10__mapping'!$A:$B,2,0),"") | CF58: =IFERROR(VLOOKUP(AL58,'11__mapping'!$A:$B,2,0),"") | CG58: =IFERROR(VLOOKUP(AR58,'12__mapping'!$A:$B,2,0),"") | CH58: =IFERROR(VLOOKUP(AU58,'13__mapping'!$A:$B,2,0),"") | CI58: =IFERROR(VLOOKUP(AW58,'14__mapping'!$A:$B,2,0),"") | CJ58: =IFERROR(VLOOKUP(AY58,'15__mapping'!$A:$B,2,0),"") | CK58: =IFERROR(VLOOKUP(BA58,'16__mapping'!$A:$B,2,0),"") | CL58: =IFERROR(VLOOKUP(BC58,'17__mapping'!$A:$B,2,0),"") | CM58: =IFERROR(VLOOKUP(BE58,'18__mapping'!$A:$B,2,0),"") | CN58: =IFERROR(VLOOKUP(BG58,'19__mapping'!$A:$B,2,0),"") | CO58: =IFERROR(VLOOKUP(BI58,'20__mapping'!$A:$B,2,0),"") | CP58: =IFERROR(VLOOKUP(BK58,'21__mapping'!$A:$B,2,0),"") | CQ58: =IFERROR(VLOOKUP(BM58,'22__mapping'!$A:$B,2,0),"") | CR58: =IFERROR(VLOOKUP(BO58,'23__mapping'!$A:$B,2,0),"") | CS58: =IFERROR(VLOOKUP(BQ58,'24__mapping'!$A:$B,2,0),"")
A59: Create | BU59: =IFERROR(VLOOKUP(A59,'0__mapping'!$A:$B,2,0),"") -> CREATE | BV59: =IFERROR(VLOOKUP(C59,'1__mapping'!$A:$B,2,0),"") | BW59: =INDEX('2__mapping'!B2:'2__mapping'!B49,MATCH(BV59&D59, INDEX('2__mapping'!C2:C49&'2__mapping'!A2:A49,),0)) -> #N/A | BX59: =IFERROR(VLOOKUP(E59,'3__mapping'!$A:$B,2,0),"") | BY59: =IFERROR(VLOOKUP(F59,'4__mapping'!$A:$B,2,0),"") | BZ59: =IFERROR(VLOOKUP(H59,'5__mapping'!$A:$B,2,0),"") | CA59: =IFERROR(VLOOKUP(K59,'6__mapping'!$A:$B,2,0),"") | CB59: =IFERROR(VLOOKUP(N59,'7__mapping'!$A:$B,2,0),"") | CC59: =IFERROR(VLOOKUP(AB59,'8__mapping'!$A:$B,2,0),"") | CD59: =IFERROR(VLOOKUP(AD59,'9__mapping'!$A:$B,2,0),"") | CE59: =IFERROR(VLOOKUP(AG59,'10__mapping'!$A:$B,2,0),"") | CF59: =IFERROR(VLOOKUP(AL59,'11__mapping'!$A:$B,2,0),"") | CG59: =IFERROR(VLOOKUP(AR59,'12__mapping'!$A:$B,2,0),"") | CH59: =IFERROR(VLOOKUP(AU59,'13__mapping'!$A:$B,2,0),"") | CI59: =IFERROR(VLOOKUP(AW59,'14__mapping'!$A:$B,2,0),"") | CJ59: =IFERROR(VLOOKUP(AY59,'15__mapping'!$A:$B,2,0),"") | CK59: =IFERROR(VLOOKUP(BA59,'16__mapping'!$A:$B,2,0),"") | CL59: =IFERROR(VLOOKUP(BC59,'17__mapping'!$A:$B,2,0),"") | CM59: =IFERROR(VLOOKUP(BE59,'18__mapping'!$A:$B,2,0),"") | CN59: =IFERROR(VLOOKUP(BG59,'19__mapping'!$A:$B,2,0),"") | CO59: =IFERROR(VLOOKUP(BI59,'20__mapping'!$A:$B,2,0),"") | CP59: =IFERROR(VLOOKUP(BK59,'21__mapping'!$A:$B,2,0),"") | CQ59: =IFERROR(VLOOKUP(BM59,'22__mapping'!$A:$B,2,0),"") | CR59: =IFERROR(VLOOKUP(BO59,'23__mapping'!$A:$B,2,0),"") | CS59: =IFERROR(VLOOKUP(BQ59,'24__mapping'!$A:$B,2,0),"")
A60: Create | BU60: =IFERROR(VLOOKUP(A60,'0__mapping'!$A:$B,2,0),"") -> CREATE | BV60: =IFERROR(VLOOKUP(C60,'1__mapping'!$A:$B,2,0),"") | BW60: =INDEX('2__mapping'!B2:'2__mapping'!B49,MATCH(BV60&D60, INDEX('2__mapping'!C2:C49&'2__mapping'!A2:A49,),0)) -> #N/A | BX60: =IFERROR(VLOOKUP(E60,'3__mapping'!$A:$B,2,0),"") | BY60: =IFERROR(VLOOKUP(F60,'4__mapping'!$A:$B,2,0),"") | BZ60: =IFERROR(VLOOKUP(H60,'5__mapping'!$A:$B,2,0),"") | CA60: =IFERROR(VLOOKUP(K60,'6__mapping'!$A:$B,2,0),"") | CB60: =IFERROR(VLOOKUP(N60,'7__mapping'!$A:$B,2,0),"") | CC60: =IFERROR(VLOOKUP(AB60,'8__mapping'!$A:$B,2,0),"") | CD60: =IFERROR(VLOOKUP(AD60,'9__mapping'!$A:$B,2,0),"") | CE60: =IFERROR(VLOOKUP(AG60,'10__mapping'!$A:$B,2,0),"") | CF60: =IFERROR(VLOOKUP(AL60,'11__mapping'!$A:$B,2,0),"") | CG60: =IFERROR(VLOOKUP(AR60,'12__mapping'!$A:$B,2,0),"") | CH60: =IFERROR(VLOOKUP(AU60,'13__mapping'!$A:$B,2,0),"") | CI60: =IFERROR(VLOOKUP(AW60,'14__mapping'!$A:$B,2,0),"") | CJ60: =IFERROR(VLOOKUP(AY60,'15__mapping'!$A:$B,2,0),"") | CK60: =IFERROR(VLOOKUP(BA60,'16__mapping'!$A:$B,2,0),"") | CL60: =IFERROR(VLOOKUP(BC60,'17__mapping'!$A:$B,2,0),"") | CM60: =IFERROR(VLOOKUP(BE60,'18__mapping'!$A:$B,2,0),"") | CN60: =IFERROR(VLOOKUP(BG60,'19__mapping'!$A:$B,2,0),"") | CO60: =IFERROR(VLOOKUP(BI60,'20__mapping'!$A:$B,2,0),"") | CP60: =IFERROR(VLOOKUP(BK60,'21__mapping'!$A:$B,2,0),"") | CQ60: =IFERROR(VLOOKUP(BM60,'22__mapping'!$A:$B,2,0),"") | CR60: =IFERROR(VLOOKUP(BO60,'23__mapping'!$A:$B,2,0),"") | CS60: =IFERROR(VLOOKUP(BQ60,'24__mapping'!$A:$B,2,0),"")
A61: Create | BU61: =IFERROR(VLOOKUP(A61,'0__mapping'!$A:$B,2,0),"") -> CREATE | BV61: =IFERROR(VLOOKUP(C61,'1__mapping'!$A:$B,2,0),"") | BW61: =INDEX('2__mapping'!B2:'2__mapping'!B49,MATCH(BV61&D61, INDEX('2__mapping'!C2:C49&'2__mapping'!A2:A49,),0)) -> #N/A | BX61: =IFERROR(VLOOKUP(E61,'3__mapping'!$A:$B,2,0),"") | BY61: =IFERROR(VLOOKUP(F61,'4__mapping'!$A:$B,2,0),"") | BZ61: =IFERROR(VLOOKUP(H61,'5__mapping'!$A:$B,2,0),"") | CA61: =IFERROR(VLOOKUP(K61,'6__mapping'!$A:$B,2,0),"") | CB61: =IFERROR(VLOOKUP(N61,'7__mapping'!$A:$B,2,0),"") | CC61: =IFERROR(VLOOKUP(AB61,'8__mapping'!$A:$B,2,0),"") | CD61: =IFERROR(VLOOKUP(AD61,'9__mapping'!$A:$B,2,0),"") | CE61: =IFERROR(VLOOKUP(AG61,'10__mapping'!$A:$B,2,0),"") | CF61: =IFERROR(VLOOKUP(AL61,'11__mapping'!$A:$B,2,0),"") | CG61: =IFERROR(VLOOKUP(AR61,'12__mapping'!$A:$B,2,0),"") | CH61: =IFERROR(VLOOKUP(AU61,'13__mapping'!$A:$B,2,0),"") | CI61: =IFERROR(VLOOKUP(AW61,'14__mapping'!$A:$B,2,0),"") | CJ61: =IFERROR(VLOOKUP(AY61,'15__mapping'!$A:$B,2,0),"") | CK61: =IFERROR(VLOOKUP(BA61,'16__mapping'!$A:$B,2,0),"") | CL61: =IFERROR(VLOOKUP(BC61,'17__mapping'!$A:$B,2,0),"") | CM61: =IFERROR(VLOOKUP(BE61,'18__mapping'!$A:$B,2,0),"") | CN61: =IFERROR(VLOOKUP(BG61,'19__mapping'!$A:$B,2,0),"") | CO61: =IFERROR(VLOOKUP(BI61,'20__mapping'!$A:$B,2,0),"") | CP61: =IFERROR(VLOOKUP(BK61,'21__mapping'!$A:$B,2,0),"") | CQ61: =IFERROR(VLOOKUP(BM61,'22__mapping'!$A:$B,2,0),"") | CR61: =IFERROR(VLOOKUP(BO61,'23__mapping'!$A:$B,2,0),"") | CS61: =IFERROR(VLOOKUP(BQ61,'24__mapping'!$A:$B,2,0),"")
A62: Create | BU62: =IFERROR(VLOOKUP(A62,'0__mapping'!$A:$B,2,0),"") -> CREATE | BV62: =IFERROR(VLOOKUP(C62,'1__mapping'!$A:$B,2,0),"") | BW62: =INDEX('2__mapping'!B2:'2__mapping'!B49,MATCH(BV62&D62, INDEX('2__mapping'!C2:C49&'2__mapping'!A2:A49,),0)) -> #N/A | BX62: =IFERROR(VLOOKUP(E62,'3__mapping'!$A:$B,2,0),"") | BY62: =IFERROR(VLOOKUP(F62,'4__mapping'!$A:$B,2,0),"") | BZ62: =IFERROR(VLOOKUP(H62,'5__mapping'!$A:$B,2,0),"") | CA62: =IFERROR(VLOOKUP(K62,'6__mapping'!$A:$B,2,0),"") | CB62: =IFERROR(VLOOKUP(N62,'7__mapping'!$A:$B,2,0),"") | CC62: =IFERROR(VLOOKUP(AB62,'8__mapping'!$A:$B,2,0),"") | CD62: =IFERROR(VLOOKUP(AD62,'9__mapping'!$A:$B,2,0),"") | CE62: =IFERROR(VLOOKUP(AG62,'10__mapping'!$A:$B,2,0),"") | CF62: =IFERROR(VLOOKUP(AL62,'11__mapping'!$A:$B,2,0),"") | CG62: =IFERROR(VLOOKUP(AR62,'12__mapping'!$A:$B,2,0),"") | CH62: =IFERROR(VLOOKUP(AU62,'13__mapping'!$A:$B,2,0),"") | CI62: =IFERROR(VLOOKUP(AW62,'14__mapping'!$A:$B,2,0),"") | CJ62: =IFERROR(VLOOKUP(AY62,'15__mapping'!$A:$B,2,0),"") | CK62: =IFERROR(VLOOKUP(BA62,'16__mapping'!$A:$B,2,0),"") | CL62: =IFERROR(VLOOKUP(BC62,'17__mapping'!$A:$B,2,0),"") | CM62: =IFERROR(VLOOKUP(BE62,'18__mapping'!$A:$B,2,0),"") | CN62: =IFERROR(VLOOKUP(BG62,'19__mapping'!$A:$B,2,0),"") | CO62: =IFERROR(VLOOKUP(BI62,'20__mapping'!$A:$B,2,0),"") | CP62: =IFERROR(VLOOKUP(BK62,'21__mapping'!$A:$B,2,0),"") | CQ62: =IFERROR(VLOOKUP(BM62,'22__mapping'!$A:$B,2,0),"") | CR62: =IFERROR(VLOOKUP(BO62,'23__mapping'!$A:$B,2,0),"") | CS62: =IFERROR(VLOOKUP(BQ62,'24__mapping'!$A:$B,2,0),"")
A63: Create | BU63: =IFERROR(VLOOKUP(A63,'0__mapping'!$A:$B,2,0),"") -> CREATE | BV63: =IFERROR(VLOOKUP(C63,'1__mapping'!$A:$B,2,0),"") | BW63: =INDEX('2__mapping'!B2:'2__mapping'!B49,MATCH(BV63&D63, INDEX('2__mapping'!C2:C49&'2__mapping'!A2:A49,),0)) -> #N/A | BX63: =IFERROR(VLOOKUP(E63,'3__mapping'!$A:$B,2,0),"") | BY63: =IFERROR(VLOOKUP(F63,'4__mapping'!$A:$B,2,0),"") | BZ63: =IFERROR(VLOOKUP(H63,'5__mapping'!$A:$B,2,0),"") | CA63: =IFERROR(VLOOKUP(K63,'6__mapping'!$A:$B,2,0),"") | CB63: =IFERROR(VLOOKUP(N63,'7__mapping'!$A:$B,2,0),"") | CC63: =IFERROR(VLOOKUP(AB63,'8__mapping'!$A:$B,2,0),"") | CD63: =IFERROR(VLOOKUP(AD63,'9__mapping'!$A:$B,2,0),"") | CE63: =IFERROR(VLOOKUP(AG63,'10__mapping'!$A:$B,2,0),"") | CF63: =IFERROR(VLOOKUP(AL63,'11__mapping'!$A:$B,2,0),"") | CG63: =IFERROR(VLOOKUP(AR63,'12__mapping'!$A:$B,2,0),"") | CH63: =IFERROR(VLOOKUP(AU63,'13__mapping'!$A:$B,2,0),"") | CI63: =IFERROR(VLOOKUP(AW63,'14__mapping'!$A:$B,2,0),"") | CJ63: =IFERROR(VLOOKUP(AY63,'15__mapping'!$A:$B,2,0),"") | CK63: =IFERROR(VLOOKUP(BA63,'16__mapping'!$A:$B,2,0),"") | CL63: =IFERROR(VLOOKUP(BC63,'17__mapping'!$A:$B,2,0),"") | CM63: =IFERROR(VLOOKUP(BE63,'18__mapping'!$A:$B,2,0),"") | CN63: =IFERROR(VLOOKUP(BG63,'19__mapping'!$A:$B,2,0),"") | CO63: =IFERROR(VLOOKUP(BI63,'20__mapping'!$A:$B,2,0),"") | CP63: =IFERROR(VLOOKUP(BK63,'21__mapping'!$A:$B,2,0),"") | CQ63: =IFERROR(VLOOKUP(BM63,'22__mapping'!$A:$B,2,0),"") | CR63: =IFERROR(VLOOKUP(BO63,'23__mapping'!$A:$B,2,0),"") | CS63: =IFERROR(VLOOKUP(BQ63,'24__mapping'!$A:$B,2,0),"")
A64: Create | BU64: =IFERROR(VLOOKUP(A64,'0__mapping'!$A:$B,2,0),"") -> CREATE | BV64: =IFERROR(VLOOKUP(C64,'1__mapping'!$A:$B,2,0),"") | BW64: =INDEX('2__mapping'!B2:'2__mapping'!B49,MATCH(BV64&D64, INDEX('2__mapping'!C2:C49&'2__mapping'!A2:A49,),0)) -> #N/A | BX64: =IFERROR(VLOOKUP(E64,'3__mapping'!$A:$B,2,0),"") | BY64: =IFERROR(VLOOKUP(F64,'4__mapping'!$A:$B,2,0),"") | BZ64: =IFERROR(VLOOKUP(H64,'5__mapping'!$A:$B,2,0),"") | CA64: =IFERROR(VLOOKUP(K64,'6__mapping'!$A:$B,2,0),"") | CB64: =IFERROR(VLOOKUP(N64,'7__mapping'!$A:$B,2,0),"") | CC64: =IFERROR(VLOOKUP(AB64,'8__mapping'!$A:$B,2,0),"") | CD64: =IFERROR(VLOOKUP(AD64,'9__mapping'!$A:$B,2,0),"") | CE64: =IFERROR(VLOOKUP(AG64,'10__mapping'!$A:$B,2,0),"") | CF64: =IFERROR(VLOOKUP(AL64,'11__mapping'!$A:$B,2,0),"") | CG64: =IFERROR(VLOOKUP(AR64,'12__mapping'!$A:$B,2,0),"") | CH64: =IFERROR(VLOOKUP(AU64,'13__mapping'!$A:$B,2,0),"") | CI64: =IFERROR(VLOOKUP(AW64,'14__mapping'!$A:$B,2,0),"") | CJ64: =IFERROR(VLOOKUP(AY64,'15__mapping'!$A:$B,2,0),"") | CK64: =IFERROR(VLOOKUP(BA64,'16__mapping'!$A:$B,2,0),"") | CL64: =IFERROR(VLOOKUP(BC64,'17__mapping'!$A:$B,2,0),"") | CM64: =IFERROR(VLOOKUP(BE64,'18__mapping'!$A:$B,2,0),"") | CN64: =IFERROR(VLOOKUP(BG64,'19__mapping'!$A:$B,2,0),"") | CO64: =IFERROR(VLOOKUP(BI64,'20__mapping'!$A:$B,2,0),"") | CP64: =IFERROR(VLOOKUP(BK64,'21__mapping'!$A:$B,2,0),"") | CQ64: =IFERROR(VLOOKUP(BM64,'22__mapping'!$A:$B,2,0),"") | CR64: =IFERROR(VLOOKUP(BO64,'23__mapping'!$A:$B,2,0),"") | CS64: =IFERROR(VLOOKUP(BQ64,'24__mapping'!$A:$B,2,0),"")
A65: Create | BU65: =IFERROR(VLOOKUP(A65,'0__mapping'!$A:$B,2,0),"") -> CREATE | BV65: =IFERROR(VLOOKUP(C65,'1__mapping'!$A:$B,2,0),"") | BW65: =INDEX('2__mapping'!B2:'2__mapping'!B49,MATCH(BV65&D65, INDEX('2__mapping'!C2:C49&'2__mapping'!A2:A49,),0)) -> #N/A | BX65: =IFERROR(VLOOKUP(E65,'3__mapping'!$A:$B,2,0),"") | BY65: =IFERROR(VLOOKUP(F65,'4__mapping'!$A:$B,2,0),"") | BZ65: =IFERROR(VLOOKUP(H65,'5__mapping'!$A:$B,2,0),"") | CA65: =IFERROR(VLOOKUP(K65,'6__mapping'!$A:$B,2,0),"") | CB65: =IFERROR(VLOOKUP(N65,'7__mapping'!$A:$B,2,0),"") | CC65: =IFERROR(VLOOKUP(AB65,'8__mapping'!$A:$B,2,0),"") | CD65: =IFERROR(VLOOKUP(AD65,'9__mapping'!$A:$B,2,0),"") | CE65: =IFERROR(VLOOKUP(AG65,'10__mapping'!$A:$B,2,0),"") | CF65: =IFERROR(VLOOKUP(AL65,'11__mapping'!$A:$B,2,0),"") | CG65: =IFERROR(VLOOKUP(AR65,'12__mapping'!$A:$B,2,0),"") | CH65: =IFERROR(VLOOKUP(AU65,'13__mapping'!$A:$B,2,0),"") | CI65: =IFERROR(VLOOKUP(AW65,'14__mapping'!$A:$B,2,0),"") | CJ65: =IFERROR(VLOOKUP(AY65,'15__mapping'!$A:$B,2,0),"") | CK65: =IFERROR(VLOOKUP(BA65,'16__mapping'!$A:$B,2,0),"") | CL65: =IFERROR(VLOOKUP(BC65,'17__mapping'!$A:$B,2,0),"") | CM65: =IFERROR(VLOOKUP(BE65,'18__mapping'!$A:$B,2,0),"") | CN65: =IFERROR(VLOOKUP(BG65,'19__mapping'!$A:$B,2,0),"") | CO65: =IFERROR(VLOOKUP(BI65,'20__mapping'!$A:$B,2,0),"") | CP65: =IFERROR(VLOOKUP(BK65,'21__mapping'!$A:$B,2,0),"") | CQ65: =IFERROR(VLOOKUP(BM65,'22__mapping'!$A:$B,2,0),"") | CR65: =IFERROR(VLOOKUP(BO65,'23__mapping'!$A:$B,2,0),"") | CS65: =IFERROR(VLOOKUP(BQ65,'24__mapping'!$A:$B,2,0),"")
A66: Create | BU66: =IFERROR(VLOOKUP(A66,'0__mapping'!$A:$B,2,0),"") -> CREATE | BV66: =IFERROR(VLOOKUP(C66,'1__mapping'!$A:$B,2,0),"") | BW66: =INDEX('2__mapping'!B2:'2__mapping'!B49,MATCH(BV66&D66, INDEX('2__mapping'!C2:C49&'2__mapping'!A2:A49,),0)) -> #N/A | BX66: =IFERROR(VLOOKUP(E66,'3__mapping'!$A:$B,2,0),"") | BY66: =IFERROR(VLOOKUP(F66,'4__mapping'!$A:$B,2,0),"") | BZ66: =IFERROR(VLOOKUP(H66,'5__mapping'!$A:$B,2,0),"") | CA66: =IFERROR(VLOOKUP(K66,'6__mapping'!$A:$B,2,0),"") | CB66: =IFERROR(VLOOKUP(N66,'7__mapping'!$A:$B,2,0),"") | CC66: =IFERROR(VLOOKUP(AB66,'8__mapping'!$A:$B,2,0),"") | CD66: =IFERROR(VLOOKUP(AD66,'9__mapping'!$A:$B,2,0),"") | CE66: =IFERROR(VLOOKUP(AG66,'10__mapping'!$A:$B,2,0),"") | CF66: =IFERROR(VLOOKUP(AL66,'11__mapping'!$A:$B,2,0),"") | CG66: =IFERROR(VLOOKUP(AR66,'12__mapping'!$A:$B,2,0),"") | CH66: =IFERROR(VLOOKUP(AU66,'13__mapping'!$A:$B,2,0),"") | CI66: =IFERROR(VLOOKUP(AW66,'14__mapping'!$A:$B,2,0),"") | CJ66: =IFERROR(VLOOKUP(AY66,'15__mapping'!$A:$B,2,0),"") | CK66: =IFERROR(VLOOKUP(BA66,'16__mapping'!$A:$B,2,0),"") | CL66: =IFERROR(VLOOKUP(BC66,'17__mapping'!$A:$B,2,0),"") | CM66: =IFERROR(VLOOKUP(BE66,'18__mapping'!$A:$B,2,0),"") | CN66: =IFERROR(VLOOKUP(BG66,'19__mapping'!$A:$B,2,0),"") | CO66: =IFERROR(VLOOKUP(BI66,'20__mapping'!$A:$B,2,0),"") | CP66: =IFERROR(VLOOKUP(BK66,'21__mapping'!$A:$B,2,0),"") | CQ66: =IFERROR(VLOOKUP(BM66,'22__mapping'!$A:$B,2,0),"") | CR66: =IFERROR(VLOOKUP(BO66,'23__mapping'!$A:$B,2,0),"") | CS66: =IFERROR(VLOOKUP(BQ66,'24__mapping'!$A:$B,2,0),"")
A67: Create | BU67: =IFERROR(VLOOKUP(A67,'0__mapping'!$A:$B,2,0),"") -> CREATE | BV67: =IFERROR(VLOOKUP(C67,'1__mapping'!$A:$B,2,0),"") | BW67: =INDEX('2__mapping'!B2:'2__mapping'!B49,MATCH(BV67&D67, INDEX('2__mapping'!C2:C49&'2__mapping'!A2:A49,),0)) -> #N/A | BX67: =IFERROR(VLOOKUP(E67,'3__mapping'!$A:$B,2,0),"") | BY67: =IFERROR(VLOOKUP(F67,'4__mapping'!$A:$B,2,0),"") | BZ67: =IFERROR(VLOOKUP(H67,'5__mapping'!$A:$B,2,0),"") | CA67: =IFERROR(VLOOKUP(K67,'6__mapping'!$A:$B,2,0),"") | CB67: =IFERROR(VLOOKUP(N67,'7__mapping'!$A:$B,2,0),"") | CC67: =IFERROR(VLOOKUP(AB67,'8__mapping'!$A:$B,2,0),"") | CD67: =IFERROR(VLOOKUP(AD67,'9__mapping'!$A:$B,2,0),"") | CE67: =IFERROR(VLOOKUP(AG67,'10__mapping'!$A:$B,2,0),"") | CF67: =IFERROR(VLOOKUP(AL67,'11__mapping'!$A:$B,2,0),"") | CG67: =IFERROR(VLOOKUP(AR67,'12__mapping'!$A:$B,2,0),"") | CH67: =IFERROR(VLOOKUP(AU67,'13__mapping'!$A:$B,2,0),"") | CI67: =IFERROR(VLOOKUP(AW67,'14__mapping'!$A:$B,2,0),"") | CJ67: =IFERROR(VLOOKUP(AY67,'15__mapping'!$A:$B,2,0),"") | CK67: =IFERROR(VLOOKUP(BA67,'16__mapping'!$A:$B,2,0),"") | CL67: =IFERROR(VLOOKUP(BC67,'17__mapping'!$A:$B,2,0),"") | CM67: =IFERROR(VLOOKUP(BE67,'18__mapping'!$A:$B,2,0),"") | CN67: =IFERROR(VLOOKUP(BG67,'19__mapping'!$A:$B,2,0),"") | CO67: =IFERROR(VLOOKUP(BI67,'20__mapping'!$A:$B,2,0),"") | CP67: =IFERROR(VLOOKUP(BK67,'21__mapping'!$A:$B,2,0),"") | CQ67: =IFERROR(VLOOKUP(BM67,'22__mapping'!$A:$B,2,0),"") | CR67: =IFERROR(VLOOKUP(BO67,'23__mapping'!$A:$B,2,0),"") | CS67: =IFERROR(VLOOKUP(BQ67,'24__mapping'!$A:$B,2,0),"")
A68: Create | BU68: =IFERROR(VLOOKUP(A68,'0__mapping'!$A:$B,2,0),"") -> CREATE | BV68: =IFERROR(VLOOKUP(C68,'1__mapping'!$A:$B,2,0),"") | BW68: =INDEX('2__mapping'!B2:'2__mapping'!B49,MATCH(BV68&D68, INDEX('2__mapping'!C2:C49&'2__mapping'!A2:A49,),0)) -> #N/A | BX68: =IFERROR(VLOOKUP(E68,'3__mapping'!$A:$B,2,0),"") | BY68: =IFERROR(VLOOKUP(F68,'4__mapping'!$A:$B,2,0),"") | BZ68: =IFERROR(VLOOKUP(H68,'5__mapping'!$A:$B,2,0),"") | CA68: =IFERROR(VLOOKUP(K68,'6__mapping'!$A:$B,2,0),"") | CB68: =IFERROR(VLOOKUP(N68,'7__mapping'!$A:$B,2,0),"") | CC68: =IFERROR(VLOOKUP(AB68,'8__mapping'!$A:$B,2,0),"") | CD68: =IFERROR(VLOOKUP(AD68,'9__mapping'!$A:$B,2,0),"") | CE68: =IFERROR(VLOOKUP(AG68,'10__mapping'!$A:$B,2,0),"") | CF68: =IFERROR(VLOOKUP(AL68,'11__mapping'!$A:$B,2,0),"") | CG68: =IFERROR(VLOOKUP(AR68,'12__mapping'!$A:$B,2,0),"") | CH68: =IFERROR(VLOOKUP(AU68,'13__mapping'!$A:$B,2,0),"") | CI68: =IFERROR(VLOOKUP(AW68,'14__mapping'!$A:$B,2,0),"") | CJ68: =IFERROR(VLOOKUP(AY68,'15__mapping'!$A:$B,2,0),"") | CK68: =IFERROR(VLOOKUP(BA68,'16__mapping'!$A:$B,2,0),"") | CL68: =IFERROR(VLOOKUP(BC68,'17__mapping'!$A:$B,2,0),"") | CM68: =IFERROR(VLOOKUP(BE68,'18__mapping'!$A:$B,2,0),"") | CN68: =IFERROR(VLOOKUP(BG68,'19__mapping'!$A:$B,2,0),"") | CO68: =IFERROR(VLOOKUP(BI68,'20__mapping'!$A:$B,2,0),"") | CP68: =IFERROR(VLOOKUP(BK68,'21__mapping'!$A:$B,2,0),"") | CQ68: =IFERROR(VLOOKUP(BM68,'22__mapping'!$A:$B,2,0),"") | CR68: =IFERROR(VLOOKUP(BO68,'23__mapping'!$A:$B,2,0),"") | CS68: =IFERROR(VLOOKUP(BQ68,'24__mapping'!$A:$B,2,0),"")
A69: Create | BU69: =IFERROR(VLOOKUP(A69,'0__mapping'!$A:$B,2,0),"") -> CREATE | BV69: =IFERROR(VLOOKUP(C69,'1__mapping'!$A:$B,2,0),"") | BW69: =INDEX('2__mapping'!B2:'2__mapping'!B49,MATCH(BV69&D69, INDEX('2__mapping'!C2:C49&'2__mapping'!A2:A49,),0)) -> #N/A | BX69: =IFERROR(VLOOKUP(E69,'3__mapping'!$A:$B,2,0),"") | BY69: =IFERROR(VLOOKUP(F69,'4__mapping'!$A:$B,2,0),"") | BZ69: =IFERROR(VLOOKUP(H69,'5__mapping'!$A:$B,2,0),"") | CA69: =IFERROR(VLOOKUP(K69,'6__mapping'!$A:$B,2,0),"") | CB69: =IFERROR(VLOOKUP(N69,'7__mapping'!$A:$B,2,0),"") | CC69: =IFERROR(VLOOKUP(AB69,'8__mapping'!$A:$B,2,0),"") | CD69: =IFERROR(VLOOKUP(AD69,'9__mapping'!$A:$B,2,0),"") | CE69: =IFERROR(VLOOKUP(AG69,'10__mapping'!$A:$B,2,0),"") | CF69: =IFERROR(VLOOKUP(AL69,'11__mapping'!$A:$B,2,0),"") | CG69: =IFERROR(VLOOKUP(AR69,'12__mapping'!$A:$B,2,0),"") | CH69: =IFERROR(VLOOKUP(AU69,'13__mapping'!$A:$B,2,0),"") | CI69: =IFERROR(VLOOKUP(AW69,'14__mapping'!$A:$B,2,0),"") | CJ69: =IFERROR(VLOOKUP(AY69,'15__mapping'!$A:$B,2,0),"") | CK69: =IFERROR(VLOOKUP(BA69,'16__mapping'!$A:$B,2,0),"") | CL69: =IFERROR(VLOOKUP(BC69,'17__mapping'!$A:$B,2,0),"") | CM69: =IFERROR(VLOOKUP(BE69,'18__mapping'!$A:$B,2,0),"") | CN69: =IFERROR(VLOOKUP(BG69,'19__mapping'!$A:$B,2,0),"") | CO69: =IFERROR(VLOOKUP(BI69,'20__mapping'!$A:$B,2,0),"") | CP69: =IFERROR(VLOOKUP(BK69,'21__mapping'!$A:$B,2,0),"") | CQ69: =IFERROR(VLOOKUP(BM69,'22__mapping'!$A:$B,2,0),"") | CR69: =IFERROR(VLOOKUP(BO69,'23__mapping'!$A:$B,2,0),"") | CS69: =IFERROR(VLOOKUP(BQ69,'24__mapping'!$A:$B,2,0),"")
A70: Create | BU70: =IFERROR(VLOOKUP(A70,'0__mapping'!$A:$B,2,0),"") -> CREATE | BV70: =IFERROR(VLOOKUP(C70,'1__mapping'!$A:$B,2,0),"") | BW70: =INDEX('2__mapping'!B2:'2__mapping'!B49,MATCH(BV70&D70, INDEX('2__mapping'!C2:C49&'2__mapping'!A2:A49,),0)) -> #N/A | BX70: =IFERROR(VLOOKUP(E70,'3__mapping'!$A:$B,2,0),"") | BY70: =IFERROR(VLOOKUP(F70,'4__mapping'!$A:$B,2,0),"") | BZ70: =IFERROR(VLOOKUP(H70,'5__mapping'!$A:$B,2,0),"") | CA70: =IFERROR(VLOOKUP(K70,'6__mapping'!$A:$B,2,0),"") | CB70: =IFERROR(VLOOKUP(N70,'7__mapping'!$A:$B,2,0),"") | CC70: =IFERROR(VLOOKUP(AB70,'8__mapping'!$A:$B,2,0),"") | CD70: =IFERROR(VLOOKUP(AD70,'9__mapping'!$A:$B,2,0),"") | CE70: =IFERROR(VLOOKUP(AG70,'10__mapping'!$A:$B,2,0),"") | CF70: =IFERROR(VLOOKUP(AL70,'11__mapping'!$A:$B,2,0),"") | CG70: =IFERROR(VLOOKUP(AR70,'12__mapping'!$A:$B,2,0),"") | CH70: =IFERROR(VLOOKUP(AU70,'13__mapping'!$A:$B,2,0),"") | CI70: =IFERROR(VLOOKUP(AW70,'14__mapping'!$A:$B,2,0),"") | CJ70: =IFERROR(VLOOKUP(AY70,'15__mapping'!$A:$B,2,0),"") | CK70: =IFERROR(VLOOKUP(BA70,'16__mapping'!$A:$B,2,0),"") | CL70: =IFERROR(VLOOKUP(BC70,'17__mapping'!$A:$B,2,0),"") | CM70: =IFERROR(VLOOKUP(BE70,'18__mapping'!$A:$B,2,0),"") | CN70: =IFERROR(VLOOKUP(BG70,'19__mapping'!$A:$B,2,0),"") | CO70: =IFERROR(VLOOKUP(BI70,'20__mapping'!$A:$B,2,0),"") | CP70: =IFERROR(VLOOKUP(BK70,'21__mapping'!$A:$B,2,0),"") | CQ70: =IFERROR(VLOOKUP(BM70,'22__mapping'!$A:$B,2,0),"") | CR70: =IFERROR(VLOOKUP(BO70,'23__mapping'!$A:$B,2,0),"") | CS70: =IFERROR(VLOOKUP(BQ70,'24__mapping'!$A:$B,2,0),"")
A71: Create | BU71: =IFERROR(VLOOKUP(A71,'0__mapping'!$A:$B,2,0),"") -> CREATE | BV71: =IFERROR(VLOOKUP(C71,'1__mapping'!$A:$B,2,0),"") | BW71: =INDEX('2__mapping'!B2:'2__mapping'!B49,MATCH(BV71&D71, INDEX('2__mapping'!C2:C49&'2__mapping'!A2:A49,),0)) -> #N/A | BX71: =IFERROR(VLOOKUP(E71,'3__mapping'!$A:$B,2,0),"") | BY71: =IFERROR(VLOOKUP(F71,'4__mapping'!$A:$B,2,0),"") | BZ71: =IFERROR(VLOOKUP(H71,'5__mapping'!$A:$B,2,0),"") | CA71: =IFERROR(VLOOKUP(K71,'6__mapping'!$A:$B,2,0),"") | CB71: =IFERROR(VLOOKUP(N71,'7__mapping'!$A:$B,2,0),"") | CC71: =IFERROR(VLOOKUP(AB71,'8__mapping'!$A:$B,2,0),"") | CD71: =IFERROR(VLOOKUP(AD71,'9__mapping'!$A:$B,2,0),"") | CE71: =IFERROR(VLOOKUP(AG71,'10__mapping'!$A:$B,2,0),"") | CF71: =IFERROR(VLOOKUP(AL71,'11__mapping'!$A:$B,2,0),"") | CG71: =IFERROR(VLOOKUP(AR71,'12__mapping'!$A:$B,2,0),"") | CH71: =IFERROR(VLOOKUP(AU71,'13__mapping'!$A:$B,2,0),"") | CI71: =IFERROR(VLOOKUP(AW71,'14__mapping'!$A:$B,2,0),"") | CJ71: =IFERROR(VLOOKUP(AY71,'15__mapping'!$A:$B,2,0),"") | CK71: =IFERROR(VLOOKUP(BA71,'16__mapping'!$A:$B,2,0),"") | CL71: =IFERROR(VLOOKUP(BC71,'17__mapping'!$A:$B,2,0),"") | CM71: =IFERROR(VLOOKUP(BE71,'18__mapping'!$A:$B,2,0),"") | CN71: =IFERROR(VLOOKUP(BG71,'19__mapping'!$A:$B,2,0),"") | CO71: =IFERROR(VLOOKUP(BI71,'20__mapping'!$A:$B,2,0),"") | CP71: =IFERROR(VLOOKUP(BK71,'21__mapping'!$A:$B,2,0),"") | CQ71: =IFERROR(VLOOKUP(BM71,'22__mapping'!$A:$B,2,0),"") | CR71: =IFERROR(VLOOKUP(BO71,'23__mapping'!$A:$B,2,0),"") | CS71: =IFERROR(VLOOKUP(BQ71,'24__mapping'!$A:$B,2,0),"")
A72: Create | BU72: =IFERROR(VLOOKUP(A72,'0__mapping'!$A:$B,2,0),"") -> CREATE | BV72: =IFERROR(VLOOKUP(C72,'1__mapping'!$A:$B,2,0),"") | BW72: =INDEX('2__mapping'!B2:'2__mapping'!B49,MATCH(BV72&D72, INDEX('2__mapping'!C2:C49&'2__mapping'!A2:A49,),0)) -> #N/A | BX72: =IFERROR(VLOOKUP(E72,'3__mapping'!$A:$B,2,0),"") | BY72: =IFERROR(VLOOKUP(F72,'4__mapping'!$A:$B,2,0),"") | BZ72: =IFERROR(VLOOKUP(H72,'5__mapping'!$A:$B,2,0),"") | CA72: =IFERROR(VLOOKUP(K72,'6__mapping'!$A:$B,2,0),"") | CB72: =IFERROR(VLOOKUP(N72,'7__mapping'!$A:$B,2,0),"") | CC72: =IFERROR(VLOOKUP(AB72,'8__mapping'!$A:$B,2,0),"") | CD72: =IFERROR(VLOOKUP(AD72,'9__mapping'!$A:$B,2,0),"") | CE72: =IFERROR(VLOOKUP(AG72,'10__mapping'!$A:$B,2,0),"") | CF72: =IFERROR(VLOOKUP(AL72,'11__mapping'!$A:$B,2,0),"") | CG72: =IFERROR(VLOOKUP(AR72,'12__mapping'!$A:$B,2,0),"") | CH72: =IFERROR(VLOOKUP(AU72,'13__mapping'!$A:$B,2,0),"") | CI72: =IFERROR(VLOOKUP(AW72,'14__mapping'!$A:$B,2,0),"") | CJ72: =IFERROR(VLOOKUP(AY72,'15__mapping'!$A:$B,2,0),"") | CK72: =IFERROR(VLOOKUP(BA72,'16__mapping'!$A:$B,2,0),"") | CL72: =IFERROR(VLOOKUP(BC72,'17__mapping'!$A:$B,2,0),"") | CM72: =IFERROR(VLOOKUP(BE72,'18__mapping'!$A:$B,2,0),"") | CN72: =IFERROR(VLOOKUP(BG72,'19__mapping'!$A:$B,2,0),"") | CO72: =IFERROR(VLOOKUP(BI72,'20__mapping'!$A:$B,2,0),"") | CP72: =IFERROR(VLOOKUP(BK72,'21__mapping'!$A:$B,2,0),"") | CQ72: =IFERROR(VLOOKUP(BM72,'22__mapping'!$A:$B,2,0),"") | CR72: =IFERROR(VLOOKUP(BO72,'23__mapping'!$A:$B,2,0),"") | CS72: =IFERROR(VLOOKUP(BQ72,'24__mapping'!$A:$B,2,0),"")
A73: Create | BU73: =IFERROR(VLOOKUP(A73,'0__mapping'!$A:$B,2,0),"") -> CREATE | BV73: =IFERROR(VLOOKUP(C73,'1__mapping'!$A:$B,2,0),"") | BW73: =INDEX('2__mapping'!B2:'2__mapping'!B49,MATCH(BV73&D73, INDEX('2__mapping'!C2:C49&'2__mapping'!A2:A49,),0)) -> #N/A | BX73: =IFERROR(VLOOKUP(E73,'3__mapping'!$A:$B,2,0),"") | BY73: =IFERROR(VLOOKUP(F73,'4__mapping'!$A:$B,2,0),"") | BZ73: =IFERROR(VLOOKUP(H73,'5__mapping'!$A:$B,2,0),"") | CA73: =IFERROR(VLOOKUP(K73,'6__mapping'!$A:$B,2,0),"") | CB73: =IFERROR(VLOOKUP(N73,'7__mapping'!$A:$B,2,0),"") | CC73: =IFERROR(VLOOKUP(AB73,'8__mapping'!$A:$B,2,0),"") | CD73: =IFERROR(VLOOKUP(AD73,'9__mapping'!$A:$B,2,0),"") | CE73: =IFERROR(VLOOKUP(AG73,'10__mapping'!$A:$B,2,0),"") | CF73: =IFERROR(VLOOKUP(AL73,'11__mapping'!$A:$B,2,0),"") | CG73: =IFERROR(VLOOKUP(AR73,'12__mapping'!$A:$B,2,0),"") | CH73: =IFERROR(VLOOKUP(AU73,'13__mapping'!$A:$B,2,0),"") | CI73: =IFERROR(VLOOKUP(AW73,'14__mapping'!$A:$B,2,0),"") | CJ73: =IFERROR(VLOOKUP(AY73,'15__mapping'!$A:$B,2,0),"") | CK73: =IFERROR(VLOOKUP(BA73,'16__mapping'!$A:$B,2,0),"") | CL73: =IFERROR(VLOOKUP(BC73,'17__mapping'!$A:$B,2,0),"") | CM73: =IFERROR(VLOOKUP(BE73,'18__mapping'!$A:$B,2,0),"") | CN73: =IFERROR(VLOOKUP(BG73,'19__mapping'!$A:$B,2,0),"") | CO73: =IFERROR(VLOOKUP(BI73,'20__mapping'!$A:$B,2,0),"") | CP73: =IFERROR(VLOOKUP(BK73,'21__mapping'!$A:$B,2,0),"") | CQ73: =IFERROR(VLOOKUP(BM73,'22__mapping'!$A:$B,2,0),"") | CR73: =IFERROR(VLOOKUP(BO73,'23__mapping'!$A:$B,2,0),"") | CS73: =IFERROR(VLOOKUP(BQ73,'24__mapping'!$A:$B,2,0),"")
A74: Create | BU74: =IFERROR(VLOOKUP(A74,'0__mapping'!$A:$B,2,0),"") -> CREATE | BV74: =IFERROR(VLOOKUP(C74,'1__mapping'!$A:$B,2,0),"") | BW74: =INDEX('2__mapping'!B2:'2__mapping'!B49,MATCH(BV74&D74, INDEX('2__mapping'!C2:C49&'2__mapping'!A2:A49,),0)) -> #N/A | BX74: =IFERROR(VLOOKUP(E74,'3__mapping'!$A:$B,2,0),"") | BY74: =IFERROR(VLOOKUP(F74,'4__mapping'!$A:$B,2,0),"") | BZ74: =IFERROR(VLOOKUP(H74,'5__mapping'!$A:$B,2,0),"") | CA74: =IFERROR(VLOOKUP(K74,'6__mapping'!$A:$B,2,0),"") | CB74: =IFERROR(VLOOKUP(N74,'7__mapping'!$A:$B,2,0),"") | CC74: =IFERROR(VLOOKUP(AB74,'8__mapping'!$A:$B,2,0),"") | CD74: =IFERROR(VLOOKUP(AD74,'9__mapping'!$A:$B,2,0),"") | CE74: =IFERROR(VLOOKUP(AG74,'10__mapping'!$A:$B,2,0),"") | CF74: =IFERROR(VLOOKUP(AL74,'11__mapping'!$A:$B,2,0),"") | CG74: =IFERROR(VLOOKUP(AR74,'12__mapping'!$A:$B,2,0),"") | CH74: =IFERROR(VLOOKUP(AU74,'13__mapping'!$A:$B,2,0),"") | CI74: =IFERROR(VLOOKUP(AW74,'14__mapping'!$A:$B,2,0),"") | CJ74: =IFERROR(VLOOKUP(AY74,'15__mapping'!$A:$B,2,0),"") | CK74: =IFERROR(VLOOKUP(BA74,'16__mapping'!$A:$B,2,0),"") | CL74: =IFERROR(VLOOKUP(BC74,'17__mapping'!$A:$B,2,0),"") | CM74: =IFERROR(VLOOKUP(BE74,'18__mapping'!$A:$B,2,0),"") | CN74: =IFERROR(VLOOKUP(BG74,'19__mapping'!$A:$B,2,0),"") | CO74: =IFERROR(VLOOKUP(BI74,'20__mapping'!$A:$B,2,0),"") | CP74: =IFERROR(VLOOKUP(BK74,'21__mapping'!$A:$B,2,0),"") | CQ74: =IFERROR(VLOOKUP(BM74,'22__mapping'!$A:$B,2,0),"") | CR74: =IFERROR(VLOOKUP(BO74,'23__mapping'!$A:$B,2,0),"") | CS74: =IFERROR(VLOOKUP(BQ74,'24__mapping'!$A:$B,2,0),"")
A75: Create | BU75: =IFERROR(VLOOKUP(A75,'0__mapping'!$A:$B,2,0),"") -> CREATE | BV75: =IFERROR(VLOOKUP(C75,'1__mapping'!$A:$B,2,0),"") | BW75: =INDEX('2__mapping'!B2:'2__mapping'!B49,MATCH(BV75&D75, INDEX('2__mapping'!C2:C49&'2__mapping'!A2:A49,),0)) -> #N/A | BX75: =IFERROR(VLOOKUP(E75,'3__mapping'!$A:$B,2,0),"") | BY75: =IFERROR(VLOOKUP(F75,'4__mapping'!$A:$B,2,0),"") | BZ75: =IFERROR(VLOOKUP(H75,'5__mapping'!$A:$B,2,0),"") | CA75: =IFERROR(VLOOKUP(K75,'6__mapping'!$A:$B,2,0),"") | CB75: =IFERROR(VLOOKUP(N75,'7__mapping'!$A:$B,2,0),"") | CC75: =IFERROR(VLOOKUP(AB75,'8__mapping'!$A:$B,2,0),"") | CD75: =IFERROR(VLOOKUP(AD75,'9__mapping'!$A:$B,2,0),"") | CE75: =IFERROR(VLOOKUP(AG75,'10__mapping'!$A:$B,2,0),"") | CF75: =IFERROR(VLOOKUP(AL75,'11__mapping'!$A:$B,2,0),"") | CG75: =IFERROR(VLOOKUP(AR75,'12__mapping'!$A:$B,2,0),"") | CH75: =IFERROR(VLOOKUP(AU75,'13__mapping'!$A:$B,2,0),"") | CI75: =IFERROR(VLOOKUP(AW75,'14__mapping'!$A:$B,2,0),"") | CJ75: =IFERROR(VLOOKUP(AY75,'15__mapping'!$A:$B,2,0),"") | CK75: =IFERROR(VLOOKUP(BA75,'16__mapping'!$A:$B,2,0),"") | CL75: =IFERROR(VLOOKUP(BC75,'17__mapping'!$A:$B,2,0),"") | CM75: =IFERROR(VLOOKUP(BE75,'18__mapping'!$A:$B,2,0),"") | CN75: =IFERROR(VLOOKUP(BG75,'19__mapping'!$A:$B,2,0),"") | CO75: =IFERROR(VLOOKUP(BI75,'20__mapping'!$A:$B,2,0),"") | CP75: =IFERROR(VLOOKUP(BK75,'21__mapping'!$A:$B,2,0),"") | CQ75: =IFERROR(VLOOKUP(BM75,'22__mapping'!$A:$B,2,0),"") | CR75: =IFERROR(VLOOKUP(BO75,'23__mapping'!$A:$B,2,0),"") | CS75: =IFERROR(VLOOKUP(BQ75,'24__mapping'!$A:$B,2,0),"")
A76: Create | BU76: =IFERROR(VLOOKUP(A76,'0__mapping'!$A:$B,2,0),"") -> CREATE | BV76: =IFERROR(VLOOKUP(C76,'1__mapping'!$A:$B,2,0),"") | BW76: =INDEX('2__mapping'!B2:'2__mapping'!B49,MATCH(BV76&D76, INDEX('2__mapping'!C2:C49&'2__mapping'!A2:A49,),0)) -> #N/A | BX76: =IFERROR(VLOOKUP(E76,'3__mapping'!$A:$B,2,0),"") | BY76: =IFERROR(VLOOKUP(F76,'4__mapping'!$A:$B,2,0),"") | BZ76: =IFERROR(VLOOKUP(H76,'5__mapping'!$A:$B,2,0),"") | CA76: =IFERROR(VLOOKUP(K76,'6__mapping'!$A:$B,2,0),"") | CB76: =IFERROR(VLOOKUP(N76,'7__mapping'!$A:$B,2,0),"") | CC76: =IFERROR(VLOOKUP(AB76,'8__mapping'!$A:$B,2,0),"") | CD76: =IFERROR(VLOOKUP(AD76,'9__mapping'!$A:$B,2,0),"") | CE76: =IFERROR(VLOOKUP(AG76,'10__mapping'!$A:$B,2,0),"") | CF76: =IFERROR(VLOOKUP(AL76,'11__mapping'!$A:$B,2,0),"") | CG76: =IFERROR(VLOOKUP(AR76,'12__mapping'!$A:$B,2,0),"") | CH76: =IFERROR(VLOOKUP(AU76,'13__mapping'!$A:$B,2,0),"") | CI76: =IFERROR(VLOOKUP(AW76,'14__mapping'!$A:$B,2,0),"") | CJ76: =IFERROR(VLOOKUP(AY76,'15__mapping'!$A:$B,2,0),"") | CK76: =IFERROR(VLOOKUP(BA76,'16__mapping'!$A:$B,2,0),"") | CL76: =IFERROR(VLOOKUP(BC76,'17__mapping'!$A:$B,2,0),"") | CM76: =IFERROR(VLOOKUP(BE76,'18__mapping'!$A:$B,2,0),"") | CN76: =IFERROR(VLOOKUP(BG76,'19__mapping'!$A:$B,2,0),"") | CO76: =IFERROR(VLOOKUP(BI76,'20__mapping'!$A:$B,2,0),"") | CP76: =IFERROR(VLOOKUP(BK76,'21__mapping'!$A:$B,2,0),"") | CQ76: =IFERROR(VLOOKUP(BM76,'22__mapping'!$A:$B,2,0),"") | CR76: =IFERROR(VLOOKUP(BO76,'23__mapping'!$A:$B,2,0),"") | CS76: =IFERROR(VLOOKUP(BQ76,'24__mapping'!$A:$B,2,0),"")
A77: Create | BU77: =IFERROR(VLOOKUP(A77,'0__mapping'!$A:$B,2,0),"") -> CREATE | BV77: =IFERROR(VLOOKUP(C77,'1__mapping'!$A:$B,2,0),"") | BW77: =INDEX('2__mapping'!B2:'2__mapping'!B49,MATCH(BV77&D77, INDEX('2__mapping'!C2:C49&'2__mapping'!A2:A49,),0)) -> #N/A | BX77: =IFERROR(VLOOKUP(E77,'3__mapping'!$A:$B,2,0),"") | BY77: =IFERROR(VLOOKUP(F77,'4__mapping'!$A:$B,2,0),"") | BZ77: =IFERROR(VLOOKUP(H77,'5__mapping'!$A:$B,2,0),"") | CA77: =IFERROR(VLOOKUP(K77,'6__mapping'!$A:$B,2,0),"") | CB77: =IFERROR(VLOOKUP(N77,'7__mapping'!$A:$B,2,0),"") | CC77: =IFERROR(VLOOKUP(AB77,'8__mapping'!$A:$B,2,0),"") | CD77: =IFERROR(VLOOKUP(AD77,'9__mapping'!$A:$B,2,0),"") | CE77: =IFERROR(VLOOKUP(AG77,'10__mapping'!$A:$B,2,0),"") | CF77: =IFERROR(VLOOKUP(AL77,'11__mapping'!$A:$B,2,0),"") | CG77: =IFERROR(VLOOKUP(AR77,'12__mapping'!$A:$B,2,0),"") | CH77: =IFERROR(VLOOKUP(AU77,'13__mapping'!$A:$B,2,0),"") | CI77: =IFERROR(VLOOKUP(AW77,'14__mapping'!$A:$B,2,0),"") | CJ77: =IFERROR(VLOOKUP(AY77,'15__mapping'!$A:$B,2,0),"") | CK77: =IFERROR(VLOOKUP(BA77,'16__mapping'!$A:$B,2,0),"") | CL77: =IFERROR(VLOOKUP(BC77,'17__mapping'!$A:$B,2,0),"") | CM77: =IFERROR(VLOOKUP(BE77,'18__mapping'!$A:$B,2,0),"") | CN77: =IFERROR(VLOOKUP(BG77,'19__mapping'!$A:$B,2,0),"") | CO77: =IFERROR(VLOOKUP(BI77,'20__mapping'!$A:$B,2,0),"") | CP77: =IFERROR(VLOOKUP(BK77,'21__mapping'!$A:$B,2,0),"") | CQ77: =IFERROR(VLOOKUP(BM77,'22__mapping'!$A:$B,2,0),"") | CR77: =IFERROR(VLOOKUP(BO77,'23__mapping'!$A:$B,2,0),"") | CS77: =IFERROR(VLOOKUP(BQ77,'24__mapping'!$A:$B,2,0),"")
A78: Create | BU78: =IFERROR(VLOOKUP(A78,'0__mapping'!$A:$B,2,0),"") -> CREATE | BV78: =IFERROR(VLOOKUP(C78,'1__mapping'!$A:$B,2,0),"") | BW78: =INDEX('2__mapping'!B2:'2__mapping'!B49,MATCH(BV78&D78, INDEX('2__mapping'!C2:C49&'2__mapping'!A2:A49,),0)) -> #N/A | BX78: =IFERROR(VLOOKUP(E78,'3__mapping'!$A:$B,2,0),"") | BY78: =IFERROR(VLOOKUP(F78,'4__mapping'!$A:$B,2,0),"") | BZ78: =IFERROR(VLOOKUP(H78,'5__mapping'!$A:$B,2,0),"") | CA78: =IFERROR(VLOOKUP(K78,'6__mapping'!$A:$B,2,0),"") | CB78: =IFERROR(VLOOKUP(N78,'7__mapping'!$A:$B,2,0),"") | CC78: =IFERROR(VLOOKUP(AB78,'8__mapping'!$A:$B,2,0),"") | CD78: =IFERROR(VLOOKUP(AD78,'9__mapping'!$A:$B,2,0),"") | CE78: =IFERROR(VLOOKUP(AG78,'10__mapping'!$A:$B,2,0),"") | CF78: =IFERROR(VLOOKUP(AL78,'11__mapping'!$A:$B,2,0),"") | CG78: =IFERROR(VLOOKUP(AR78,'12__mapping'!$A:$B,2,0),"") | CH78: =IFERROR(VLOOKUP(AU78,'13__mapping'!$A:$B,2,0),"") | CI78: =IFERROR(VLOOKUP(AW78,'14__mapping'!$A:$B,2,0),"") | CJ78: =IFERROR(VLOOKUP(AY78,'15__mapping'!$A:$B,2,0),"") | CK78: =IFERROR(VLOOKUP(BA78,'16__mapping'!$A:$B,2,0),"") | CL78: =IFERROR(VLOOKUP(BC78,'17__mapping'!$A:$B,2,0),"") | CM78: =IFERROR(VLOOKUP(BE78,'18__mapping'!$A:$B,2,0),"") | CN78: =IFERROR(VLOOKUP(BG78,'19__mapping'!$A:$B,2,0),"") | CO78: =IFERROR(VLOOKUP(BI78,'20__mapping'!$A:$B,2,0),"") | CP78: =IFERROR(VLOOKUP(BK78,'21__mapping'!$A:$B,2,0),"") | CQ78: =IFERROR(VLOOKUP(BM78,'22__mapping'!$A:$B,2,0),"") | CR78: =IFERROR(VLOOKUP(BO78,'23__mapping'!$A:$B,2,0),"") | CS78: =IFERROR(VLOOKUP(BQ78,'24__mapping'!$A:$B,2,0),"")
A79: Create | BU79: =IFERROR(VLOOKUP(A79,'0__mapping'!$A:$B,2,0),"") -> CREATE | BV79: =IFERROR(VLOOKUP(C79,'1__mapping'!$A:$B,2,0),"") | BW79: =INDEX('2__mapping'!B2:'2__mapping'!B49,MATCH(BV79&D79, INDEX('2__mapping'!C2:C49&'2__mapping'!A2:A49,),0)) -> #N/A | BX79: =IFERROR(VLOOKUP(E79,'3__mapping'!$A:$B,2,0),"") | BY79: =IFERROR(VLOOKUP(F79,'4__mapping'!$A:$B,2,0),"") | BZ79: =IFERROR(VLOOKUP(H79,'5__mapping'!$A:$B,2,0),"") | CA79: =IFERROR(VLOOKUP(K79,'6__mapping'!$A:$B,2,0),"") | CB79: =IFERROR(VLOOKUP(N79,'7__mapping'!$A:$B,2,0),"") | CC79: =IFERROR(VLOOKUP(AB79,'8__mapping'!$A:$B,2,0),"") | CD79: =IFERROR(VLOOKUP(AD79,'9__mapping'!$A:$B,2,0),"") | CE79: =IFERROR(VLOOKUP(AG79,'10__mapping'!$A:$B,2,0),"") | CF79: =IFERROR(VLOOKUP(AL79,'11__mapping'!$A:$B,2,0),"") | CG79: =IFERROR(VLOOKUP(AR79,'12__mapping'!$A:$B,2,0),"") | CH79: =IFERROR(VLOOKUP(AU79,'13__mapping'!$A:$B,2,0),"") | CI79: =IFERROR(VLOOKUP(AW79,'14__mapping'!$A:$B,2,0),"") | CJ79: =IFERROR(VLOOKUP(AY79,'15__mapping'!$A:$B,2,0),"") | CK79: =IFERROR(VLOOKUP(BA79,'16__mapping'!$A:$B,2,0),"") | CL79: =IFERROR(VLOOKUP(BC79,'17__mapping'!$A:$B,2,0),"") | CM79: =IFERROR(VLOOKUP(BE79,'18__mapping'!$A:$B,2,0),"") | CN79: =IFERROR(VLOOKUP(BG79,'19__mapping'!$A:$B,2,0),"") | CO79: =IFERROR(VLOOKUP(BI79,'20__mapping'!$A:$B,2,0),"") | CP79: =IFERROR(VLOOKUP(BK79,'21__mapping'!$A:$B,2,0),"") | CQ79: =IFERROR(VLOOKUP(BM79,'22__mapping'!$A:$B,2,0),"") | CR79: =IFERROR(VLOOKUP(BO79,'23__mapping'!$A:$B,2,0),"") | CS79: =IFERROR(VLOOKUP(BQ79,'24__mapping'!$A:$B,2,0),"")
A80: Create | BU80: =IFERROR(VLOOKUP(A80,'0__mapping'!$A:$B,2,0),"") -> CREATE | BV80: =IFERROR(VLOOKUP(C80,'1__mapping'!$A:$B,2,0),"") | BW80: =INDEX('2__mapping'!B2:'2__mapping'!B49,MATCH(BV80&D80, INDEX('2__mapping'!C2:C49&'2__mapping'!A2:A49,),0)) -> #N/A | BX80: =IFERROR(VLOOKUP(E80,'3__mapping'!$A:$B,2,0),"") | BY80: =IFERROR(VLOOKUP(F80,'4__mapping'!$A:$B,2,0),"") | BZ80: =IFERROR(VLOOKUP(H80,'5__mapping'!$A:$B,2,0),"") | CA80: =IFERROR(VLOOKUP(K80,'6__mapping'!$A:$B,2,0),"") | CB80: =IFERROR(VLOOKUP(N80,'7__mapping'!$A:$B,2,0),"") | CC80: =IFERROR(VLOOKUP(AB80,'8__mapping'!$A:$B,2,0),"") | CD80: =IFERROR(VLOOKUP(AD80,'9__mapping'!$A:$B,2,0),"") | CE80: =IFERROR(VLOOKUP(AG80,'10__mapping'!$A:$B,2,0),"") | CF80: =IFERROR(VLOOKUP(AL80,'11__mapping'!$A:$B,2,0),"") | CG80: =IFERROR(VLOOKUP(AR80,'12__mapping'!$A:$B,2,0),"") | CH80: =IFERROR(VLOOKUP(AU80,'13__mapping'!$A:$B,2,0),"") | CI80: =IFERROR(VLOOKUP(AW80,'14__mapping'!$A:$B,2,0),"") | CJ80: =IFERROR(VLOOKUP(AY80,'15__mapping'!$A:$B,2,0),"") | CK80: =IFERROR(VLOOKUP(BA80,'16__mapping'!$A:$B,2,0),"") | CL80: =IFERROR(VLOOKUP(BC80,'17__mapping'!$A:$B,2,0),"") | CM80: =IFERROR(VLOOKUP(BE80,'18__mapping'!$A:$B,2,0),"") | CN80: =IFERROR(VLOOKUP(BG80,'19__mapping'!$A:$B,2,0),"") | CO80: =IFERROR(VLOOKUP(BI80,'20__mapping'!$A:$B,2,0),"") | CP80: =IFERROR(VLOOKUP(BK80,'21__mapping'!$A:$B,2,0),"") | CQ80: =IFERROR(VLOOKUP(BM80,'22__mapping'!$A:$B,2,0),"") | CR80: =IFERROR(VLOOKUP(BO80,'23__mapping'!$A:$B,2,0),"") | CS80: =IFERROR(VLOOKUP(BQ80,'24__mapping'!$A:$B,2,0),"")
A81: Create | BU81: =IFERROR(VLOOKUP(A81,'0__mapping'!$A:$B,2,0),"") -> CREATE | BV81: =IFERROR(VLOOKUP(C81,'1__mapping'!$A:$B,2,0),"") | BW81: =INDEX('2__mapping'!B2:'2__mapping'!B49,MATCH(BV81&D81, INDEX('2__mapping'!C2:C49&'2__mapping'!A2:A49,),0)) -> #N/A | BX81: =IFERROR(VLOOKUP(E81,'3__mapping'!$A:$B,2,0),"") | BY81: =IFERROR(VLOOKUP(F81,'4__mapping'!$A:$B,2,0),"") | BZ81: =IFERROR(VLOOKUP(H81,'5__mapping'!$A:$B,2,0),"") | CA81: =IFERROR(VLOOKUP(K81,'6__mapping'!$A:$B,2,0),"") | CB81: =IFERROR(VLOOKUP(N81,'7__mapping'!$A:$B,2,0),"") | CC81: =IFERROR(VLOOKUP(AB81,'8__mapping'!$A:$B,2,0),"") | CD81: =IFERROR(VLOOKUP(AD81,'9__mapping'!$A:$B,2,0),"") | CE81: =IFERROR(VLOOKUP(AG81,'10__mapping'!$A:$B,2,0),"") | CF81: =IFERROR(VLOOKUP(AL81,'11__mapping'!$A:$B,2,0),"") | CG81: =IFERROR(VLOOKUP(AR81,'12__mapping'!$A:$B,2,0),"") | CH81: =IFERROR(VLOOKUP(AU81,'13__mapping'!$A:$B,2,0),"") | CI81: =IFERROR(VLOOKUP(AW81,'14__mapping'!$A:$B,2,0),"") | CJ81: =IFERROR(VLOOKUP(AY81,'15__mapping'!$A:$B,2,0),"") | CK81: =IFERROR(VLOOKUP(BA81,'16__mapping'!$A:$B,2,0),"") | CL81: =IFERROR(VLOOKUP(BC81,'17__mapping'!$A:$B,2,0),"") | CM81: =IFERROR(VLOOKUP(BE81,'18__mapping'!$A:$B,2,0),"") | CN81: =IFERROR(VLOOKUP(BG81,'19__mapping'!$A:$B,2,0),"") | CO81: =IFERROR(VLOOKUP(BI81,'20__mapping'!$A:$B,2,0),"") | CP81: =IFERROR(VLOOKUP(BK81,'21__mapping'!$A:$B,2,0),"") | CQ81: =IFERROR(VLOOKUP(BM81,'22__mapping'!$A:$B,2,0),"") | CR81: =IFERROR(VLOOKUP(BO81,'23__mapping'!$A:$B,2,0),"") | CS81: =IFERROR(VLOOKUP(BQ81,'24__mapping'!$A:$B,2,0),"")
A82: Create | BU82: =IFERROR(VLOOKUP(A82,'0__mapping'!$A:$B,2,0),"") -> CREATE | BV82: =IFERROR(VLOOKUP(C82,'1__mapping'!$A:$B,2,0),"") | BW82: =INDEX('2__mapping'!B2:'2__mapping'!B49,MATCH(BV82&D82, INDEX('2__mapping'!C2:C49&'2__mapping'!A2:A49,),0)) -> #N/A | BX82: =IFERROR(VLOOKUP(E82,'3__mapping'!$A:$B,2,0),"") | BY82: =IFERROR(VLOOKUP(F82,'4__mapping'!$A:$B,2,0),"") | BZ82: =IFERROR(VLOOKUP(H82,'5__mapping'!$A:$B,2,0),"") | CA82: =IFERROR(VLOOKUP(K82,'6__mapping'!$A:$B,2,0),"") | CB82: =IFERROR(VLOOKUP(N82,'7__mapping'!$A:$B,2,0),"") | CC82: =IFERROR(VLOOKUP(AB82,'8__mapping'!$A:$B,2,0),"") | CD82: =IFERROR(VLOOKUP(AD82,'9__mapping'!$A:$B,2,0),"") | CE82: =IFERROR(VLOOKUP(AG82,'10__mapping'!$A:$B,2,0),"") | CF82: =IFERROR(VLOOKUP(AL82,'11__mapping'!$A:$B,2,0),"") | CG82: =IFERROR(VLOOKUP(AR82,'12__mapping'!$A:$B,2,0),"") | CH82: =IFERROR(VLOOKUP(AU82,'13__mapping'!$A:$B,2,0),"") | CI82: =IFERROR(VLOOKUP(AW82,'14__mapping'!$A:$B,2,0),"") | CJ82: =IFERROR(VLOOKUP(AY82,'15__mapping'!$A:$B,2,0),"") | CK82: =IFERROR(VLOOKUP(BA82,'16__mapping'!$A:$B,2,0),"") | CL82: =IFERROR(VLOOKUP(BC82,'17__mapping'!$A:$B,2,0),"") | CM82: =IFERROR(VLOOKUP(BE82,'18__mapping'!$A:$B,2,0),"") | CN82: =IFERROR(VLOOKUP(BG82,'19__mapping'!$A:$B,2,0),"") | CO82: =IFERROR(VLOOKUP(BI82,'20__mapping'!$A:$B,2,0),"") | CP82: =IFERROR(VLOOKUP(BK82,'21__mapping'!$A:$B,2,0),"") | CQ82: =IFERROR(VLOOKUP(BM82,'22__mapping'!$A:$B,2,0),"") | CR82: =IFERROR(VLOOKUP(BO82,'23__mapping'!$A:$B,2,0),"") | CS82: =IFERROR(VLOOKUP(BQ82,'24__mapping'!$A:$B,2,0),"")
A83: Create | BU83: =IFERROR(VLOOKUP(A83,'0__mapping'!$A:$B,2,0),"") -> CREATE | BV83: =IFERROR(VLOOKUP(C83,'1__mapping'!$A:$B,2,0),"") | BW83: =INDEX('2__mapping'!B2:'2__mapping'!B49,MATCH(BV83&D83, INDEX('2__mapping'!C2:C49&'2__mapping'!A2:A49,),0)) -> #N/A | BX83: =IFERROR(VLOOKUP(E83,'3__mapping'!$A:$B,2,0),"") | BY83: =IFERROR(VLOOKUP(F83,'4__mapping'!$A:$B,2,0),"") | BZ83: =IFERROR(VLOOKUP(H83,'5__mapping'!$A:$B,2,0),"") | CA83: =IFERROR(VLOOKUP(K83,'6__mapping'!$A:$B,2,0),"") | CB83: =IFERROR(VLOOKUP(N83,'7__mapping'!$A:$B,2,0),"") | CC83: =IFERROR(VLOOKUP(AB83,'8__mapping'!$A:$B,2,0),"") | CD83: =IFERROR(VLOOKUP(AD83,'9__mapping'!$A:$B,2,0),"") | CE83: =IFERROR(VLOOKUP(AG83,'10__mapping'!$A:$B,2,0),"") | CF83: =IFERROR(VLOOKUP(AL83,'11__mapping'!$A:$B,2,0),"") | CG83: =IFERROR(VLOOKUP(AR83,'12__mapping'!$A:$B,2,0),"") | CH83: =IFERROR(VLOOKUP(AU83,'13__mapping'!$A:$B,2,0),"") | CI83: =IFERROR(VLOOKUP(AW83,'14__mapping'!$A:$B,2,0),"") | CJ83: =IFERROR(VLOOKUP(AY83,'15__mapping'!$A:$B,2,0),"") | CK83: =IFERROR(VLOOKUP(BA83,'16__mapping'!$A:$B,2,0),"") | CL83: =IFERROR(VLOOKUP(BC83,'17__mapping'!$A:$B,2,0),"") | CM83: =IFERROR(VLOOKUP(BE83,'18__mapping'!$A:$B,2,0),"") | CN83: =IFERROR(VLOOKUP(BG83,'19__mapping'!$A:$B,2,0),"") | CO83: =IFERROR(VLOOKUP(BI83,'20__mapping'!$A:$B,2,0),"") | CP83: =IFERROR(VLOOKUP(BK83,'21__mapping'!$A:$B,2,0),"") | CQ83: =IFERROR(VLOOKUP(BM83,'22__mapping'!$A:$B,2,0),"") | CR83: =IFERROR(VLOOKUP(BO83,'23__mapping'!$A:$B,2,0),"") | CS83: =IFERROR(VLOOKUP(BQ83,'24__mapping'!$A:$B,2,0),"")
A84: Create | BU84: =IFERROR(VLOOKUP(A84,'0__mapping'!$A:$B,2,0),"") -> CREATE | BV84: =IFERROR(VLOOKUP(C84,'1__mapping'!$A:$B,2,0),"") | BW84: =INDEX('2__mapping'!B2:'2__mapping'!B49,MATCH(BV84&D84, INDEX('2__mapping'!C2:C49&'2__mapping'!A2:A49,),0)) -> #N/A | BX84: =IFERROR(VLOOKUP(E84,'3__mapping'!$A:$B,2,0),"") | BY84: =IFERROR(VLOOKUP(F84,'4__mapping'!$A:$B,2,0),"") | BZ84: =IFERROR(VLOOKUP(H84,'5__mapping'!$A:$B,2,0),"") | CA84: =IFERROR(VLOOKUP(K84,'6__mapping'!$A:$B,2,0),"") | CB84: =IFERROR(VLOOKUP(N84,'7__mapping'!$A:$B,2,0),"") | CC84: =IFERROR(VLOOKUP(AB84,'8__mapping'!$A:$B,2,0),"") | CD84: =IFERROR(VLOOKUP(AD84,'9__mapping'!$A:$B,2,0),"") | CE84: =IFERROR(VLOOKUP(AG84,'10__mapping'!$A:$B,2,0),"") | CF84: =IFERROR(VLOOKUP(AL84,'11__mapping'!$A:$B,2,0),"") | CG84: =IFERROR(VLOOKUP(AR84,'12__mapping'!$A:$B,2,0),"") | CH84: =IFERROR(VLOOKUP(AU84,'13__mapping'!$A:$B,2,0),"") | CI84: =IFERROR(VLOOKUP(AW84,'14__mapping'!$A:$B,2,0),"") | CJ84: =IFERROR(VLOOKUP(AY84,'15__mapping'!$A:$B,2,0),"") | CK84: =IFERROR(VLOOKUP(BA84,'16__mapping'!$A:$B,2,0),"") | CL84: =IFERROR(VLOOKUP(BC84,'17__mapping'!$A:$B,2,0),"") | CM84: =IFERROR(VLOOKUP(BE84,'18__mapping'!$A:$B,2,0),"") | CN84: =IFERROR(VLOOKUP(BG84,'19__mapping'!$A:$B,2,0),"") | CO84: =IFERROR(VLOOKUP(BI84,'20__mapping'!$A:$B,2,0),"") | CP84: =IFERROR(VLOOKUP(BK84,'21__mapping'!$A:$B,2,0),"") | CQ84: =IFERROR(VLOOKUP(BM84,'22__mapping'!$A:$B,2,0),"") | CR84: =IFERROR(VLOOKUP(BO84,'23__mapping'!$A:$B,2,0),"") | CS84: =IFERROR(VLOOKUP(BQ84,'24__mapping'!$A:$B,2,0),"")
A85: Create | BU85: =IFERROR(VLOOKUP(A85,'0__mapping'!$A:$B,2,0),"") -> CREATE | BV85: =IFERROR(VLOOKUP(C85,'1__mapping'!$A:$B,2,0),"") | BW85: =INDEX('2__mapping'!B2:'2__mapping'!B49,MATCH(BV85&D85, INDEX('2__mapping'!C2:C49&'2__mapping'!A2:A49,),0)) -> #N/A | BX85: =IFERROR(VLOOKUP(E85,'3__mapping'!$A:$B,2,0),"") | BY85: =IFERROR(VLOOKUP(F85,'4__mapping'!$A:$B,2,0),"") | BZ85: =IFERROR(VLOOKUP(H85,'5__mapping'!$A:$B,2,0),"") | CA85: =IFERROR(VLOOKUP(K85,'6__mapping'!$A:$B,2,0),"") | CB85: =IFERROR(VLOOKUP(N85,'7__mapping'!$A:$B,2,0),"") | CC85: =IFERROR(VLOOKUP(AB85,'8__mapping'!$A:$B,2,0),"") | CD85: =IFERROR(VLOOKUP(AD85,'9__mapping'!$A:$B,2,0),"") | CE85: =IFERROR(VLOOKUP(AG85,'10__mapping'!$A:$B,2,0),"") | CF85: =IFERROR(VLOOKUP(AL85,'11__mapping'!$A:$B,2,0),"") | CG85: =IFERROR(VLOOKUP(AR85,'12__mapping'!$A:$B,2,0),"") | CH85: =IFERROR(VLOOKUP(AU85,'13__mapping'!$A:$B,2,0),"") | CI85: =IFERROR(VLOOKUP(AW85,'14__mapping'!$A:$B,2,0),"") | CJ85: =IFERROR(VLOOKUP(AY85,'15__mapping'!$A:$B,2,0),"") | CK85: =IFERROR(VLOOKUP(BA85,'16__mapping'!$A:$B,2,0),"") | CL85: =IFERROR(VLOOKUP(BC85,'17__mapping'!$A:$B,2,0),"") | CM85: =IFERROR(VLOOKUP(BE85,'18__mapping'!$A:$B,2,0),"") | CN85: =IFERROR(VLOOKUP(BG85,'19__mapping'!$A:$B,2,0),"") | CO85: =IFERROR(VLOOKUP(BI85,'20__mapping'!$A:$B,2,0),"") | CP85: =IFERROR(VLOOKUP(BK85,'21__mapping'!$A:$B,2,0),"") | CQ85: =IFERROR(VLOOKUP(BM85,'22__mapping'!$A:$B,2,0),"") | CR85: =IFERROR(VLOOKUP(BO85,'23__mapping'!$A:$B,2,0),"") | CS85: =IFERROR(VLOOKUP(BQ85,'24__mapping'!$A:$B,2,0),"")
A86: Create | BU86: =IFERROR(VLOOKUP(A86,'0__mapping'!$A:$B,2,0),"") -> CREATE | BV86: =IFERROR(VLOOKUP(C86,'1__mapping'!$A:$B,2,0),"") | BW86: =INDEX('2__mapping'!B2:'2__mapping'!B49,MATCH(BV86&D86, INDEX('2__mapping'!C2:C49&'2__mapping'!A2:A49,),0)) -> #N/A | BX86: =IFERROR(VLOOKUP(E86,'3__mapping'!$A:$B,2,0),"") | BY86: =IFERROR(VLOOKUP(F86,'4__mapping'!$A:$B,2,0),"") | BZ86: =IFERROR(VLOOKUP(H86,'5__mapping'!$A:$B,2,0),"") | CA86: =IFERROR(VLOOKUP(K86,'6__mapping'!$A:$B,2,0),"") | CB86: =IFERROR(VLOOKUP(N86,'7__mapping'!$A:$B,2,0),"") | CC86: =IFERROR(VLOOKUP(AB86,'8__mapping'!$A:$B,2,0),"") | CD86: =IFERROR(VLOOKUP(AD86,'9__mapping'!$A:$B,2,0),"") | CE86: =IFERROR(VLOOKUP(AG86,'10__mapping'!$A:$B,2,0),"") | CF86: =IFERROR(VLOOKUP(AL86,'11__mapping'!$A:$B,2,0),"") | CG86: =IFERROR(VLOOKUP(AR86,'12__mapping'!$A:$B,2,0),"") | CH86: =IFERROR(VLOOKUP(AU86,'13__mapping'!$A:$B,2,0),"") | CI86: =IFERROR(VLOOKUP(AW86,'14__mapping'!$A:$B,2,0),"") | CJ86: =IFERROR(VLOOKUP(AY86,'15__mapping'!$A:$B,2,0),"") | CK86: =IFERROR(VLOOKUP(BA86,'16__mapping'!$A:$B,2,0),"") | CL86: =IFERROR(VLOOKUP(BC86,'17__mapping'!$A:$B,2,0),"") | CM86: =IFERROR(VLOOKUP(BE86,'18__mapping'!$A:$B,2,0),"") | CN86: =IFERROR(VLOOKUP(BG86,'19__mapping'!$A:$B,2,0),"") | CO86: =IFERROR(VLOOKUP(BI86,'20__mapping'!$A:$B,2,0),"") | CP86: =IFERROR(VLOOKUP(BK86,'21__mapping'!$A:$B,2,0),"") | CQ86: =IFERROR(VLOOKUP(BM86,'22__mapping'!$A:$B,2,0),"") | CR86: =IFERROR(VLOOKUP(BO86,'23__mapping'!$A:$B,2,0),"") | CS86: =IFERROR(VLOOKUP(BQ86,'24__mapping'!$A:$B,2,0),"")
A87: Create | BU87: =IFERROR(VLOOKUP(A87,'0__mapping'!$A:$B,2,0),"") -> CREATE | BV87: =IFERROR(VLOOKUP(C87,'1__mapping'!$A:$B,2,0),"") | BW87: =INDEX('2__mapping'!B2:'2__mapping'!B49,MATCH(BV87&D87, INDEX('2__mapping'!C2:C49&'2__mapping'!A2:A49,),0)) -> #N/A | BX87: =IFERROR(VLOOKUP(E87,'3__mapping'!$A:$B,2,0),"") | BY87: =IFERROR(VLOOKUP(F87,'4__mapping'!$A:$B,2,0),"") | BZ87: =IFERROR(VLOOKUP(H87,'5__mapping'!$A:$B,2,0),"") | CA87: =IFERROR(VLOOKUP(K87,'6__mapping'!$A:$B,2,0),"") | CB87: =IFERROR(VLOOKUP(N87,'7__mapping'!$A:$B,2,0),"") | CC87: =IFERROR(VLOOKUP(AB87,'8__mapping'!$A:$B,2,0),"") | CD87: =IFERROR(VLOOKUP(AD87,'9__mapping'!$A:$B,2,0),"") | CE87: =IFERROR(VLOOKUP(AG87,'10__mapping'!$A:$B,2,0),"") | CF87: =IFERROR(VLOOKUP(AL87,'11__mapping'!$A:$B,2,0),"") | CG87: =IFERROR(VLOOKUP(AR87,'12__mapping'!$A:$B,2,0),"") | CH87: =IFERROR(VLOOKUP(AU87,'13__mapping'!$A:$B,2,0),"") | CI87: =IFERROR(VLOOKUP(AW87,'14__mapping'!$A:$B,2,0),"") | CJ87: =IFERROR(VLOOKUP(AY87,'15__mapping'!$A:$B,2,0),"") | CK87: =IFERROR(VLOOKUP(BA87,'16__mapping'!$A:$B,2,0),"") | CL87: =IFERROR(VLOOKUP(BC87,'17__mapping'!$A:$B,2,0),"") | CM87: =IFERROR(VLOOKUP(BE87,'18__mapping'!$A:$B,2,0),"") | CN87: =IFERROR(VLOOKUP(BG87,'19__mapping'!$A:$B,2,0),"") | CO87: =IFERROR(VLOOKUP(BI87,'20__mapping'!$A:$B,2,0),"") | CP87: =IFERROR(VLOOKUP(BK87,'21__mapping'!$A:$B,2,0),"") | CQ87: =IFERROR(VLOOKUP(BM87,'22__mapping'!$A:$B,2,0),"") | CR87: =IFERROR(VLOOKUP(BO87,'23__mapping'!$A:$B,2,0),"") | CS87: =IFERROR(VLOOKUP(BQ87,'24__mapping'!$A:$B,2,0),"")
A88: Create | BU88: =IFERROR(VLOOKUP(A88,'0__mapping'!$A:$B,2,0),"") -> CREATE | BV88: =IFERROR(VLOOKUP(C88,'1__mapping'!$A:$B,2,0),"") | BW88: =INDEX('2__mapping'!B2:'2__mapping'!B49,MATCH(BV88&D88, INDEX('2__mapping'!C2:C49&'2__mapping'!A2:A49,),0)) -> #N/A | BX88: =IFERROR(VLOOKUP(E88,'3__mapping'!$A:$B,2,0),"") | BY88: =IFERROR(VLOOKUP(F88,'4__mapping'!$A:$B,2,0),"") | BZ88: =IFERROR(VLOOKUP(H88,'5__mapping'!$A:$B,2,0),"") | CA88: =IFERROR(VLOOKUP(K88,'6__mapping'!$A:$B,2,0),"") | CB88: =IFERROR(VLOOKUP(N88,'7__mapping'!$A:$B,2,0),"") | CC88: =IFERROR(VLOOKUP(AB88,'8__mapping'!$A:$B,2,0),"") | CD88: =IFERROR(VLOOKUP(AD88,'9__mapping'!$A:$B,2,0),"") | CE88: =IFERROR(VLOOKUP(AG88,'10__mapping'!$A:$B,2,0),"") | CF88: =IFERROR(VLOOKUP(AL88,'11__mapping'!$A:$B,2,0),"") | CG88: =IFERROR(VLOOKUP(AR88,'12__mapping'!$A:$B,2,0),"") | CH88: =IFERROR(VLOOKUP(AU88,'13__mapping'!$A:$B,2,0),"") | CI88: =IFERROR(VLOOKUP(AW88,'14__mapping'!$A:$B,2,0),"") | CJ88: =IFERROR(VLOOKUP(AY88,'15__mapping'!$A:$B,2,0),"") | CK88: =IFERROR(VLOOKUP(BA88,'16__mapping'!$A:$B,2,0),"") | CL88: =IFERROR(VLOOKUP(BC88,'17__mapping'!$A:$B,2,0),"") | CM88: =IFERROR(VLOOKUP(BE88,'18__mapping'!$A:$B,2,0),"") | CN88: =IFERROR(VLOOKUP(BG88,'19__mapping'!$A:$B,2,0),"") | CO88: =IFERROR(VLOOKUP(BI88,'20__mapping'!$A:$B,2,0),"") | CP88: =IFERROR(VLOOKUP(BK88,'21__mapping'!$A:$B,2,0),"") | CQ88: =IFERROR(VLOOKUP(BM88,'22__mapping'!$A:$B,2,0),"") | CR88: =IFERROR(VLOOKUP(BO88,'23__mapping'!$A:$B,2,0),"") | CS88: =IFERROR(VLOOKUP(BQ88,'24__mapping'!$A:$B,2,0),"")
A89: Create | BU89: =IFERROR(VLOOKUP(A89,'0__mapping'!$A:$B,2,0),"") -> CREATE | BV89: =IFERROR(VLOOKUP(C89,'1__mapping'!$A:$B,2,0),"") | BW89: =INDEX('2__mapping'!B2:'2__mapping'!B49,MATCH(BV89&D89, INDEX('2__mapping'!C2:C49&'2__mapping'!A2:A49,),0)) -> #N/A | BX89: =IFERROR(VLOOKUP(E89,'3__mapping'!$A:$B,2,0),"") | BY89: =IFERROR(VLOOKUP(F89,'4__mapping'!$A:$B,2,0),"") | BZ89: =IFERROR(VLOOKUP(H89,'5__mapping'!$A:$B,2,0),"") | CA89: =IFERROR(VLOOKUP(K89,'6__mapping'!$A:$B,2,0),"") | CB89: =IFERROR(VLOOKUP(N89,'7__mapping'!$A:$B,2,0),"") | CC89: =IFERROR(VLOOKUP(AB89,'8__mapping'!$A:$B,2,0),"") | CD89: =IFERROR(VLOOKUP(AD89,'9__mapping'!$A:$B,2,0),"") | CE89: =IFERROR(VLOOKUP(AG89,'10__mapping'!$A:$B,2,0),"") | CF89: =IFERROR(VLOOKUP(AL89,'11__mapping'!$A:$B,2,0),"") | CG89: =IFERROR(VLOOKUP(AR89,'12__mapping'!$A:$B,2,0),"") | CH89: =IFERROR(VLOOKUP(AU89,'13__mapping'!$A:$B,2,0),"") | CI89: =IFERROR(VLOOKUP(AW89,'14__mapping'!$A:$B,2,0),"") | CJ89: =IFERROR(VLOOKUP(AY89,'15__mapping'!$A:$B,2,0),"") | CK89: =IFERROR(VLOOKUP(BA89,'16__mapping'!$A:$B,2,0),"") | CL89: =IFERROR(VLOOKUP(BC89,'17__mapping'!$A:$B,2,0),"") | CM89: =IFERROR(VLOOKUP(BE89,'18__mapping'!$A:$B,2,0),"") | CN89: =IFERROR(VLOOKUP(BG89,'19__mapping'!$A:$B,2,0),"") | CO89: =IFERROR(VLOOKUP(BI89,'20__mapping'!$A:$B,2,0),"") | CP89: =IFERROR(VLOOKUP(BK89,'21__mapping'!$A:$B,2,0),"") | CQ89: =IFERROR(VLOOKUP(BM89,'22__mapping'!$A:$B,2,0),"") | CR89: =IFERROR(VLOOKUP(BO89,'23__mapping'!$A:$B,2,0),"") | CS89: =IFERROR(VLOOKUP(BQ89,'24__mapping'!$A:$B,2,0),"")
A90: Create | BU90: =IFERROR(VLOOKUP(A90,'0__mapping'!$A:$B,2,0),"") -> CREATE | BV90: =IFERROR(VLOOKUP(C90,'1__mapping'!$A:$B,2,0),"") | BW90: =INDEX('2__mapping'!B2:'2__mapping'!B49,MATCH(BV90&D90, INDEX('2__mapping'!C2:C49&'2__mapping'!A2:A49,),0)) -> #N/A | BX90: =IFERROR(VLOOKUP(E90,'3__mapping'!$A:$B,2,0),"") | BY90: =IFERROR(VLOOKUP(F90,'4__mapping'!$A:$B,2,0),"") | BZ90: =IFERROR(VLOOKUP(H90,'5__mapping'!$A:$B,2,0),"") | CA90: =IFERROR(VLOOKUP(K90,'6__mapping'!$A:$B,2,0),"") | CB90: =IFERROR(VLOOKUP(N90,'7__mapping'!$A:$B,2,0),"") | CC90: =IFERROR(VLOOKUP(AB90,'8__mapping'!$A:$B,2,0),"") | CD90: =IFERROR(VLOOKUP(AD90,'9__mapping'!$A:$B,2,0),"") | CE90: =IFERROR(VLOOKUP(AG90,'10__mapping'!$A:$B,2,0),"") | CF90: =IFERROR(VLOOKUP(AL90,'11__mapping'!$A:$B,2,0),"") | CG90: =IFERROR(VLOOKUP(AR90,'12__mapping'!$A:$B,2,0),"") | CH90: =IFERROR(VLOOKUP(AU90,'13__mapping'!$A:$B,2,0),"") | CI90: =IFERROR(VLOOKUP(AW90,'14__mapping'!$A:$B,2,0),"") | CJ90: =IFERROR(VLOOKUP(AY90,'15__mapping'!$A:$B,2,0),"") | CK90: =IFERROR(VLOOKUP(BA90,'16__mapping'!$A:$B,2,0),"") | CL90: =IFERROR(VLOOKUP(BC90,'17__mapping'!$A:$B,2,0),"") | CM90: =IFERROR(VLOOKUP(BE90,'18__mapping'!$A:$B,2,0),"") | CN90: =IFERROR(VLOOKUP(BG90,'19__mapping'!$A:$B,2,0),"") | CO90: =IFERROR(VLOOKUP(BI90,'20__mapping'!$A:$B,2,0),"") | CP90: =IFERROR(VLOOKUP(BK90,'21__mapping'!$A:$B,2,0),"") | CQ90: =IFERROR(VLOOKUP(BM90,'22__mapping'!$A:$B,2,0),"") | CR90: =IFERROR(VLOOKUP(BO90,'23__mapping'!$A:$B,2,0),"") | CS90: =IFERROR(VLOOKUP(BQ90,'24__mapping'!$A:$B,2,0),"")
A91: Create | BU91: =IFERROR(VLOOKUP(A91,'0__mapping'!$A:$B,2,0),"") -> CREATE | BV91: =IFERROR(VLOOKUP(C91,'1__mapping'!$A:$B,2,0),"") | BW91: =INDEX('2__mapping'!B2:'2__mapping'!B49,MATCH(BV91&D91, INDEX('2__mapping'!C2:C49&'2__mapping'!A2:A49,),0)) -> #N/A | BX91: =IFERROR(VLOOKUP(E91,'3__mapping'!$A:$B,2,0),"") | BY91: =IFERROR(VLOOKUP(F91,'4__mapping'!$A:$B,2,0),"") | BZ91: =IFERROR(VLOOKUP(H91,'5__mapping'!$A:$B,2,0),"") | CA91: =IFERROR(VLOOKUP(K91,'6__mapping'!$A:$B,2,0),"") | CB91: =IFERROR(VLOOKUP(N91,'7__mapping'!$A:$B,2,0),"") | CC91: =IFERROR(VLOOKUP(AB91,'8__mapping'!$A:$B,2,0),"") | CD91: =IFERROR(VLOOKUP(AD91,'9__mapping'!$A:$B,2,0),"") | CE91: =IFERROR(VLOOKUP(AG91,'10__mapping'!$A:$B,2,0),"") | CF91: =IFERROR(VLOOKUP(AL91,'11__mapping'!$A:$B,2,0),"") | CG91: =IFERROR(VLOOKUP(AR91,'12__mapping'!$A:$B,2,0),"") | CH91: =IFERROR(VLOOKUP(AU91,'13__mapping'!$A:$B,2,0),"") | CI91: =IFERROR(VLOOKUP(AW91,'14__mapping'!$A:$B,2,0),"") | CJ91: =IFERROR(VLOOKUP(AY91,'15__mapping'!$A:$B,2,0),"") | CK91: =IFERROR(VLOOKUP(BA91,'16__mapping'!$A:$B,2,0),"") | CL91: =IFERROR(VLOOKUP(BC91,'17__mapping'!$A:$B,2,0),"") | CM91: =IFERROR(VLOOKUP(BE91,'18__mapping'!$A:$B,2,0),"") | CN91: =IFERROR(VLOOKUP(BG91,'19__mapping'!$A:$B,2,0),"") | CO91: =IFERROR(VLOOKUP(BI91,'20__mapping'!$A:$B,2,0),"") | CP91: =IFERROR(VLOOKUP(BK91,'21__mapping'!$A:$B,2,0),"") | CQ91: =IFERROR(VLOOKUP(BM91,'22__mapping'!$A:$B,2,0),"") | CR91: =IFERROR(VLOOKUP(BO91,'23__mapping'!$A:$B,2,0),"") | CS91: =IFERROR(VLOOKUP(BQ91,'24__mapping'!$A:$B,2,0),"")
A92: Create | BU92: =IFERROR(VLOOKUP(A92,'0__mapping'!$A:$B,2,0),"") -> CREATE | BV92: =IFERROR(VLOOKUP(C92,'1__mapping'!$A:$B,2,0),"") | BW92: =INDEX('2__mapping'!B2:'2__mapping'!B49,MATCH(BV92&D92, INDEX('2__mapping'!C2:C49&'2__mapping'!A2:A49,),0)) -> #N/A | BX92: =IFERROR(VLOOKUP(E92,'3__mapping'!$A:$B,2,0),"") | BY92: =IFERROR(VLOOKUP(F92,'4__mapping'!$A:$B,2,0),"") | BZ92: =IFERROR(VLOOKUP(H92,'5__mapping'!$A:$B,2,0),"") | CA92: =IFERROR(VLOOKUP(K92,'6__mapping'!$A:$B,2,0),"") | CB92: =IFERROR(VLOOKUP(N92,'7__mapping'!$A:$B,2,0),"") | CC92: =IFERROR(VLOOKUP(AB92,'8__mapping'!$A:$B,2,0),"") | CD92: =IFERROR(VLOOKUP(AD92,'9__mapping'!$A:$B,2,0),"") | CE92: =IFERROR(VLOOKUP(AG92,'10__mapping'!$A:$B,2,0),"") | CF92: =IFERROR(VLOOKUP(AL92,'11__mapping'!$A:$B,2,0),"") | CG92: =IFERROR(VLOOKUP(AR92,'12__mapping'!$A:$B,2,0),"") | CH92: =IFERROR(VLOOKUP(AU92,'13__mapping'!$A:$B,2,0),"") | CI92: =IFERROR(VLOOKUP(AW92,'14__mapping'!$A:$B,2,0),"") | CJ92: =IFERROR(VLOOKUP(AY92,'15__mapping'!$A:$B,2,0),"") | CK92: =IFERROR(VLOOKUP(BA92,'16__mapping'!$A:$B,2,0),"") | CL92: =IFERROR(VLOOKUP(BC92,'17__mapping'!$A:$B,2,0),"") | CM92: =IFERROR(VLOOKUP(BE92,'18__mapping'!$A:$B,2,0),"") | CN92: =IFERROR(VLOOKUP(BG92,'19__mapping'!$A:$B,2,0),"") | CO92: =IFERROR(VLOOKUP(BI92,'20__mapping'!$A:$B,2,0),"") | CP92: =IFERROR(VLOOKUP(BK92,'21__mapping'!$A:$B,2,0),"") | CQ92: =IFERROR(VLOOKUP(BM92,'22__mapping'!$A:$B,2,0),"") | CR92: =IFERROR(VLOOKUP(BO92,'23__mapping'!$A:$B,2,0),"") | CS92: =IFERROR(VLOOKUP(BQ92,'24__mapping'!$A:$B,2,0),"")
A93: Create | BU93: =IFERROR(VLOOKUP(A93,'0__mapping'!$A:$B,2,0),"") -> CREATE | BV93: =IFERROR(VLOOKUP(C93,'1__mapping'!$A:$B,2,0),"") | BW93: =INDEX('2__mapping'!B2:'2__mapping'!B49,MATCH(BV93&D93, INDEX('2__mapping'!C2:C49&'2__mapping'!A2:A49,),0)) -> #N/A | BX93: =IFERROR(VLOOKUP(E93,'3__mapping'!$A:$B,2,0),"") | BY93: =IFERROR(VLOOKUP(F93,'4__mapping'!$A:$B,2,0),"") | BZ93: =IFERROR(VLOOKUP(H93,'5__mapping'!$A:$B,2,0),"") | CA93: =IFERROR(VLOOKUP(K93,'6__mapping'!$A:$B,2,0),"") | CB93: =IFERROR(VLOOKUP(N93,'7__mapping'!$A:$B,2,0),"") | CC93: =IFERROR(VLOOKUP(AB93,'8__mapping'!$A:$B,2,0),"") | CD93: =IFERROR(VLOOKUP(AD93,'9__mapping'!$A:$B,2,0),"") | CE93: =IFERROR(VLOOKUP(AG93,'10__mapping'!$A:$B,2,0),"") | CF93: =IFERROR(VLOOKUP(AL93,'11__mapping'!$A:$B,2,0),"") | CG93: =IFERROR(VLOOKUP(AR93,'12__mapping'!$A:$B,2,0),"") | CH93: =IFERROR(VLOOKUP(AU93,'13__mapping'!$A:$B,2,0),"") | CI93: =IFERROR(VLOOKUP(AW93,'14__mapping'!$A:$B,2,0),"") | CJ93: =IFERROR(VLOOKUP(AY93,'15__mapping'!$A:$B,2,0),"") | CK93: =IFERROR(VLOOKUP(BA93,'16__mapping'!$A:$B,2,0),"") | CL93: =IFERROR(VLOOKUP(BC93,'17__mapping'!$A:$B,2,0),"") | CM93: =IFERROR(VLOOKUP(BE93,'18__mapping'!$A:$B,2,0),"") | CN93: =IFERROR(VLOOKUP(BG93,'19__mapping'!$A:$B,2,0),"") | CO93: =IFERROR(VLOOKUP(BI93,'20__mapping'!$A:$B,2,0),"") | CP93: =IFERROR(VLOOKUP(BK93,'21__mapping'!$A:$B,2,0),"") | CQ93: =IFERROR(VLOOKUP(BM93,'22__mapping'!$A:$B,2,0),"") | CR93: =IFERROR(VLOOKUP(BO93,'23__mapping'!$A:$B,2,0),"") | CS93: =IFERROR(VLOOKUP(BQ93,'24__mapping'!$A:$B,2,0),"")
A94: Create | BU94: =IFERROR(VLOOKUP(A94,'0__mapping'!$A:$B,2,0),"") -> CREATE | BV94: =IFERROR(VLOOKUP(C94,'1__mapping'!$A:$B,2,0),"") | BW94: =INDEX('2__mapping'!B2:'2__mapping'!B49,MATCH(BV94&D94, INDEX('2__mapping'!C2:C49&'2__mapping'!A2:A49,),0)) -> #N/A | BX94: =IFERROR(VLOOKUP(E94,'3__mapping'!$A:$B,2,0),"") | BY94: =IFERROR(VLOOKUP(F94,'4__mapping'!$A:$B,2,0),"") | BZ94: =IFERROR(VLOOKUP(H94,'5__mapping'!$A:$B,2,0),"") | CA94: =IFERROR(VLOOKUP(K94,'6__mapping'!$A:$B,2,0),"") | CB94: =IFERROR(VLOOKUP(N94,'7__mapping'!$A:$B,2,0),"") | CC94: =IFERROR(VLOOKUP(AB94,'8__mapping'!$A:$B,2,0),"") | CD94: =IFERROR(VLOOKUP(AD94,'9__mapping'!$A:$B,2,0),"") | CE94: =IFERROR(VLOOKUP(AG94,'10__mapping'!$A:$B,2,0),"") | CF94: =IFERROR(VLOOKUP(AL94,'11__mapping'!$A:$B,2,0),"") | CG94: =IFERROR(VLOOKUP(AR94,'12__mapping'!$A:$B,2,0),"") | CH94: =IFERROR(VLOOKUP(AU94,'13__mapping'!$A:$B,2,0),"") | CI94: =IFERROR(VLOOKUP(AW94,'14__mapping'!$A:$B,2,0),"") | CJ94: =IFERROR(VLOOKUP(AY94,'15__mapping'!$A:$B,2,0),"") | CK94: =IFERROR(VLOOKUP(BA94,'16__mapping'!$A:$B,2,0),"") | CL94: =IFERROR(VLOOKUP(BC94,'17__mapping'!$A:$B,2,0),"") | CM94: =IFERROR(VLOOKUP(BE94,'18__mapping'!$A:$B,2,0),"") | CN94: =IFERROR(VLOOKUP(BG94,'19__mapping'!$A:$B,2,0),"") | CO94: =IFERROR(VLOOKUP(BI94,'20__mapping'!$A:$B,2,0),"") | CP94: =IFERROR(VLOOKUP(BK94,'21__mapping'!$A:$B,2,0),"") | CQ94: =IFERROR(VLOOKUP(BM94,'22__mapping'!$A:$B,2,0),"") | CR94: =IFERROR(VLOOKUP(BO94,'23__mapping'!$A:$B,2,0),"") | CS94: =IFERROR(VLOOKUP(BQ94,'24__mapping'!$A:$B,2,0),"")
A95: Create | BU95: =IFERROR(VLOOKUP(A95,'0__mapping'!$A:$B,2,0),"") -> CREATE | BV95: =IFERROR(VLOOKUP(C95,'1__mapping'!$A:$B,2,0),"") | BW95: =INDEX('2__mapping'!B2:'2__mapping'!B49,MATCH(BV95&D95, INDEX('2__mapping'!C2:C49&'2__mapping'!A2:A49,),0)) -> #N/A | BX95: =IFERROR(VLOOKUP(E95,'3__mapping'!$A:$B,2,0),"") | BY95: =IFERROR(VLOOKUP(F95,'4__mapping'!$A:$B,2,0),"") | BZ95: =IFERROR(VLOOKUP(H95,'5__mapping'!$A:$B,2,0),"") | CA95: =IFERROR(VLOOKUP(K95,'6__mapping'!$A:$B,2,0),"") | CB95: =IFERROR(VLOOKUP(N95,'7__mapping'!$A:$B,2,0),"") | CC95: =IFERROR(VLOOKUP(AB95,'8__mapping'!$A:$B,2,0),"") | CD95: =IFERROR(VLOOKUP(AD95,'9__mapping'!$A:$B,2,0),"") | CE95: =IFERROR(VLOOKUP(AG95,'10__mapping'!$A:$B,2,0),"") | CF95: =IFERROR(VLOOKUP(AL95,'11__mapping'!$A:$B,2,0),"") | CG95: =IFERROR(VLOOKUP(AR95,'12__mapping'!$A:$B,2,0),"") | CH95: =IFERROR(VLOOKUP(AU95,'13__mapping'!$A:$B,2,0),"") | CI95: =IFERROR(VLOOKUP(AW95,'14__mapping'!$A:$B,2,0),"") | CJ95: =IFERROR(VLOOKUP(AY95,'15__mapping'!$A:$B,2,0),"") | CK95: =IFERROR(VLOOKUP(BA95,'16__mapping'!$A:$B,2,0),"") | CL95: =IFERROR(VLOOKUP(BC95,'17__mapping'!$A:$B,2,0),"") | CM95: =IFERROR(VLOOKUP(BE95,'18__mapping'!$A:$B,2,0),"") | CN95: =IFERROR(VLOOKUP(BG95,'19__mapping'!$A:$B,2,0),"") | CO95: =IFERROR(VLOOKUP(BI95,'20__mapping'!$A:$B,2,0),"") | CP95: =IFERROR(VLOOKUP(BK95,'21__mapping'!$A:$B,2,0),"") | CQ95: =IFERROR(VLOOKUP(BM95,'22__mapping'!$A:$B,2,0),"") | CR95: =IFERROR(VLOOKUP(BO95,'23__mapping'!$A:$B,2,0),"") | CS95: =IFERROR(VLOOKUP(BQ95,'24__mapping'!$A:$B,2,0),"")
A96: Create | BU96: =IFERROR(VLOOKUP(A96,'0__mapping'!$A:$B,2,0),"") -> CREATE | BV96: =IFERROR(VLOOKUP(C96,'1__mapping'!$A:$B,2,0),"") | BW96: =INDEX('2__mapping'!B2:'2__mapping'!B49,MATCH(BV96&D96, INDEX('2__mapping'!C2:C49&'2__mapping'!A2:A49,),0)) -> #N/A | BX96: =IFERROR(VLOOKUP(E96,'3__mapping'!$A:$B,2,0),"") | BY96: =IFERROR(VLOOKUP(F96,'4__mapping'!$A:$B,2,0),"") | BZ96: =IFERROR(VLOOKUP(H96,'5__mapping'!$A:$B,2,0),"") | CA96: =IFERROR(VLOOKUP(K96,'6__mapping'!$A:$B,2,0),"") | CB96: =IFERROR(VLOOKUP(N96,'7__mapping'!$A:$B,2,0),"") | CC96: =IFERROR(VLOOKUP(AB96,'8__mapping'!$A:$B,2,0),"") | CD96: =IFERROR(VLOOKUP(AD96,'9__mapping'!$A:$B,2,0),"") | CE96: =IFERROR(VLOOKUP(AG96,'10__mapping'!$A:$B,2,0),"") | CF96: =IFERROR(VLOOKUP(AL96,'11__mapping'!$A:$B,2,0),"") | CG96: =IFERROR(VLOOKUP(AR96,'12__mapping'!$A:$B,2,0),"") | CH96: =IFERROR(VLOOKUP(AU96,'13__mapping'!$A:$B,2,0),"") | CI96: =IFERROR(VLOOKUP(AW96,'14__mapping'!$A:$B,2,0),"") | CJ96: =IFERROR(VLOOKUP(AY96,'15__mapping'!$A:$B,2,0),"") | CK96: =IFERROR(VLOOKUP(BA96,'16__mapping'!$A:$B,2,0),"") | CL96: =IFERROR(VLOOKUP(BC96,'17__mapping'!$A:$B,2,0),"") | CM96: =IFERROR(VLOOKUP(BE96,'18__mapping'!$A:$B,2,0),"") | CN96: =IFERROR(VLOOKUP(BG96,'19__mapping'!$A:$B,2,0),"") | CO96: =IFERROR(VLOOKUP(BI96,'20__mapping'!$A:$B,2,0),"") | CP96: =IFERROR(VLOOKUP(BK96,'21__mapping'!$A:$B,2,0),"") | CQ96: =IFERROR(VLOOKUP(BM96,'22__mapping'!$A:$B,2,0),"") | CR96: =IFERROR(VLOOKUP(BO96,'23__mapping'!$A:$B,2,0),"") | CS96: =IFERROR(VLOOKUP(BQ96,'24__mapping'!$A:$B,2,0),"")
A97: Create | BU97: =IFERROR(VLOOKUP(A97,'0__mapping'!$A:$B,2,0),"") -> CREATE | BV97: =IFERROR(VLOOKUP(C97,'1__mapping'!$A:$B,2,0),"") | BW97: =INDEX('2__mapping'!B2:'2__mapping'!B49,MATCH(BV97&D97, INDEX('2__mapping'!C2:C49&'2__mapping'!A2:A49,),0)) -> #N/A | BX97: =IFERROR(VLOOKUP(E97,'3__mapping'!$A:$B,2,0),"") | BY97: =IFERROR(VLOOKUP(F97,'4__mapping'!$A:$B,2,0),"") | BZ97: =IFERROR(VLOOKUP(H97,'5__mapping'!$A:$B,2,0),"") | CA97: =IFERROR(VLOOKUP(K97,'6__mapping'!$A:$B,2,0),"") | CB97: =IFERROR(VLOOKUP(N97,'7__mapping'!$A:$B,2,0),"") | CC97: =IFERROR(VLOOKUP(AB97,'8__mapping'!$A:$B,2,0),"") | CD97: =IFERROR(VLOOKUP(AD97,'9__mapping'!$A:$B,2,0),"") | CE97: =IFERROR(VLOOKUP(AG97,'10__mapping'!$A:$B,2,0),"") | CF97: =IFERROR(VLOOKUP(AL97,'11__mapping'!$A:$B,2,0),"") | CG97: =IFERROR(VLOOKUP(AR97,'12__mapping'!$A:$B,2,0),"") | CH97: =IFERROR(VLOOKUP(AU97,'13__mapping'!$A:$B,2,0),"") | CI97: =IFERROR(VLOOKUP(AW97,'14__mapping'!$A:$B,2,0),"") | CJ97: =IFERROR(VLOOKUP(AY97,'15__mapping'!$A:$B,2,0),"") | CK97: =IFERROR(VLOOKUP(BA97,'16__mapping'!$A:$B,2,0),"") | CL97: =IFERROR(VLOOKUP(BC97,'17__mapping'!$A:$B,2,0),"") | CM97: =IFERROR(VLOOKUP(BE97,'18__mapping'!$A:$B,2,0),"") | CN97: =IFERROR(VLOOKUP(BG97,'19__mapping'!$A:$B,2,0),"") | CO97: =IFERROR(VLOOKUP(BI97,'20__mapping'!$A:$B,2,0),"") | CP97: =IFERROR(VLOOKUP(BK97,'21__mapping'!$A:$B,2,0),"") | CQ97: =IFERROR(VLOOKUP(BM97,'22__mapping'!$A:$B,2,0),"") | CR97: =IFERROR(VLOOKUP(BO97,'23__mapping'!$A:$B,2,0),"") | CS97: =IFERROR(VLOOKUP(BQ97,'24__mapping'!$A:$B,2,0),"")
A98: Create | BU98: =IFERROR(VLOOKUP(A98,'0__mapping'!$A:$B,2,0),"") -> CREATE | BV98: =IFERROR(VLOOKUP(C98,'1__mapping'!$A:$B,2,0),"") | BW98: =INDEX('2__mapping'!B2:'2__mapping'!B49,MATCH(BV98&D98, INDEX('2__mapping'!C2:C49&'2__mapping'!A2:A49,),0)) -> #N/A | BX98: =IFERROR(VLOOKUP(E98,'3__mapping'!$A:$B,2,0),"") | BY98: =IFERROR(VLOOKUP(F98,'4__mapping'!$A:$B,2,0),"") | BZ98: =IFERROR(VLOOKUP(H98,'5__mapping'!$A:$B,2,0),"") | CA98: =IFERROR(VLOOKUP(K98,'6__mapping'!$A:$B,2,0),"") | CB98: =IFERROR(VLOOKUP(N98,'7__mapping'!$A:$B,2,0),"") | CC98: =IFERROR(VLOOKUP(AB98,'8__mapping'!$A:$B,2,0),"") | CD98: =IFERROR(VLOOKUP(AD98,'9__mapping'!$A:$B,2,0),"") | CE98: =IFERROR(VLOOKUP(AG98,'10__mapping'!$A:$B,2,0),"") | CF98: =IFERROR(VLOOKUP(AL98,'11__mapping'!$A:$B,2,0),"") | CG98: =IFERROR(VLOOKUP(AR98,'12__mapping'!$A:$B,2,0),"") | CH98: =IFERROR(VLOOKUP(AU98,'13__mapping'!$A:$B,2,0),"") | CI98: =IFERROR(VLOOKUP(AW98,'14__mapping'!$A:$B,2,0),"") | CJ98: =IFERROR(VLOOKUP(AY98,'15__mapping'!$A:$B,2,0),"") | CK98: =IFERROR(VLOOKUP(BA98,'16__mapping'!$A:$B,2,0),"") | CL98: =IFERROR(VLOOKUP(BC98,'17__mapping'!$A:$B,2,0),"") | CM98: =IFERROR(VLOOKUP(BE98,'18__mapping'!$A:$B,2,0),"") | CN98: =IFERROR(VLOOKUP(BG98,'19__mapping'!$A:$B,2,0),"") | CO98: =IFERROR(VLOOKUP(BI98,'20__mapping'!$A:$B,2,0),"") | CP98: =IFERROR(VLOOKUP(BK98,'21__mapping'!$A:$B,2,0),"") | CQ98: =IFERROR(VLOOKUP(BM98,'22__mapping'!$A:$B,2,0),"") | CR98: =IFERROR(VLOOKUP(BO98,'23__mapping'!$A:$B,2,0),"") | CS98: =IFERROR(VLOOKUP(BQ98,'24__mapping'!$A:$B,2,0),"")
A99: Create | BU99: =IFERROR(VLOOKUP(A99,'0__mapping'!$A:$B,2,0),"") -> CREATE | BV99: =IFERROR(VLOOKUP(C99,'1__mapping'!$A:$B,2,0),"") | BW99: =INDEX('2__mapping'!B2:'2__mapping'!B49,MATCH(BV99&D99, INDEX('2__mapping'!C2:C49&'2__mapping'!A2:A49,),0)) -> #N/A | BX99: =IFERROR(VLOOKUP(E99,'3__mapping'!$A:$B,2,0),"") | BY99: =IFERROR(VLOOKUP(F99,'4__mapping'!$A:$B,2,0),"") | BZ99: =IFERROR(VLOOKUP(H99,'5__mapping'!$A:$B,2,0),"") | CA99: =IFERROR(VLOOKUP(K99,'6__mapping'!$A:$B,2,0),"") | CB99: =IFERROR(VLOOKUP(N99,'7__mapping'!$A:$B,2,0),"") | CC99: =IFERROR(VLOOKUP(AB99,'8__mapping'!$A:$B,2,0),"") | CD99: =IFERROR(VLOOKUP(AD99,'9__mapping'!$A:$B,2,0),"") | CE99: =IFERROR(VLOOKUP(AG99,'10__mapping'!$A:$B,2,0),"") | CF99: =IFERROR(VLOOKUP(AL99,'11__mapping'!$A:$B,2,0),"") | CG99: =IFERROR(VLOOKUP(AR99,'12__mapping'!$A:$B,2,0),"") | CH99: =IFERROR(VLOOKUP(AU99,'13__mapping'!$A:$B,2,0),"") | CI99: =IFERROR(VLOOKUP(AW99,'14__mapping'!$A:$B,2,0),"") | CJ99: =IFERROR(VLOOKUP(AY99,'15__mapping'!$A:$B,2,0),"") | CK99: =IFERROR(VLOOKUP(BA99,'16__mapping'!$A:$B,2,0),"") | CL99: =IFERROR(VLOOKUP(BC99,'17__mapping'!$A:$B,2,0),"") | CM99: =IFERROR(VLOOKUP(BE99,'18__mapping'!$A:$B,2,0),"") | CN99: =IFERROR(VLOOKUP(BG99,'19__mapping'!$A:$B,2,0),"") | CO99: =IFERROR(VLOOKUP(BI99,'20__mapping'!$A:$B,2,0),"") | CP99: =IFERROR(VLOOKUP(BK99,'21__mapping'!$A:$B,2,0),"") | CQ99: =IFERROR(VLOOKUP(BM99,'22__mapping'!$A:$B,2,0),"") | CR99: =IFERROR(VLOOKUP(BO99,'23__mapping'!$A:$B,2,0),"") | CS99: =IFERROR(VLOOKUP(BQ99,'24__mapping'!$A:$B,2,0),"")
A100: Create | BU100: =IFERROR(VLOOKUP(A100,'0__mapping'!$A:$B,2,0),"") -> CREATE | BV100: =IFERROR(VLOOKUP(C100,'1__mapping'!$A:$B,2,0),"") | BW100: =INDEX('2__mapping'!B2:'2__mapping'!B49,MATCH(BV100&D100, INDEX('2__mapping'!C2:C49&'2__mapping'!A2:A49,),0)) -> #N/A | BX100: =IFERROR(VLOOKUP(E100,'3__mapping'!$A:$B,2,0),"") | BY100: =IFERROR(VLOOKUP(F100,'4__mapping'!$A:$B,2,0),"") | BZ100: =IFERROR(VLOOKUP(H100,'5__mapping'!$A:$B,2,0),"") | CA100: =IFERROR(VLOOKUP(K100,'6__mapping'!$A:$B,2,0),"") | CB100: =IFERROR(VLOOKUP(N100,'7__mapping'!$A:$B,2,0),"") | CC100: =IFERROR(VLOOKUP(AB100,'8__mapping'!$A:$B,2,0),"") | CD100: =IFERROR(VLOOKUP(AD100,'9__mapping'!$A:$B,2,0),"") | CE100: =IFERROR(VLOOKUP(AG100,'10__mapping'!$A:$B,2,0),"") | CF100: =IFERROR(VLOOKUP(AL100,'11__mapping'!$A:$B,2,0),"") | CG100: =IFERROR(VLOOKUP(AR100,'12__mapping'!$A:$B,2,0),"") | CH100: =IFERROR(VLOOKUP(AU100,'13__mapping'!$A:$B,2,0),"") | CI100: =IFERROR(VLOOKUP(AW100,'14__mapping'!$A:$B,2,0),"") | CJ100: =IFERROR(VLOOKUP(AY100,'15__mapping'!$A:$B,2,0),"") | CK100: =IFERROR(VLOOKUP(BA100,'16__mapping'!$A:$B,2,0),"") | CL100: =IFERROR(VLOOKUP(BC100,'17__mapping'!$A:$B,2,0),"") | CM100: =IFERROR(VLOOKUP(BE100,'18__mapping'!$A:$B,2,0),"") | CN100: =IFERROR(VLOOKUP(BG100,'19__mapping'!$A:$B,2,0),"") | CO100: =IFERROR(VLOOKUP(BI100,'20__mapping'!$A:$B,2,0),"") | CP100: =IFERROR(VLOOKUP(BK100,'21__mapping'!$A:$B,2,0),"") | CQ100: =IFERROR(VLOOKUP(BM100,'22__mapping'!$A:$B,2,0),"") | CR100: =IFERROR(VLOOKUP(BO100,'23__mapping'!$A:$B,2,0),"") | CS100: =IFERROR(VLOOKUP(BQ100,'24__mapping'!$A:$B,2,0),"")
...

Sheet 0__mapping
A1: label | B1: value
A2: Create | B2: CREATE
A3: Edit | B3: EDIT

Sheet 1__mapping
A1: label | B1: value
A2: A Company | B2: f00901e4-44e4-45ae-a8b6-b687727925da
A3: Accent-e-Technology | B3: ef424e8d-357b-4489-8dd3-17812627f373
A4: Adroit Solutions | B4: 54b22bb6-3403-4512-8340-9c43f2451b0a
A5: AigleSoft | B5: da15d893-3bde-43c0-b086-27e1b338f3e0
A6: Altra Systems | B6: f10e6f1b-371a-416a-8d0a-99dc7c84e3e2
A7: Blossom | B7: 4932d6a4-cb41-4591-b9ce-2f33554a94eb
A8: Bubba Gump | B8: 469c88f7-7910-45ec-b5b2-4e4d27422f18
A9: Crystal Dynamics | B9: cbbd14f3-c38c-4bf6-a886-ceaf7b51f6bb
A10: Deal Design | B10: 80ec57b5-d7b8-470e-a0f1-a3b1f0f38a35
A11: Demonstrative Spot | B11: 6c767abb-d383-4aed-9aa0-2c7794b2966c
A12: Design Box | B12: 35e7b928-e9d0-48ab-9f63-53b6668d40c1
... A43: Wayne Enterprises | B43: 6807ea70-5a66-452e-b43b-0d0634f3516e

Sheet 2__mapping
A1: label | B1: value | C1: direct_client_id
A2: Fancy Full Ink | B2: e689ad57-142d-499f-a722-5f8967d1b40d | C2: 0afd0a5f-e309-4804-aaa4-d2007144c4ff
A3: Go Figure | B3: 4c65c86e-4a6d-47a6-ac4a-9407054114be | C3: 0afd0a5f-e309-4804-aaa4-d2007144c4ff
A4: Incisive Designs | B4: 3327c920-ab21-4cdd-96b3-b497460c33cf | C4: 0afd0a5f-e309-4804-aaa4-d2007144c4ff
A5: Jagex | B5: 7e4b0f35-c3b0-46f7-bbb7-b76bcb56abc6 | C5: 0afd0a5f-e309-4804-aaa4-d2007144c4ff
A6: Looney Tunes | B6: 8af296a1-d6f8-4ce7-988a-5560a28bfa34 | C6: 0afd0a5f-e309-4804-aaa4-d2007144c4ff
A7: Orn LLC | B7: 439b58af-04a4-4e95-8f06-2eb1f081c651 | C7: 0afd0a5f-e309-4804-aaa4-d2007144c4ff
A8: Packhelp | B8: 57c6d96e-1203-4fd1-ae25-e0676951c7ee | C8: 0afd0a5f-e309-4804-aaa4-d2007144c4ff
A9: Rare Assembly | B9: bdf70508-0bc7-46c2-8362-37e981e0e91a | C9: 0afd0a5f-e309-4804-aaa4-d2007144c4ff
A10: Splashed Craft | B10: dcbeeed3-e4e7-4302-9911-9547e60a10ef | C10: 0afd0a5f-e309-4804-aaa4-d2007144c4ff
A11: The Bronze Car | B11: 2799f0e0-1996-4c5c-9ba9-a9342581a302 | C11: 0afd0a5f-e309-4804-aaa4-d2007144c4ff
A12: The Empty Plate | B12: 7967d90a-b7e1-4373-9b20-a9e1f9bba4bc | C12: 0afd0a5f-e309-4804-aaa4-d2007144c4ff
... A49: test Tal2 | B49: 6de3e1df-85b3-4526-83ff-9afcad45cf6a | C49: f00901e4-44e4-45ae-a8b6-b687727925da

Sheet 3__mapping
A1: label | B1: value
A2: Afghanistan | B2: AF
A3: Åland Islands | B3: AX
A4: Albania | B4: AL
A5: Algeria | B5: DZ
A6: American Samoa | B6: AS
A7: Andorra | B7: AD
A8: Angola | B8: AO
A9: Anguilla | B9: AI
A10: Antarctica | B10: AQ
A11: Antigua & Barbuda | B11: AG
A12: Argentina | B12: AR
... A251: Zimbabwe | B251: ZW

Sheet 4__mapping
A1: label | B1: value
A2: Active | B2: ACTIVE
A3: Cancelled | B3: ARCHIVED
A4: Inactive | B4: OFFBOARDED
A5: Onboarding | B5: ONBOARDING
A6: Onboarding Overdue | B6: OVERDUE
A7: To Be Offboarded | B7: TO_BE_OFFBOARDED

Sheet 5__mapping
A1: label | B1: value
A2: ❌ | B2: FALSE
A3: ✔ | B3: TRUE

Sheet 6__mapping
A1: label | B1: value
A2: Fixed Term | B2: FIXED_TERM
A3: Fixed Term End Confirmed | B3: FIXED_TERM_END_CONFIRMED
A4: Fixed Term Renewable | B4: FIXED_TERM_RENEWABLE
A5: Indefinite | B5: INDEFINITE
A6: Indefinite End Confirmed | B6: INDEFINITE_END_CONFIRMED

Sheet 7__mapping
A1: label | B1: value
A2: Crystal Dynamics - JP - 123 Provider - JPY | B2: 2470f087-c6b3-49de-b41c-91e0de74dfa8
A3: Crystal Dynamics - JP - A Payroll - JPY | B3: 498f8f9e-2143-444f-9465-67e64b43f019
A4: Crystal Dynamics - JP - ABC Provider - JPY | B4: 5b027bab-e77b-4294-9c42-3d6eede32849
A5: Crystal Dynamics - JP - Example Provider - JPY | B5: 469cbc89-8ab7-4b1f-bf05-355518dd246d
A6: Crystal Dynamics - JP - Example Provider - JPY | B6: 5aa237a7-79ef-49be-af83-e79839b75714
A7: Example Corporation (China) - CN - Example Provider - CNY | B7: 8cfe2c7d-3a89-4aa2-be69-e04d0f46b0f1
A8: Example Corporation (China) - CN - Example Provider - CNY | B8: 341d8cbc-5f21-48e9-9b71-b8692a16a95b
A9: France - FR - Testing Provider - EUR | B9: 07f462c9-c108-4725-911d-1ded2d95ccf6
A10: GoGlobal Australia - AU - A Payroll - AUD | B10: d4e1ed75-8c43-4864-bda1-98615d2a01ee
A11: Jaguar Corporation - JP - Mazars - JPY | B11: a2aabda2-5ada-409b-a614-4090c3c3f5fe
A12: Japan Demo - JP - A Payroll - JPY | B12: 240aa19e-4652-45f6-87d4-4cdeadeed0a9
... A23: Testing Corp - CN - Testing Provider - CNY | B23: c176b92c-4bce-458e-820c-462ddef45eba

Sheet 8__mapping
A1: label | B1: value
A2: Afghanistan | B2: AF
A3: Åland Islands | B3: AX
A4: Albania | B4: AL
A5: Algeria | B5: DZ
A6: American Samoa | B6: AS
A7: Andorra | B7: AD
A8: Angola | B8: AO
A9: Anguilla | B9: AI
A10: Antarctica | B10: AQ
A11: Antigua & Barbuda | B11: AG
A12: Argentina | B12: AR
... A251: Zimbabwe | B251: ZW

Sheet 9__mapping
A1: label | B1: value
A2: Female | B2: FEMALE
A3: Male | B3: MALE
A4: Non Binary | B4: NON_BINARY
A5: Other | B5: OTHER
A6: Prefer not to disclose | B6: NOT_DISCLOSED

Sheet 10__mapping
A1: label | B1: value
A2: Afghanistan | B2: AF
A3: Åland Islands | B3: AX
A4: Albania | B4: AL
A5: Algeria | B5: DZ
A6: American Samoa | B6: AS
A7: Andorra | B7: AD
A8: Angola | B8: AO
A9: Anguilla | B9: AI
A10: Antarctica | B10: AQ
A11: Antigua & Barbuda | B11: AG
A12: Argentina | B12: AR
... A251: Zimbabwe | B251: ZW

Sheet 11__mapping
A1: label | B1: value
A2: Afghanistan | B2: AF
A3: Åland Islands | B3: AX
A4: Albania | B4: AL
A5: Algeria | B5: DZ
A6: American Samoa | B6: AS
A7: Andorra | B7: AD
A8: Angola | B8: AO
A9: Anguilla | B9: AI
A10: Antarctica | B10: AQ
A11: Antigua & Barbuda | B11: AG
A12: Argentina | B12: AR
... A251: Zimbabwe | B251: ZW

Sheet 12__mapping
A1: label | B1: value
A2: Afghanistan | B2: AF
A3: Åland Islands | B3: AX
A4: Albania | B4: AL
A5: Algeria | B5: DZ
A6: American Samoa | B6: AS
A7: Andorra | B7: AD
A8: Angola | B8: AO
A9: Anguilla | B9: AI
A10: Antarctica | B10: AQ
A11: Antigua & Barbuda | B11: AG
A12: Argentina | B12: AR
... A251: Zimbabwe | B251: ZW

Sheet 13__mapping
A1: label | B1: value
A2: branch1 | B2: e23e727b-c027-49db-9561-32050ed3d288
A3: branch2 | B3: 6854c88e-b4b7-464e-a1f1-d62d4a3b3050
A4: branch3 | B4: 669b8dc5-309b-4d16-b81e-d5b1ec3d72a1

Sheet 14__mapping
A1: label | B1: value
A2: ENG | B2: 9438798b-bd9f-4d0a-895a-7be83d9df9a6
A3: Operations | B3: 0964a8ff-12e8-4803-86ae-013a5c30bb95
A4: Sales | B4: f26facf0-352a-4628-95fe-377c2e131de6

Sheet 15__mapping
A1: label | B1: value
A2: AB | B2: a3488046-5a7f-42fe-a220-f875579b0dbe
A3: B | B3: f4a4ef86-7e2a-43a5-8438-041d51ca0ba2

Sheet 16__mapping
A1: label | B1: value
A2: group1 | B2: 3af9c4a3-06d6-4b8e-aa6c-d73cc59bd405

Sheet 17__mapping
A1: label | B1: value
A2: group1 | B2: f2593c13-0cf6-439e-8ca3-79d1618f07d7
A3: group2 | B3: 639515b5-201f-44cd-aa50-69c8c213e200
A4: group3 | B4: 00646943-dacc-48ee-8ee5-fc413300df41

Sheet 18__mapping
A1: label | B1: value
A2: Expat | B2: 31b71fbe-0f66-43b3-a341-dd8534384a5d
A3: Local | B3: 1f250e7b-5389-49b4-a3ad-cb7ce1f2a431

Sheet 19__mapping
A1: label | B1: value
A2: A | B2: dad3978f-6164-437a-90cc-6537ec26417c
A3: B | B3: b0b89c02-1358-45b8-b71e-3590f732c4bd
A4: C | B4: 1ee30de9-0dfa-431c-800e-124124be302a

Sheet 20__mapping
A1: label | B1: value
A2: 1 | B2: 0f848aaa-0eaf-4ac8-ad9b-811b098b2a76

Sheet 21__mapping
A1: label | B1: value
A2: Bezos | B2: fbdb9cf8-2d8b-46d9-9c06-1de52f64e1e5
A3: Bill | B3: 1c489c63-7cf6-4988-9834-1b53d7fc54a7
A4: Elon | B4: d0baeb45-fefc-4a82-8aba-308ec194ea97
A5: Zuck | B5: 7c30d685-7222-4d9a-9b4b-d6bc7d2b3318

Sheet 22__mapping
A1: label | B1: value
A2: 1 | B2: 8906f4d4-108b-4c4a-a846-08f03d70cc68
A3: 2 | B3: 2c5877af-a12e-488f-9284-1771fdc33cc4

Sheet 23__mapping
A1: label | B1: value
A2: tier1 | B2: a0437424-2e65-4e32-9f36-db884b7a010e
A3: tier2 | B3: d3024a9e-3e0c-4cf0-8dc9-d1acc27f69db

Sheet 24__mapping
A1: label | B1: value
A2: confirmed | B2: d0cdccb6-94d4-4579-a0b7-b78a6163cf3c
A3: opted out | B3: 16a02193-4433-4d51-9946-3a4b6aec4272

Sheet __metadata
A1: version
A2: v2023-04
