Workbook

Sheet Workers
A1: Create / Edit | B1: Employee | N1: Payrun | S1: Employee Info | AE1: Residential Address | AJ1: Office Address | AO1: Mailing Address | AU1: Metadata | BS1: ID | BU1: Mapping
A2: Required | B2: Required | C2: Required | D2: Optional | E2: Required | F2: Required | G2: Optional | H2: Optional | I2: Optional | J2: Optional | K2: Optional | L2: Optional | M2: Optional | N2: Optional | O2: Optional | P2: Optional | Q2: Optional | R2: Optional | S2: Optional | T2: Optional | U2: Optional | V2: Optional | W2: Optional | X2: Optional | Y2: Optional | Z2: Optional | AA2: Optional | AB2: Optional | AC2: Optional | AD2: Optional | AE2: Optional | AF2: Optional | AG2: Optional | AH2: Optional | AI2: Optional | AJ2: Optional | AK2: Optional | AL2: Optional | AM2: Optional | AN2: Optional | AO2: Optional | AP2: Optional | AQ2: Optional | AR2: Optional | AS2: Optional | AT2: Optional | AU2: Optional | AV2: Optional | AW2: Optional | AX2: Optional | AY2: Optional | AZ2: Optional | BA2: Optional | BB2: Optional | BC2: Optional | BD2: Optional | BE2: Optional | BF2: Optional | BG2: Optional | BH2: Optional | BI2: Optional | BJ2: Optional | BK2: Optional | BL2: Optional | BM2: Optional | BN2: Optional | BO2: Optional | BP2: Optional | BQ2: Optional | BR2: Optional | BS2: Optional | BT2: Optional
A3: Create or Edit | B3: Worker Name | C3: Client | D3: End Client | E3: Work Country | F3: Employment Status | G3: Date of Birth | H3: Visa Service | I3: Visa Renewal Date | J3: Visa Application Remarks | K3: Contract Status | L3: Employment Contract Start Date | M3: Expected End Date | N3: Recurring Payrun | O3: First Payrun Date | P3: Effective Start Date | Q3: Last Payrun Date | R3: Effective End Date | S3: Spinach Demo Tenant ID | T3: Client Worker ID | U3: Legal Name in Local Language | V3: Personal Email | W3: Business Email | X3: Phone Number | Y3: Job Title | Z3: Annual Leave | AA3: Probation Period | AB3: Citizenship Country | AC3: National ID | AD3: Gender | AE3: Residential Address | AF3: Residential Address City | AG3: Residential Address Country | AH3: Residential Postal Code | AI3: Residential Address State | AJ3: Office Address | AK3: Office Address City | AL3: Office Address Country | AM3: Office Postal Code | AN3: Office Address State | AO3: Mailing Address Line 1 | AP3: Mailing Address Line 2 | AQ3: Mailing Address City | AR3: Mailing Address Country | AS3: Mail Address Postal Code | AT3: Mailing Address State | AU3: branch | AV3: branch Remarks | AW3: Cost Centre | AX3: Cost Centre Remarks | AY3: Group | AZ3: Group Remarks | BA3: Group 2 | BB3: Group 2 Remarks | BC3: Group test | BD3: Group test Remarks | BE3: Local or Expat | BF3: Local or Expat Remarks | BG3: Section | BH3: Section Remarks | BI3: Task A | BJ3: Task A Remarks | BK3: Team (チーム) | BL3: Team (チーム) Remarks | BM3: test Tal | BN3: test Tal Remarks | BO3: tier | BP3: tier Remarks | BQ3: Travel Insurance | BR3: Travel Insurance Remarks | BS3: ID | BT3: Old Recurring Payrun ID | BU3: 0__mapping | BV3: 1__mapping | BW3: 2__mapping | BX3: 3__mapping | BY3: 4__mapping | BZ3: 5__mapping | CA3: 6__mapping | CB3: 7__mapping | CC3: 8__mapping | CD3: 9__mapping | CE3: 10__mapping | CF3: 11__mapping | CG3: 12__mapping | CH3: 13__mapping | CI3: 14__mapping | CJ3: 15__mapping | CK3: 16__mapping | CL3: 17__mapping | CM3: 18__mapping | CN3: 19__mapping | CO3: 20__mapping | CP3: 21__mapping | CQ3: 22__mapping | CR3: 23__mapping | CS3: 24__mapping
A4: Create | B4: Alice Smith | C4: A Company | E4: Japan | F4: Active | BU4: =IFERROR(VLOOKUP(A4,'0__mapping'!$A:$B,2,0),"") -> CREATE | BV4: =IFERROR(VLOOKUP(C4,'1__mapping'!$A:$B,2,0),"") -> f00901e4-44e4-45ae-a8b6-b687727925da | BW4: =INDEX('2__mapping'!B2:'2__mapping'!B49,MATCH(BV4&D4, INDEX('2__mapping'!C2:C49&'2__mapping'!A2:A49,),0)) -> #N/A | BX4: =IFERROR(VLOOKUP(E4,'3__mapping'!$A:$B,2,0),"") -> JP | BY4: =IFERROR(VLOOKUP(F4,'4__mapping'!$A:$B,2,0),"") -> ACTIVE | BZ4: =IFERROR(VLOOKUP(H4,'5__mapping'!$A:$B,2,0),"") | CA4: =IFERROR(VLOOKUP(K4,'6__mapping'!$A:$B,2,0),"") | CB4: =IFERROR(VLOOKUP(N4,'7__mapping'!$A:$B,2,0),"") | CC4: =IFERROR(VLOOKUP(AB4,'8__mapping'!$A:$B,2,0),"") | CD4: =IFERROR(VLOOKUP(AD4,'9__mapping'!$A:$B,2,0),"") | CE4: =IFERROR(VLOOKUP(AG4,'10__mapping'!$A:$B,2,0),"") | CF4: =IFERROR(VLOOKUP(AL4,'11__mapping'!$A:$B,2,0),"") | CG4: =IFERROR(VLOOKUP(AR4,'12__mapping'!$A:$B,2,0),"") | CH4: =IFERROR(VLOOKUP(AU4,'13__mapping'!$A:$B,2,0),"") | CI4: =IFERROR(VLOOKUP(AW4,'14__mapping'!$A:$B,2,0),"") | CJ4: =IFERROR(VLOOKUP(AY4,'15__mapping'!$A:$B,2,0),"") | CK4: =IFERROR(VLOOKUP(BA4,'16__mapping'!$A:$B,2,0),"") | CL4: =IFERROR(VLOOKUP(BC4,'17__mapping'!$A:$B,2,0),"") | CM4: =IFERROR(VLOOKUP(BE4,'18__mapping'!$A:$B,2,0),"") | CN4: =IFERROR(VLOOKUP(BG4,'19__mapping'!$A:$B,2,0),"") | CO4: =IFERROR(VLOOKUP(BI4,'20__mapping'!$A:$B,2,0),"") | CP4: =IFERROR(VLOOKUP(BK4,'21__mapping'!$A:$B,2,0),"") | CQ4: =IFERROR(VLOOKUP(BM4,'22__mapping'!$A:$B,2,0),"") | CR4: =IFERROR(VLOOKUP(BO4,'23__mapping'!$A:$B,2,0),"") | CS4: =IFERROR(VLOOKUP(BQ4,'24__mapping'!$A:$B,2,0),"")
A5: Create | BU5: =IFERROR(VLOOKUP(A5,'0__mapping'!$A:$B,2,0),"") -> CREATE | BV5: =IFERROR(VLOOKUP(C5,'1__mapping'!$A:$B,2,0),"") | BW5: =INDEX('2__mapping'!B2:'2__mapping'!B49,MATCH(BV5&D5, INDEX('2__mapping'!C2:C49&'2__mapping'!A2:A49,),0)) -> #N/A | BX5: =IFERROR(VLOOKUP(E5,'3__mapping'!$A:$B,2,0),"") | BY5: =IFERROR(VLOOKUP(F5,'4__mapping'!$A:$B,2,0),"") | BZ5: =IFERROR(VLOOKUP(H5,'5__mapping'!$A:$B,2,0),"") | CA5: =IFERROR(VLOOKUP(K5,'6__mapping'!$A:$B,2,0),"") | CB5: =IFERROR(VLOOKUP(N5,'7__mapping'!$A:$B,2,0),"") | CC5: =IFERROR(VLOOKUP(AB5,'8__mapping'!$A:$B,2,0),"") | CD5: =IFERROR(VLOOKUP(AD5,'9__mapping'!$A:$B,2,0),"") | CE5: =IFERROR(VLOOKUP(AG5,'10__mapping'!$A:$B,2,0),"") | CF5: =IFERROR(VLOOKUP(AL5,'11__mapping'!$A:$B,2,0),"") | CG5: =IFERROR(VLOOKUP(AR5,'12__mapping'!$A:$B,2,0),"") | CH5: =IFERROR(VLOOKUP(AU5,'13__mapping'!$A:$B,2,0),"") | CI5: =IFERROR(VLOOKUP(AW5,'14__mapping'!$A:$B,2,0),"") | CJ5: =IFERROR(VLOOKUP(AY5,'15__mapping'!$A:$B,2,0),"") | CK5: =IFERROR(VLOOKUP(BA5,'16__mapping'!$A:$B,2,0),"") | CL5: =IFERROR(VLOOKUP(BC5,'17__mapping'!$A:$B,2,0),"") | CM5: =IFERROR(VLOOKUP(BE5,'18__mapping'!$A:$B,2,0),"") | CN5: =IFERROR(VLOOKUP(BG5,'19__mapping'!$A:$B,2,0),"") | CO5: =IFERROR(VLOOKUP(BI5,'20__mapping'!$A:$B,2,0),"") | CP5: =IFERROR(VLOOKUP(BK5,'21__mapping'!$A:$B,2,0),"") | CQ5: =IFERROR(VLOOKUP(BM5,'22__mapping'!$A:$B,2,0),"") | CR5: =IFERROR(VLOOKUP(BO5,'23__mapping'!$A:$B,2,0),"") | CS5: =IFERROR(VLOOKUP(BQ5,'24__mapping'!$A:$B,2,0),"")
A6: Create | BU6: =IFERROR(VLOOKUP(A6,'0__mapping'!$A:$B,2,0),"") -> CREATE | BV6: =IFERROR(VLOOKUP(C6,'1__mapping'!$A:$B,2,0),"") | BW6: =INDEX('2__mapping'!B2:'2__mapping'!B49,MATCH(BV6&D6, INDEX('2__mapping'!C2:C49&'2__mapping'!A2:A49,),0)) -> #N/A | BX6: =IFERROR(VLOOKUP(E6,'3__mapping'!$A:$B,2,0),"") | BY6: =IFERROR(VLOOKUP(F6,'4__mapping'!$A:$B,2,0),"") | BZ6: =IFERROR(VLOOKUP(H6,'5__mapping'!$A:$B,2,0),"") | CA6: =IFERROR(VLOOKUP(K6,'6__mapping'!$A:$B,2,0),"") | CB6: =IFERROR(VLOOKUP(N6,'7__mapping'!$A:$B,2,0),"") | CC6: =IFERROR(VLOOKUP(AB6,'8__mapping'!$A:$B,2,0),"") | CD6: =IFERROR(VLOOKUP(AD6,'9__mapping'!$A:$B,2,0),"") | CE6: =IFERROR(VLOOKUP(AG6,'10__mapping'!$A:$B,2,0),"") | CF6: =IFERROR(VLOOKUP(AL6,'11__mapping'!$A:$B,2,0),"") | CG6: =IFERROR(VLOOKUP(AR6,'12__mapping'!$A:$B,2,0),"") | CH6: =IFERROR(VLOOKUP(AU6,'13__mapping'!$A:$B,2,0),"") | CI6: =IFERROR(VLOOKUP(AW6,'14__mapping'!$A:$B,2,0),"") | CJ6: =IFERROR(VLOOKUP(AY6,'15__mapping'!$A:$B,2,0),"") | CK6: =IFERROR(VLOOKUP(BA6,'16__mapping'!$A:$B,2,0),"") | CL6: =IFERROR(VLOOKUP(BC6,'17__mapping'!$A:$B,2,0),"") | CM6: =IFERROR(VLOOKUP(BE6,'18__mapping'!$A:$B,2,0),"") | CN6: =IFERROR(VLOOKUP(BG6,'19__mapping'!$A:$B,2,0),"") | CO6: =IFERROR(VLOOKUP(BI6,'20__mapping'!$A:$B,2,0),"") | CP6: =IFERROR(VLOOKUP(BK6,'21__mapping'!$A:$B,2,0),"") | CQ6: =IFERROR(VLOOKUP(BM6,'22__mapping'!$A:$B,2,0),"") | CR6: =IFERROR(VLOOKUP(BO6,'23__mapping'!$A:$B,2,0),"") | CS6: =IFERROR(VLOOKUP(BQ6,'24__mapping'!$A:$B,2,0),"")
A7: Create | BU7: =IFERROR(VLOOKUP(A7,'0__mapping'!$A:$B,2,0),"") -> CREATE | BV7: =IFERROR(VLOOKUP(C7,'1__mapping'!$A:$B,2,0),"") | BW7: =INDEX('2__mapping'!B2:'2__mapping'!B49,MATCH(BV7&D7, INDEX('2__mapping'!C2:C49&'2__mapping'!A2:A49,),0)) -> #N/A | BX7: =IFERROR(VLOOKUP(E7,'3__mapping'!$A:$B,2,0),"") | BY7: =IFERROR(VLOOKUP(F7,'4__mapping'!$A:$B,2,0),"") | BZ7: =IFERROR(VLOOKUP(H7,'5__mapping'!$A:$B,2,0),"") | CA7: =IFERROR(VLOOKUP(K7,'6__mapping'!$A:$B,2,0),"") | CB7: =IFERROR(VLOOKUP(N7,'7__mapping'!$A:$B,2,0),"") | CC7: =IFERROR(VLOOKUP(AB7,'8__mapping'!$A:$B,2,0),"") | CD7: =IFERROR(VLOOKUP(AD7,'9__mapping'!$A:$B,2,0),"") | CE7: =IFERROR(VLOOKUP(AG7,'10__mapping'!$A:$B,2,0),"") | CF7: =IFERROR(VLOOKUP(AL7,'11__mapping'!$A:$B,2,0),"") | CG7: =IFERROR(VLOOKUP(AR7,'12__mapping'!$A:$B,2,0),"") | CH7: =IFERROR(VLOOKUP(AU7,'13__mapping'!$A:$B,2,0),"") | CI7: =IFERROR(VLOOKUP(AW7,'14__mapping'!$A:$B,2,0),"") | CJ7: =IFERROR(VLOOKUP(AY7,'15__mapping'!$A:$B,2,0),"") | CK7: =IFERROR(VLOOKUP(BA7,'16__mapping'!$A:$B,2,0),"") | CL7: =IFERROR(VLOOKUP(BC7,'17__mapping'!$A:$B,2,0),"") | CM7: =IFERROR(VLOOKUP(BE7,'18__mapping'!$A:$B,2,0),"") | CN7: =IFERROR(VLOOKUP(BG7,'19__mapping'!$A:$B,2,0),"") | CO7: =IFERROR(VLOOKUP(BI7,'20__mapping'!$A:$B,2,0),"") | CP7: =IFERROR(VLOOKUP(BK7,'21__mapping'!$A:$B,2,0),"") | CQ7: =IFERROR(VLOOKUP(BM7,'22__mapping'!$A:$B,2,0),"") | CR7: =IFERROR(VLOOKUP(BO7,'23__mapping'!$A:$B,2,0),"") | CS7: =IFERROR(VLOOKUP(BQ7,'24__mapping'!$A:$B,2,0),"")
A8: Create | BU8: =IFERROR(VLOOKUP(A8,'0__mapping'!$A:$B,2,0),"") -> CREATE | BV8: =IFERROR(VLOOKUP(C8,'1__mapping'!$A:$B,2,0),"") | BW8: =INDEX('2__mapping'!B2:'2__mapping'!B49,MATCH(BV8&D8, INDEX('2__mapping'!C2:C49&'2__mapping'!A2:A49,),0)) -> #N/A | BX8: =IFERROR(VLOOKUP(E8,'3__mapping'!$A:$B,2,0),"") | BY8: =IFERROR(VLOOKUP(F8,'4__mapping'!$A:$B,2,0),"") | BZ8: =IFERROR(VLOOKUP(H8,'5__mapping'!$A:$B,2,0),"") | CA8: =IFERROR(VLOOKUP(K8,'6__mapping'!$A:$B,2,0),"") | CB8: =IFERROR(VLOOKUP(N8,'7__mapping'!$A:$B,2,0),"") | CC8: =IFERROR(VLOOKUP(AB8,'8__mapping'!$A:$B,2,0),"") | CD8: =IFERROR(VLOOKUP(AD8,'9__mapping'!$A:$B,2,0),"") | CE8: =IFERROR(VLOOKUP(AG8,'10__mapping'!$A:$B,2,0),"") | CF8: =IFERROR(VLOOKUP(AL8,'11__mapping'!$A:$B,2,0),"") | CG8: =IFERROR(VLOOKUP(AR8,'12__mapping'!$A:$B,2,0),"") | CH8: =IFERROR(VLOOKUP(AU8,'13__mapping'!$A:$B,2,0),"") | CI8: =IFERROR(VLOOKUP(AW8,'14__mapping'!$A:$B,2,0),"") | CJ8: =IFERROR(VLOOKUP(AY8,'15__mapping'!$A:$B,2,0),"") | CK8: =IFERROR(VLOOKUP(BA8,'16__mapping'!$A:$B,2,0),"") | CL8: =IFERROR(VLOOKUP(BC8,'17__mapping'!$A:$B,2,0),"") | CM8: =IFERROR(VLOOKUP(BE8,'18__mapping'!$A:$B,2,0),"") | CN8: =IFERROR(VLOOKUP(BG8,'19__mapping'!$A:$B,2,0),"") | CO8: =IFERROR(VLOOKUP(BI8,'20__mapping'!$A:$B,2,0),"") | CP8: =IFERROR(VLOOKUP(BK8,'21__mapping'!$A:$B,2,0),"") | CQ8: =IFERROR(VLOOKUP(BM8,'22__mapping'!$A:$B,2,0),"") | CR8: =IFERROR(VLOOKUP(BO8,'23__mapping'!$A:$B,2,0),"") | CS8: =IFERROR(VLOOKUP(BQ8,'24__mapping'!$A:$B,2,0),"")
A9: Create | BU9: =IFERROR(VLOOKUP(A9,'0__mapping'!$A:$B,2,0),"") -> CREATE | BV9: =IFERROR(VLOOKUP(C9,'1__mapping'!$A:$B,2,0),"") | BW9: =INDEX('2__mapping'!B2:'2__mapping'!B49,MATCH(BV9&D9, INDEX('2__mapping'!C2:C49&'2__mapping'!A2:A49,),0)) -> #N/A | BX9: =IFERROR(VLOOKUP(E9,'3__mapping'!$A:$B,2,0),"") | BY9: =IFERROR(VLOOKUP(F9,'4__mapping'!$A:$B,2,0),"") | BZ9: =IFERROR(VLOOKUP(H9,'5__mapping'!$A:$B,2,0),"") | CA9: =IFERROR(VLOOKUP(K9,'6__mapping'!$A:$B,2,0),"") | CB9: =IFERROR(VLOOKUP(N9,'7__mapping'!$A:$B,2,0),"") | CC9: =IFERROR(VLOOKUP(AB9,'8__mapping'!$A:$B,2,0),"") | CD9: =IFERROR(VLOOKUP(AD9,'9__mapping'!$A:$B,2,0),"") | CE9: =IFERROR(VLOOKUP(AG9,'10__mapping'!$A:$B,2,0),"") | CF9: =IFERROR(VLOOKUP(AL9,'11__mapping'!$A:$B,2,0),"") | CG9: =IFERROR(VLOOKUP(AR9,'12__mapping'!$A:$B,2,0),"") | CH9: =IFERROR(VLOOKUP(AU9,'13__mapping'!$A:$B,2,0),"") | CI9: =IFERROR(VLOOKUP(AW9,'14__mapping'!$A:$B,2,0),"") | CJ9: =IFERROR(VLOOKUP(AY9,'15__mapping'!$A:$B,2,0),"") | CK9: =IFERROR(VLOOKUP(BA9,'16__mapping'!$A:$B,2,0),"") | CL9: =IFERROR(VLOOKUP(BC9,'17__mapping'!$A:$B,2,0),"") | CM9: =IFERROR(VLOOKUP(BE9,'18__mapping'!$A:$B,2,0),"") | CN9: =IFERROR(VLOOKUP(BG9,'19__mapping'!$A:$B,2,0),"") | CO9: =IFERROR(VLOOKUP(BI9,'20__mapping'!$A:$B,2,0),"") | CP9: =IFERROR(VLOOKUP(BK9,'21__mapping'!$A:$B,2,0),"") | CQ9: =IFERROR(VLOOKUP(BM9,'22__mapping'!$A:$B,2,0),"") | CR9: =IFERROR(VLOOKUP(BO9,'23__mapping'!$A:$B,2,0),"") | CS9: =IFERROR(VLOOKUP(BQ9,'24__mapping'!$A:$B,2,0),"")
A10: Create | BU10: =IFERROR(VLOOKUP(A10,'0__mapping'!$A:$B,2,0),"") -> CREATE | BV10: =IFERROR(VLOOKUP(C10,'1__mapping'!$A:$B,2,0),"") | BW10: =INDEX('2__mapping'!B2:'2__mapping'!B49,MATCH(BV10&D10, INDEX('2__mapping'!C2:C49&'2__mapping'!A2:A49,),0)) -> #N/A | BX10: =IFERROR(VLOOKUP(E10,'3__mapping'!$A:$B,2,0),"") | BY10: =IFERROR(VLOOKUP(F10,'4__mapping'!$A:$B,2,0),"") | BZ10: =IFERROR(VLOOKUP(H10,'5__mapping'!$A:$B,2,0),"") | CA10: =IFERROR(VLOOKUP(K10,'6__mapping'!$A:$B,2,0),"") | CB10: =IFERROR(VLOOKUP(N10,'7__mapping'!$A:$B,2,0),"") | CC10: =IFERROR(VLOOKUP(AB10,'8__mapping'!$A:$B,2,0),"") | CD10: =IFERROR(VLOOKUP(AD10,'9__mapping'!$A:$B,2,0),"") | CE10: =IFERROR(VLOOKUP(AG10,'10__mapping'!$A:$B,2,0),"") | CF10: =IFERROR(VLOOKUP(AL10,'11__mapping'!$A:$B,2,0),"") | CG10: =IFERROR(VLOOKUP(AR10,'12__mapping'!$A:$B,2,0),"") | CH10: =IFERROR(VLOOKUP(AU10,'13__mapping'!$A:$B,2,0),"") | CI10: =IFERROR(VLOOKUP(AW10,'14__mapping'!$A:$B,2,0),"") | CJ10: =IFERROR(VLOOKUP(AY10,'15__mapping'!$A:$B,2,0),"") | CK10: =IFERROR(VLOOKUP(BA10,'16__mapping'!$A:$B,2,0),"") | CL10: =IFERROR(VLOOKUP(BC10,'17__mapping'!$A:$B,2,0),"") | CM10: =IFERROR(VLOOKUP(BE10,'18__mapping'!$A:$B,2,0),"") | CN10: =IFERROR(VLOOKUP(BG10,'19__mapping'!$A:$B,2,0),"") | CO10: =IFERROR(VLOOKUP(BI10,'20__mapping'!$A:$B,2,0),"") | CP10: =IFERROR(VLOOKUP(BK10,'21__mapping'!$A:$B,2,0),"") | CQ10: =IFERROR(VLOOKUP(BM10,'22__mapping'!$A:$B,2,0),"") | CR10: =IFERROR(VLOOKUP(BO10,'23__mapping'!$A:$B,2,0),"") | CS10: =IFERROR(VLOOKUP(BQ10,'24__mapping'!$A:$B,2,0),"")
A11: Create | BU11: =IFERROR(VLOOKUP(A11,'0__mapping'!$A:$B,2,0),"") -> CREATE | BV11: =IFERROR(VLOOKUP(C11,'1__mapping'!$A:$B,2,0),"") | BW11: =INDEX('2__mapping'!B2:'2__mapping'!B49,MATCH(BV11&D11, INDEX('2__mapping'!C2:C49&'2__mapping'!A2:A49,),0)) -> #N/A | BX11: =IFERROR(VLOOKUP(E11,'3__mapping'!$A:$B,2,0),"") | BY11: =IFERROR(VLOOKUP(F11,'4__mapping'!$A:$B,2,0),"") | BZ11: =IFERROR(VLOOKUP(H11,'5__mapping'!$A:$B,2,0),"") | CA11: =IFERROR(VLOOKUP(K11,'6__mapping'!$A:$B,2,0),"") | CB11: =IFERROR(VLOOKUP(N11,'7__mapping'!$A:$B,2,0),"") | CC11: =IFERROR(VLOOKUP(AB11,'8__mapping'!$A:$B,2,0),"") | CD11: =IFERROR(VLOOKUP(AD11,'9__mapping'!$A:$B,2,0),"") | CE11: =IFERROR(VLOOKUP(AG11,'10__mapping'!$A:$B,2,0),"") | CF11: =IFERROR(VLOOKUP(AL11,'11__mapping'!$A:$B,2,0),"") | CG11: =IFERROR(VLOOKUP(AR11,'12__mapping'!$A:$B,2,0),"") | CH11: =IFERROR(VLOOKUP(AU11,'13__mapping'!$A:$B,2,0),"") | CI11: =IFERROR(VLOOKUP(AW11,'14__mapping'!$A:$B,2,0),"") | CJ11: =IFERROR(VLOOKUP(AY11,'15__mapping'!$A:$B,2,0),"") | CK11: =IFERROR(VLOOKUP(BA11,'16__mapping'!$A:$B,2,0),"") | CL11: =IFERROR(VLOOKUP(BC11,'17__mapping'!$A:$B,2,0),"") | CM11: =IFERROR(VLOOKUP(BE11,'18__mapping'!$A:$B,2,0),"") | CN11: =IFERROR(VLOOKUP(BG11,'19__mapping'!$A:$B,2,0),"") | CO11: =IFERROR(VLOOKUP(BI11,'20__mapping'!$A:$B,2,0),"") | CP11: =IFERROR(VLOOKUP(BK11,'21__mapping'!$A:$B,2,0),"") | CQ11: =IFERROR(VLOOKUP(BM11,'22__mapping'!$A:$B,2,0),"") | CR11: =IFERROR(VLOOKUP(BO11,'23__mapping'!$A:$B,2,0),"") | CS11: =IFERROR(VLOOKUP(BQ11,'24__mapping'!$A:$B,2,0),"")
A12: Create | BU12: =IFERROR(VLOOKUP(A12,'0__mapping'!$A:$B,2,0),"") -> CREATE | BV12: =IFERROR(VLOOKUP(C12,'1__mapping'!$A:$B,2,0),"") | BW12: =INDEX('2__mapping'!B2:'2__mapping'!B49,MATCH(BV12&D12, INDEX('2__mapping'!C2:C49&'2__mapping'!A2:A49,),0)) -> #N/A | BX12: =IFERROR(VLOOKUP(E12,'3__mapping'!$A:$B,2,0),"") | BY12: =IFERROR(VLOOKUP(F12,'4__mapping'!$A:$B,2,0),"") | BZ12: =IFERROR(VLOOKUP(H12,'5__mapping'!$A:$B,2,0),"") | CA12: =IFERROR(VLOOKUP(K12,'6__mapping'!$A:$B,2,0),"") | CB12: =IFERROR(VLOOKUP(N12,'7__mapping'!$A:$B,2,0),"") | CC12: =IFERROR(VLOOKUP(AB12,'8__mapping'!$A:$B,2,0),"") | CD12: =IFERROR(VLOOKUP(AD12,'9__mapping'!$A:$B,2,0),"") | CE12: =IFERROR(VLOOKUP(AG12,'10__mapping'!$A:$B,2,0),"") | CF12: =IFERROR(VLOOKUP(AL12,'11__mapping'!$A:$B,2,0),"") | CG12: =IFERROR(VLOOKUP(AR12,'12__mapping'!$A:$B,2,0),"") | CH12: =IFERROR(VLOOKUP(AU12,'13__mapping'!$A:$B,2,0),"") | CI12: =IFERROR(VLOOKUP(AW12,'14__mapping'!$A:$B,2,0),"") | CJ12: =IFERROR(VLOOKUP(AY12,'15__mapping'!$A:$B,2,0),"") | CK12: =IFERROR(VLOOKUP(BA12,'16__mapping'!$A:$B,2,0),"") | CL12: =IFERROR(VLOOKUP(BC12,'17__mapping'!$A:$B,2,0),"") | CM12: =IFERROR(VLOOKUP(BE12,'18__mapping'!$A:$B,2,0),"") | CN12: =IFERROR(VLOOKUP(BG12,'19__mapping'!$A:$B,2,0),"") | CO12: =IFERROR(VLOOKUP(BI12,'20__mapping'!$A:$B,2,0),"") | CP12: =IFERROR(VLOOKUP(BK12,'21__mapping'!$A:$B,2,0),"") | CQ12: =IFERROR(VLOOKUP(BM12,'22__mapping'!$A:$B,2,0),"") | CR12: =IFERROR(VLOOKUP(BO12,'23__mapping'!$A:$B,2,0),"") | CS12: =IFERROR(VLOOKUP(BQ12,'24__mapping'!$A:$B,2,0),"")
A13: Create | BU13: =IFERROR(VLOOKUP(A13,'0__mapping'!$A:$B,2,0),"") -> CREATE | BV13: =IFERROR(VLOOKUP(C13,'1__mapping'!$A:$B,2,0),"") | BW13: =INDEX('2__mapping'!B2:'2__mapping'!B49,MATCH(BV13&D13, INDEX('2__mapping'!C2:C49&'2__mapping'!A2:A49,),0)) -> #N/A | BX13: =IFERROR(VLOOKUP(E13,'3__mapping'!$A:$B,2,0),"") | BY13: =IFERROR(VLOOKUP(F13,'4__mapping'!$A:$B,2,0),"") | BZ13: =IFERROR(VLOOKUP(H13,'5__mapping'!$A:$B,2,0),"") | CA13: =IFERROR(VLOOKUP(K13,'6__mapping'!$A:$B,2,0),"") | CB13: =IFERROR(VLOOKUP(N13,'7__mapping'!$A:$B,2,0),"") | CC13: =IFERROR(VLOOKUP(AB13,'8__mapping'!$A:$B,2,0),"") | CD13: =IFERROR(VLOOKUP(AD13,'9__mapping'!$A:$B,2,0),"") | CE13: =IFERROR(VLOOKUP(AG13,'10__mapping'!$A:$B,2,0),"") | CF13: =IFERROR(VLOOKUP(AL13,'11__mapping'!$A:$B,2,0),"") | CG13: =IFERROR(VLOOKUP(AR13,'12__mapping'!$A:$B,2,0),"") | CH13: =IFERROR(VLOOKUP(AU13,'13__mapping'!$A:$B,2,0),"") | CI13: =IFERROR(VLOOKUP(AW13,'14__mapping'!$A:$B,2,0),"") | CJ13: =IFERROR(VLOOKUP(AY13,'15__mapping'!$A:$B,2,0),"") | CK13: =IFERROR(VLOOKUP(BA13,'16__mapping'!$A:$B,2,0),"") | CL13: =IFERROR(VLOOKUP(BC13,'17__mapping'!$A:$B,2,0),"") | CM13: =IFERROR(VLOOKUP(BE13,'18__mapping'!$A:$B,2,0),"") | CN13: =IFERROR(VLOOKUP(BG13,'19__mapping'!$A:$B,2,0),"") | CO13: =IFERROR(VLOOKUP(BI13,'20__mapping'!$A:$B,2,0),"") | CP13: =IFERROR(VLOOKUP(BK13,'21__mapping'!$A:$B,2,0),"") | CQ13: =IFERROR(VLOOKUP(BM13,'22__mapping'!$A:$B,2,0),"") | CR13: =IFERROR(VLOOKUP(BO13,'23__mapping'!$A:$B,2,0),"") | CS13: =IFERROR(VLOOKUP(BQ13,'24__mapping'!$A:$B,2,0),"")
A14: Create | BU14: =IFERROR(VLOOKUP(A14,'0__mapping'!$A:$B,2,0),"") -> CREATE | BV14: =IFERROR(VLOOKUP(C14,'1__mapping'!$A:$B,2,0),"") | BW14: =INDEX('2__mapping'!B2:'2__mapping'!B49,MATCH(BV14&D14, INDEX('2__mapping'!C2:C49&'2__mapping'!A2:A49,),0)) -> #N/A | BX14: =IFERROR(VLOOKUP(E14,'3__mapping'!$A:$B,2,0),"") | BY14: =IFERROR(VLOOKUP(F14,'4__mapping'!$A:$B,2,0),"") | BZ14: =IFERROR(VLOOKUP(H14,'5__mapping'!$A:$B,2,0),"") | CA14: =IFERROR(VLOOKUP(K14,'6__mapping'!$A:$B,2,0),"") | CB14: =IFERROR(VLOOKUP(N14,'7__mapping'!$A:$B,2,0),"") | CC14: =IFERROR(VLOOKUP(AB14,'8__mapping'!$A:$B,2,0),"") | CD14: =IFERROR(VLOOKUP(AD14,'9__mapping'!$A:$B,2,0),"") | CE14: =IFERROR(VLOOKUP(AG14,'10__mapping'!$A:$B,2,0),"") | CF14: =IFERROR(VLOOKUP(AL14,'11__mapping'!$A:$B,2,0),"") | CG14: =IFERROR(VLOOKUP(AR14,'12__mapping'!$A:$B,2,0),"") | CH14: =IFERROR(VLOOKUP(AU14,'13__mapping'!$A:$B,2,0),"") | CI14: =IFERROR(VLOOKUP(AW14,'14__mapping'!$A:$B,2,0),"") | CJ14: =IFERROR(VLOOKUP(AY14,'15__mapping'!$A:$B,2,0),"") | CK14: =IFERROR(VLOOKUP(BA14,'16__mapping'!$A:$B,2,0),"") | CL14: =IFERROR(VLOOKUP(BC14,'17__mapping'!$A:$B,2,0),"") | CM14: =IFERROR(VLOOKUP(BE14,'18__mapping'!$A:$B,2,0),"") | CN14: =IFERROR(VLOOKUP(BG14,'19__mapping'!$A:$B,2,0),"") | CO14: =IFERROR(VLOOKUP(BI14,'20__mapping'!$A:$B,2,0),"") | CP14: =IFERROR(VLOOKUP(BK14,'21__mapping'!$A:$B,2,0),"") | CQ14: =IFERROR(VLOOKUP(BM14,'22__mapping'!$A:$B,2,0),"") | CR14: =IFERROR(VLOOKUP(BO14,'23__mapping'!$A:$B,2,0),"") | CS14: =IFERROR(VLOOKUP(BQ14,'24__mapping'!$A:$B,2,0),"")
A15: Create | BU15: =IFERROR(VLOOKUP(A15,'0__mapping'!$A:$B,2,0),"") -> CREATE | BV15: =IFERROR(VLOOKUP(C15,'1__mapping'!$A:$B,2,0),"") | BW15: =INDEX('2__mapping'!B2:'2__mapping'!B49,MATCH(BV15&D15, INDEX('2__mapping'!C2:C49&'2__mapping'!A2:A49,),0)) -> #N/A | BX15: =IFERROR(VLOOKUP(E15,'3__mapping'!$A:$B,2,0),"") | BY15: =IFERROR(VLOOKUP(F15,'4__mapping'!$A:$B,2,0),"") | BZ15: =IFERROR(VLOOKUP(H15,'5__mapping'!$A:$B,2,0),"") | CA15: =IFERROR(VLOOKUP(K15,'6__mapping'!$A:$B,2,0),"") | CB15: =IFERROR(VLOOKUP(N15,'7__mapping'!$A:$B,2,0),"") | CC15: =IFERROR(VLOOKUP(AB15,'8__mapping'!$A:$B,2,0),"") | CD15: =IFERROR(VLOOKUP(AD15,'9__mapping'!$A:$B,2,0),"") | CE15: =IFERROR(VLOOKUP(AG15,'10__mapping'!$A:$B,2,0),"") | CF15: =IFERROR(VLOOKUP(AL15,'11__mapping'!$A:$B,2,0),"") | CG15: =IFERROR(VLOOKUP(AR15,'12__mapping'!$A:$B,2,0),"") | CH15: =IFERROR(VLOOKUP(AU15,'13__mapping'!$A:$B,2,0),"") | CI15: =IFERROR(VLOOKUP(AW15,'14__mapping'!$A:$B,2,0),"") | CJ15: =IFERROR(VLOOKUP(AY15,'15__mapping'!$A:$B,2,0),"") | CK15: =IFERROR(VLOOKUP(BA15,'16__mapping'!$A:$B,2,0),"") | CL15: =IFERROR(VLOOKUP(BC15,'17__mapping'!$A:$B,2,0),"") | CM15: =IFERROR(VLOOKUP(BE15,'18__mapping'!$A:$B,2,0),"") | CN15: =IFERROR(VLOOKUP(BG15,'19__mapping'!$A:$B,2,0),"") | CO15: =IFERROR(VLOOKUP(BI15,'20__mapping'!$A:$B,2,0),"") | CP15: =IFERROR(VLOOKUP(BK15,'21__mapping'!$A:$B,2,0),"") | CQ15: =IFERROR(VLOOKUP(BM15,'22__mapping'!$A:$B,2,0),"") | CR15: =IFERROR(VLOOKUP(BO15,'23__mapping'!$A:$B,2,0),"") | CS15: =IFERROR(VLOOKUP(BQ15,'24__mapping'!$A:$B,2,0),"")
A16: Create | BU16: =IFERROR(VLOOKUP(A16,'0__mapping'!$A:$B,2,0),"") -> CREATE | BV16: =IFERROR(VLOOKUP(C16,'1__mapping'!$A:$B,2,0),"") | BW16: =INDEX('2__mapping'!B2:'2__mapping'!B49,MATCH(BV16&D16, INDEX('2__mapping'!C2:C49&'2__mapping'!A2:A49,),0)) -> #N/A | BX16: =IFERROR(VLOOKUP(E16,'3__mapping'!$A:$B,2,0),"") | BY16: =IFERROR(VLOOKUP(F16,'4__mapping'!$A:$B,2,0),"") | BZ16: =IFERROR(VLOOKUP(H16,'5__mapping'!$A:$B,2,0),"") | CA16: =IFERROR(VLOOKUP(K16,'6__mapping'!$A:$B,2,0),"") | CB16: =IFERROR(VLOOKUP(N16,'7__mapping'!$A:$B,2,0),"") | CC16: =IFERROR(VLOOKUP(AB16,'8__mapping'!$A:$B,2,0),"") | CD16: =IFERROR(VLOOKUP(AD16,'9__mapping'!$A:$B,2,0),"") | CE16: =IFERROR(VLOOKUP(AG16,'10__mapping'!$A:$B,2,0),"") | CF16: =IFERROR(VLOOKUP(AL16,'11__mapping'!$A:$B,2,0),"") | CG16: =IFERROR(VLOOKUP(AR16,'12__mapping'!$A:$B,2,0),"") | CH16: =IFERROR(VLOOKUP(AU16,'13__mapping'!$A:$B,2,0),"") | CI16: =IFERROR(VLOOKUP(AW16,'14__mapping'!$A:$B,2,0),"") | CJ16: =IFERROR(VLOOKUP(AY16,'15__mapping'!$A:$B,2,0),"") | CK16: =IFERROR(VLOOKUP(BA16,'16__mapping'!$A:$B,2,0),"") | CL16: =IFERROR(VLOOKUP(BC16,'17__mapping'!$A:$B,2,0),"") | CM16: =IFERROR(VLOOKUP(BE16,'18__mapping'!$A:$B,2,0),"") | CN16: =IFERROR(VLOOKUP(BG16,'19__mapping'!$A:$B,2,0),"") | CO16: =IFERROR(VLOOKUP(BI16,'20__mapping'!$A:$B,2,0),"") | CP16: =IFERROR(VLOOKUP(BK16,'21__mapping'!$A:$B,2,0),"") | CQ16: =IFERROR(VLOOKUP(BM16,'22__mapping'!$A:$B,2,0),"") | CR16: =IFERROR(VLOOKUP(BO16,'23__mapping'!$A:$B,2,0),"") | CS16: =IFERROR(VLOOKUP(BQ16,'24__mapping'!$A:$B,2,0),"")
A17: Create | BU17: =IFERROR(VLOOKUP(A17,'0__mapping'!$A:$B,2,0),"") -> CREATE | BV17: =IFERROR(VLOOKUP(C17,'1__mapping'!$A:$B,2,0),"") | BW17: =INDEX('2__mapping'!B2:'2__mapping'!B49,MATCH(BV17&D17, INDEX('2__mapping'!C2:C49&'2__mapping'!A2:A49,),0)) -> #N/A | BX17: =IFERROR(VLOOKUP(E17,'3__mapping'!$A:$B,2,0),"") | BY17: =IFERROR(VLOOKUP(F17,'4__mapping'!$A:$B,2,0),"") | BZ17: =IFERROR(VLOOKUP(H17,'5__mapping'!$A:$B,2,0),"") | CA17: =IFERROR(VLOOKUP(K17,'6__mapping'!$A:$B,2,0),"") | CB17: =IFERROR(VLOOKUP(N17,'7__mapping'!$A:$B,2,0),"") | CC17: =IFERROR(VLOOKUP(AB17,'8__mapping'!$A:$B,2,0),"") | CD17: =IFERROR(VLOOKUP(AD17,'9__mapping'!$A:$B,2,0),"") | CE17: =IFERROR(VLOOKUP(AG17,'10__mapping'!$A:$B,2,0),"") | CF17: =IFERROR(VLOOKUP(AL17,'11__mapping'!$A:$B,2,0),"") | CG17: =IFERROR(VLOOKUP(AR17,'12__mapping'!$A:$B,2,0),"") | CH17: =IFERROR(VLOOKUP(AU17,'13__mapping'!$A:$B,2,0),"") | CI17: =IFERROR(VLOOKUP(AW17,'14__mapping'!$A:$B,2,0),"") | CJ17: =IFERROR(VLOOKUP(AY17,'15__mapping'!$A:$B,2,0),"") | CK17: =IFERROR(VLOOKUP(BA17,'16__mapping'!$A:$B,2,0),"") | CL17: =IFERROR(VLOOKUP(BC17,'17__mapping'!$A:$B,2,0),"") | CM17: =IFERROR(VLOOKUP(BE17,'18__mapping'!$A:$B,2,0),"") | CN17: =IFERROR(VLOOKUP(BG17,'19__mapping'!$A:$B,2,0),"") | CO17: =IFERROR(VLOOKUP(BI17,'20__mapping'!$A:$B,2,0),"") | CP17: =IFERROR(VLOOKUP(BK17,'21__mapping'!$A:$B,2,0),"") | CQ17: =IFERROR(VLOOKUP(BM17,'22__mapping'!$A:$B,2,0),"") | CR17: =IFERROR(VLOOKUP(BO17,'23__mapping'!$A:$B,2,0),"") | CS17: =IFERROR(VLOOKUP(BQ17,'24__mapping'!$A:$B,2,0),"")
A18: Create | BU18: =IFERROR(VLOOKUP(A18,'0__mapping'!$A:$B,2,0),"") -> CREATE | BV18: =IFERROR(VLOOKUP(C18,'1__mapping'!$A:$B,2,0),"") | BW18: =INDEX('2__mapping'!B2:'2__mapping'!B49,MATCH(BV18&D18, INDEX('2__mapping'!C2:C49&'2__mapping'!A2:A49,),0)) -> #N/A | BX18: =IFERROR(VLOOKUP(E18,'3__mapping'!$A:$B,2,0),"") | BY18: =IFERROR(VLOOKUP(F18,'4__mapping'!$A:$B,2,0),"") | BZ18: =IFERROR(VLOOKUP(H18,'5__mapping'!$A:$B,2,0),"") | CA18: =IFERROR(VLOOKUP(K18,'6__mapping'!$A:$B,2,0),"") | CB18: =IFERROR(VLOOKUP(N18,'7__mapping'!$A:$B,2,0),"") | CC18: =IFERROR(VLOOKUP(AB18,'8__mapping'!$A:$B,2,0),"") | CD18: =IFERROR(VLOOKUP(AD18,'9__mapping'!$A:$B,2,0),"") | CE18: =IFERROR(VLOOKUP(AG18,'10__mapping'!$A:$B,2,0),"") | CF18: =IFERROR(VLOOKUP(AL18,'11__mapping'!$A:$B,2,0),"") | CG18: =IFERROR(VLOOKUP(AR18,'12__mapping'!$A:$B,2,0),"") | CH18: =IFERROR(VLOOKUP(AU18,'13__mapping'!$A:$B,2,0),"") | CI18: =IFERROR(VLOOKUP(AW18,'14__mapping'!$A:$B,2,0),"") | CJ18: =IFERROR(VLOOKUP(AY18,'15__mapping'!$A:$B,2,0),"") | CK18: =IFERROR(VLOOKUP(BA18,'16__mapping'!$A:$B,2,0),"") | CL18: =IFERROR(VLOOKUP(BC18,'17__mapping'!$A:$B,2,0),"") | CM18: =IFERROR(VLOOKUP(BE18,'18__mapping'!$A:$B,2,0),"") | CN18: =IFERROR(VLOOKUP(BG18,'19__mapping'!$A:$B,2,0),"") | CO18: =IFERROR(VLOOKUP(BI18,'20__mapping'!$A:$B,2,0),"") | CP18: =IFERROR(VLOOKUP(BK18,'21__mapping'!$A:$B,2,0),"") | CQ18: =IFERROR(VLOOKUP(BM18,'22__mapping'!$A:$B,2,0),"") | CR18: =IFERROR(VLOOKUP(BO18,'23__mapping'!$A:$B,2,0),"") | CS18: =IFERROR(VLOOKUP(BQ18,'24__mapping'!$A:$B,2,0),"")
A19: Create | BU19: =IFERROR(VLOOKUP(A19,'0__mapping'!$A:$B,2,0),"") -> CREATE | BV19: =IFERROR(VLOOKUP(C19,'1__mapping'!$A:$B,2,0),"") | BW19: =INDEX('2__mapping'!B2:'2__mapping'!B49,MATCH(BV19&D19, INDEX('2__mapping'!C2:C49&'2__mapping'!A2:A49,),0)) -> #N/A | BX19: =IFERROR(VLOOKUP(E19,'3__mapping'!$A:$B,2,0),"") | BY19: =IFERROR(VLOOKUP(F19,'4__mapping'!$A:$B,2,0),"") | BZ19: =IFERROR(VLOOKUP(H19,'5__mapping'!$A:$B,2,0),"") | CA19: =IFERROR(VLOOKUP(K19,'6__mapping'!$A:$B,2,0),"") | CB19: =IFERROR(VLOOKUP(N19,'7__mapping'!$A:$B,2,0),"") | CC19: =IFERROR(VLOOKUP(AB19,'8__mapping'!$A:$B,2,0),"") | CD19: =IFERROR(VLOOKUP(AD19,'9__mapping'!$A:$B,2,0),"") | CE19: =IFERROR(VLOOKUP(AG19,'10__mapping'!$A:$B,2,0),"") | CF19: =IFERROR(VLOOKUP(AL19,'11__mapping'!$A:$B,2,0),"") | CG19: =IFERROR(VLOOKUP(AR19,'12__mapping'!$A:$B,2,0),"") | CH19: =IFERROR(VLOOKUP(AU19,'13__mapping'!$A:$B,2,0),"") | CI19: =IFERROR(VLOOKUP(AW19,'14__mapping'!$A:$B,2,0),"") | CJ19: =IFERROR(VLOOKUP(AY19,'15__mapping'!$A:$B,2,0),"") | CK19: =IFERROR(VLOOKUP(BA19,'16__mapping'!$A:$B,2,0),"") | CL19: =IFERROR(VLOOKUP(BC19,'17__mapping'!$A:$B,2,0),"") | CM19: =IFERROR(VLOOKUP(BE19,'18__mapping'!$A:$B,2,0),"") | CN19: =IFERROR(VLOOKUP(BG19,'19__mapping'!$A:$B,2,0),"") | CO19: =IFERROR(VLOOKUP(BI19,'20__mapping'!$A:$B,2,0),"") | CP19: =IFERROR(VLOOKUP(BK19,'21__mapping'!$A:$B,2,0),"") | CQ19: =IFERROR(VLOOKUP(BM19,'22__mapping'!$A:$B,2,0),"") | CR19: =IFERROR(VLOOKUP(BO19,'23__mapping'!$A:$B,2,0),"") | CS19: =IFERROR(VLOOKUP(BQ19,'24__mapping'!$A:$B,2,0),"")
A20: Create | BU20: =IFERROR(VLOOKUP(A20,'0__mapping'!$A:$B,2,0),"") -> CREATE | BV20: =IFERROR(VLOOKUP(C20,'1__mapping'!$A:$B,2,0),"") | BW20: =INDEX('2__mapping'!B2:'2__mapping'!B49,MATCH(BV20&D20, INDEX('2__mapping'!C2:C49&'2__mapping'!A2:A49,),0)) -> #N/A | BX20: =IFERROR(VLOOKUP(E20,'3__mapping'!$A:$B,2,0),"") | BY20: =IFERROR(VLOOKUP(F20,'4__mapping'!$A:$B,2,0),"") | BZ20: =IFERROR(VLOOKUP(H20,'5__mapping'!$A:$B,2,0),"") | CA20: =IFERROR(VLOOKUP(K20,'6__mapping'!$A:$B,2,0),"") | CB20: =IFERROR(VLOOKUP(N20,'7__mapping'!$A:$B,2,0),"") | CC20: =IFERROR(VLOOKUP(AB20,'8__mapping'!$A:$B,2,0),"") | CD20: =IFERROR(VLOOKUP(AD20,'9__mapping'!$A:$B,2,0),"") | CE20: =IFERROR(VLOOKUP(AG20,'10__mapping'!$A:$B,2,0),"") | CF20: =IFERROR(VLOOKUP(AL20,'11__mapping'!$A:$B,2,0),"") | CG20: =IFERROR(VLOOKUP(AR20,'12__mapping'!$A:$B,2,0),"") | CH20: =IFERROR(VLOOKUP(AU20,'13__mapping'!$A:$B,2,0),"") | CI20: =IFERROR(VLOOKUP(AW20,'14__mapping'!$A:$B,2,0),"") | CJ20: =IFERROR(VLOOKUP(AY20,'15__mapping'!$A:$B,2,0),"") | CK20: =IFERROR(VLOOKUP(BA20,'16__mapping'!$A:$B,2,0),"") | CL20: =IFERROR(VLOOKUP(BC20,'17__mapping'!$A:$B,2,0),"") | CM20: =IFERROR(VLOOKUP(BE20,'18__mapping'!$A:$B,2,0),"") | CN20: =IFERROR(VLOOKUP(BG20,'19__mapping'!$A:$B,2,0),"") | CO20: =IFERROR(VLOOKUP(BI20,'20__mapping'!$A:$B,2,0),"") | CP20: =IFERROR(VLOOKUP(BK20,'21__mapping'!$A:$B,2,0),"") | CQ20: =IFERROR(VLOOKUP(BM20,'22__mapping'!$A:$B,2,0),"") | CR20: =IFERROR(VLOOKUP(BO20,'23__mapping'!$A:$B,2,0),"") | CS20: =IFERROR(VLOOKUP(BQ20,'24__mapping'!$A:$B,2,0),"")
A21: Create | BU21: =IFERROR(VLOOKUP(A21,'0__mapping'!$A:$B,2,0),"") -> CREATE | BV21: =IFERROR(VLOOKUP(C21,'1__mapping'!$A:$B,2,0),"") | BW21: =INDEX('2__mapping'!B2:'2__mapping'!B49,MATCH(BV21&D21, INDEX('2__mapping'!C2:C49&'2__mapping'!A2:A49,),0)) -> #N/A | BX21: =IFERROR(VLOOKUP(E21,'3__mapping'!$A:$B,2,0),"") | BY21: =IFERROR(VLOOKUP(F21,'4__mapping'!$A:$B,2,0),"") | BZ21: =IFERROR(VLOOKUP(H21,'5__mapping'!$A:$B,2,0),"") | CA21: =IFERROR(VLOOKUP(K21,'6__mapping'!$A:$B,2,0),"") | CB21: =IFERROR(VLOOKUP(N21,'7__mapping'!$A:$B,2,0),"") | CC21: =IFERROR(VLOOKUP(AB21,'8__mapping'!$A:$B,2,0),"") | CD21: =IFERROR(VLOOKUP(AD21,'9__mapping'!$A:$B,2,0),"") | CE21: =IFERROR(VLOOKUP(AG21,'10__mapping'!$A:$B,2,0),"") | CF21: =IFERROR(VLOOKUP(AL21,'11__mapping'!$A:$B,2,0),"") | CG21: =IFERROR(VLOOKUP(AR21,'12__mapping'!$A:$B,2,0),"") | CH21: =IFERROR(VLOOKUP(AU21,'13__mapping'!$A:$B,2,0),"") | CI21: =IFERROR(VLOOKUP(AW21,'14__mapping'!$A:$B,2,0),"") | CJ21: =IFERROR(VLOOKUP(AY21,'15__mapping'!$A:$B,2,0),"") | CK21: =IFERROR(VLOOKUP(BA21,'16__mapping'!$A:$B,2,0),"") | CL21: =IFERROR(VLOOKUP(BC21,'17__mapping'!$A:$B,2,0),"") | CM21: =IFERROR(VLOOKUP(BE21,'18__mapping'!$A:$B,2,0),"") | CN21: =IFERROR(VLOOKUP(BG21,'19__mapping'!$A:$B,2,0),"") | CO21: =IFERROR(VLOOKUP(BI21,'20__mapping'!$A:$B,2,0),"") | CP21: =IFERROR(VLOOKUP(BK21,'21__mapping'!$A:$B,2,0),"") | CQ21: =IFERROR(VLOOKUP(BM21,'22__mapping'!$A:$B,2,0),"") | CR21: =IFERROR(VLOOKUP(BO21,'23__mapping'!$A:$B,2,0),"") | CS21: =IFERROR(VLOOKUP(BQ21,'24__mapping'!$A:$B,2,0),"")
A22: Create | BU22: =IFERROR(VLOOKUP(A22,'0__mapping'!$A:$B,2,0),"") -> CREATE | BV22: =IFERROR(VLOOKUP(C22,'1__mapping'!$A:$B,2,0),"") | BW22: =INDEX('2__mapping'!B2:'2__mapping'!B49,MATCH(BV22&D22, INDEX('2__mapping'!C2:C49&'2__mapping'!A2:A49,),0)) -> #N/A | BX22: =IFERROR(VLOOKUP(E22,'3__mapping'!$A:$B,2,0),"") | BY22: =IFERROR(VLOOKUP(F22,'4__mapping'!$A:$B,2,0),"") | BZ22: =IFERROR(VLOOKUP(H22,'5__mapping'!$A:$B,2,0),"") | CA22: =IFERROR(VLOOKUP(K22,'6__mapping'!$A:$B,2,0),"") | CB22: =IFERROR(VLOOKUP(N22,'7__mapping'!$A:$B,2,0),"") | CC22: =IFERROR(VLOOKUP(AB22,'8__mapping'!$A:$B,2,0),"") | CD22: =IFERROR(VLOOKUP(AD22,'9__mapping'!$A:$B,2,0),"") | CE22: =IFERROR(VLOOKUP(AG22,'10__mapping'!$A:$B,2,0),"") | CF22: =IFERROR(VLOOKUP(AL22,'11__mapping'!$A:$B,2,0),"") | CG22: =IFERROR(VLOOKUP(AR22,'12__mapping'!$A:$B,2,0),"") | CH22: =IFERROR(VLOOKUP(AU22,'13__mapping'!$A:$B,2,0),"") | CI22: =IFERROR(VLOOKUP(AW22,'14__mapping'!$A:$B,2,0),"") | CJ22: =IFERROR(VLOOKUP(AY22,'15__mapping'!$A:$B,2,0),"") | CK22: =IFERROR(VLOOKUP(BA22,'16__mapping'!$A:$B,2,0),"") | CL22: =IFERROR(VLOOKUP(BC22,'17__mapping'!$A:$B,2,0),"") | CM22: =IFERROR(VLOOKUP(BE22,'18__mapping'!$A:$B,2,0),"") | CN22: =IFERROR(VLOOKUP(BG22,'19__mapping'!$A:$B,2,0),"") | CO22: =IFERROR(VLOOKUP(BI22,'20__mapping'!$A:$B,2,0),"") | CP22: =IFERROR(VLOOKUP(BK22,'21__mapping'!$A:$B,2,0),"") | CQ22: =IFERROR(VLOOKUP(BM22,'22__mapping'!$A:$B,2,0),"") | CR22: =IFERROR(VLOOKUP(BO22,'23__mapping'!$A:$B,2,0),"") | CS22: =IFERROR(VLOOKUP(BQ22,'24__mapping'!$A:$B,2,0),"")
A23: Create | BU23: =IFERROR(VLOOKUP(A23,'0__mapping'!$A:$B,2,0),"") -> CREATE | BV23: =IFERROR(VLOOKUP(C23,'1__mapping'!$A:$B,2,0),"") | BW23: =INDEX('2__mapping'!B2:'2__mapping'!B49,MATCH(BV23&D23, INDEX('2__mapping'!C2:C49&'2__mapping'!A2:A49,),0)) -> #N/A | BX23: =IFERROR(VLOOKUP(E23,'3__mapping'!$A:$B,2,0),"") | BY23: =IFERROR(VLOOKUP(F23,'4__mapping'!$A:$B,2,0),"") | BZ23: =IFERROR(VLOOKUP(H23,'5__mapping'!$A:$B,2,0),"") | CA23: =IFERROR(VLOOKUP(K23,'6__mapping'!$A:$B,2,0),"") | CB23: =IFERROR(VLOOKUP(N23,'7__mapping'!$A:$B,2,0),"") | CC23: =IFERROR(VLOOKUP(AB23,'8__mapping'!$A:$B,2,0),"") | CD23: =IFERROR(VLOOKUP(AD23,'9__mapping'!$A:$B,2,0),"") | CE23: =IFERROR(VLOOKUP(AG23,'10__mapping'!$A:$B,2,0),"") | CF23: =IFERROR(VLOOKUP(AL23,'11__mapping'!$A:$B,2,0),"") | CG23: =IFERROR(VLOOKUP(AR23,'12__mapping'!$A:$B,2,0),"") | CH23: =IFERROR(VLOOKUP(AU23,'13__mapping'!$A:$B,2,0),"") | CI23: =IFERROR(VLOOKUP(AW23,'14__mapping'!$A:$B,2,0),"") | CJ23: =IFERROR(VLOOKUP(AY23,'15__mapping'!$A:$B,2,0),"") | CK23: =IFERROR(VLOOKUP(BA23,'16__mapping'!$A:$B,2,0),"") | CL23: =IFERROR(VLOOKUP(BC23,'17__mapping'!$A:$B,2,0),"") | CM23: =IFERROR(VLOOKUP(BE23,'18__mapping'!$A:$B,2,0),"") | CN23: =IFERROR(VLOOKUP(BG23,'19__mapping'!$A:$B,2,0),"") | CO23: =IFERROR(VLOOKUP(BI23,'20__mapping'!$A:$B,2,0),"") | CP23: =IFERROR(VLOOKUP(BK23,'21__mapping'!$A:$B,2,0),"") | CQ23: =IFERROR(VLOOKUP(BM23,'22__mapping'!$A:$B,2,0),"") | CR23: =IFERROR(VLOOKUP(BO23,'23__mapping'!$A:$B,2,0),"") | CS23: =IFERROR(VLOOKUP(BQ23,'24__mapping'!$A:$B,2,0),"")
A24: Create | BU24: =IFERROR(VLOOKUP(A24,'0__mapping'!$A:$B,2,0),"") -> CREATE | BV24: =IFERROR(VLOOKUP(C24,'1__mapping'!$A:$B,2,0),"") | BW24: =INDEX('2__mapping'!B2:'2__mapping'!B49,MATCH(BV24&D24, INDEX('2__mapping'!C2:C49&'2__mapping'!A2:A49,),0)) -> #N/A | BX24: =IFERROR(VLOOKUP(E24,'3__mapping'!$A:$B,2,0),"") | BY24: =IFERROR(VLOOKUP(F24,'4__mapping'!$A:$B,2,0),"") | BZ24: =IFERROR(VLOOKUP(H24,'5__mapping'!$A:$B,2,0),"") | CA24: =IFERROR(VLOOKUP(K24,'6__mapping'!$A:$B,2,0),"") | CB24: =IFERROR(VLOOKUP(N24,'7__mapping'!$A:$B,2,0),"") | CC24: =IFERROR(VLOOKUP(AB24,'8__mapping'!$A:$B,2,0),"") | CD24: =IFERROR(VLOOKUP(AD24,'9__mapping'!$A:$B,2,0),"") | CE24: =IFERROR(VLOOKUP(AG24,'10__mapping'!$A:$B,2,0),"") | CF24: =IFERROR(VLOOKUP(AL24,'11__mapping'!$A:$B,2,0),"") | CG24: =IFERROR(VLOOKUP(AR24,'12__mapping'!$A:$B,2,0),"") | CH24: =IFERROR(VLOOKUP(AU24,'13__mapping'!$A:$B,2,0),"") | CI24: =IFERROR(VLOOKUP(AW24,'14__mapping'!$A:$B,2,0),"") | CJ24: =IFERROR(VLOOKUP(AY24,'15__mapping'!$A:$B,2,0),"") | CK24: =IFERROR(VLOOKUP(BA24,'16__mapping'!$A:$B,2,0),"") | CL24: =IFERROR(VLOOKUP(BC24,'17__mapping'!$A:$B,2,0),"") | CM24: =IFERROR(VLOOKUP(BE24,'18__mapping'!$A:$B,2,0),"") | CN24: =IFERROR(VLOOKUP(BG24,'19__mapping'!$A:$B,2,0),"") | CO24: =IFERROR(VLOOKUP(BI24,'20__mapping'!$A:$B,2,0),"") | CP24: =IFERROR(VLOOKUP(BK24,'21__mapping'!$A:$B,2,0),"") | CQ24: =IFERROR(VLOOKUP(BM24,'22__mapping'!$A:$B,2,0),"") | CR24: =IFERROR(VLOOKUP(BO24,'23__mapping'!$A:$B,2,0),"") | CS24: =IFERROR(VLOOKUP(BQ24,'24__mapping'!$A:$B,2,0),"")
A25: Create | BU25: =IFERROR(VLOOKUP(A25,'0__mapping'!$A:$B,2,0),"") -> CREATE | BV25: =IFERROR(VLOOKUP(C25,'1__mapping'!$A:$B,2,0),"") | BW25: =INDEX('2__mapping'!B2:'2__mapping'!B49,MATCH(BV25&D25, INDEX('2__mapping'!C2:C49&'2__mapping'!A2:A49,),0)) -> #N/A | BX25: =IFERROR(VLOOKUP(E25,'3__mapping'!$A:$B,2,0),"") | BY25: =IFERROR(VLOOKUP(F25,'4__mapping'!$A:$B,2,0),"") | BZ25: =IFERROR(VLOOKUP(H25,'5__mapping'!$A:$B,2,0),"") | CA25: =IFERROR(VLOOKUP(K25,'6__mapping'!$A:$B,2,0),"") | CB25: =IFERROR(VLOOKUP(N25,'7__mapping'!$A:$B,2,0),"") | CC25: =IFERROR(VLOOKUP(AB25,'8__mapping'!$A:$B,2,0),"") | CD25: =IFERROR(VLOOKUP(AD25,'9__mapping'!$A:$B,2,0),"") | CE25: =IFERROR(VLOOKUP(AG25,'10__mapping'!$A:$B,2,0),"") | CF25: =IFERROR(VLOOKUP(AL25,'11__mapping'!$A:$B,2,0),"") | CG25: =IFERROR(VLOOKUP(AR25,'12__mapping'!$A:$B,2,0),"") | CH25: =IFERROR(VLOOKUP(AU25,'13__mapping'!$A:$B,2,0),"") | CI25: =IFERROR(VLOOKUP(AW25,'14__mapping'!$A:$B,2,0),"") | CJ25: =IFERROR(VLOOKUP(AY25,'15__mapping'!$A:$B,2,0),"") | CK25: =IFERROR(VLOOKUP(BA25,'16__mapping'!$A:$B,2,0),"") | CL25: =IFERROR(VLOOKUP(BC25,'17__mapping'!$A:$B,2,0),"") | CM25: =IFERROR(VLOOKUP(BE25,'18__mapping'!$A:$B,2,0),"") | CN25: =IFERROR(VLOOKUP(BG25,'19__mapping'!$A:$B,2,0),"") | CO25: =IFERROR(VLOOKUP(BI25,'20__mapping'!$A:$B,2,0),"") | CP25: =IFERROR(VLOOKUP(BK25,'21__mapping'!$A:$B,2,0),"") | CQ25: =IFERROR(VLOOKUP(BM25,'22__mapping'!$A:$B,2,0),"") | CR25: =IFERROR(VLOOKUP(BO25,'23__mapping'!$A:$B,2,0),"") | CS25: =IFERROR(VLOOKUP(BQ25,'24__mapping'!$A:$B,2,0),"")
A26: Create | BU26: =IFERROR(VLOOKUP(A26,'0__mapping'!$A:$B,2,0),"") -> CREATE | BV26: =IFERROR(VLOOKUP(C26,'1__mapping'!$A:$B,2,0),"") | BW26: =INDEX('2__mapping'!B2:'2__mapping'!B49,MATCH(BV26&D26, INDEX('2__mapping'!C2:C49&'2__mapping'!A2:A49,),0)) -> #N/A | BX26: =IFERROR(VLOOKUP(E26,'3__mapping'!$A:$B,2,0),"") | BY26: =IFERROR(VLOOKUP(F26,'4__mapping'!$A:$B,2,0),"") | BZ26: =IFERROR(VLOOKUP(H26,'5__mapping'!$A:$B,2,0),"") | CA26: =IFERROR(VLOOKUP(K26,'6__mapping'!$A:$B,2,0),"") | CB26: =IFERROR(VLOOKUP(N26,'7__mapping'!$A:$B,2,0),"") | CC26: =IFERROR(VLOOKUP(AB26,'8__mapping'!$A:$B,2,0),"") | CD26: =IFERROR(VLOOKUP(AD26,'9__mapping'!$A:$B,2,0),"") | CE26: =IFERROR(VLOOKUP(AG26,'10__mapping'!$A:$B,2,0),"") | CF26: =IFERROR(VLOOKUP(AL26,'11__mapping'!$A:$B,2,0),"") | CG26: =IFERROR(VLOOKUP(AR26,'12__mapping'!$A:$B,2,0),"") | CH26: =IFERROR(VLOOKUP(AU26,'13__mapping'!$A:$B,2,0),"") | CI26: =IFERROR(VLOOKUP(AW26,'14__mapping'!$A:$B,2,0),"") | CJ26: =IFERROR(VLOOKUP(AY26,'15__mapping'!$A:$B,2,0),"") | CK26: =IFERROR(VLOOKUP(BA26,'16__mapping'!$A:$B,2,0),"") | CL26: =IFERROR(VLOOKUP(BC26,'17__mapping'!$A:$B,2,0),"") | CM26: =IFERROR(VLOOKUP(BE26,'18__mapping'!$A:$B,2,0),"") | CN26: =IFERROR(VLOOKUP(BG26,'19__mapping'!$A:$B,2,0),"") | CO26: =IFERROR(VLOOKUP(BI26,'20__mapping'!$A:$B,2,0),"") | CP26: =IFERROR(VLOOKUP(BK26,'21__mapping'!$A:$B,2,0),"") | CQ26: =IFERROR(VLOOKUP(BM26,'22__mapping'!$A:$B,2,0),"") | CR26: =IFERROR(VLOOKUP(BO26,'23__mapping'!$A:$B,2,0),"") | CS26: =IFERROR(VLOOKUP(BQ26,'24__mapping'!$A:$B,2,0),"")
A27: Create | BU27: =IFERROR(VLOOKUP(A27,'0__mapping'!$A:$B,2,0),"") -> CREATE | BV27: =IFERROR(VLOOKUP(C27,'1__mapping'!$A:$B,2,0),"") | BW27: =INDEX('2__mapping'!B2:'2__mapping'!B49,MATCH(BV27&D27, INDEX('2__mapping'!C2:C49&'2__mapping'!A2:A49,),0)) -> #N/A | BX27: =IFERROR(VLOOKUP(E27,'3__mapping'!$A:$B,2,0),"") | BY27: =IFERROR(VLOOKUP(F27,'4__mapping'!$A:$B,2,0),"") | BZ27: =IFERROR(VLOOKUP(H27,'5__mapping'!$A:$B,2,0),"") | CA27: =IFERROR(VLOOKUP(K27,'6__mapping'!$A:$B,2,0),"") | CB27: =IFERROR(VLOOKUP(N27,'7__mapping'!$A:$B,2,0),"") | CC27: =IFERROR(VLOOKUP(AB27,'8__mapping'!$A:$B,2,0),"") | CD27: =IFERROR(VLOOKUP(AD27,'9__mapping'!$A:$B,2,0),"") | CE27: =IFERROR(VLOOKUP(AG27,'10__mapping'!$A:$B,2,0),"") | CF27: =IFERROR(VLOOKUP(AL27,'11__mapping'!$A:$B,2,0),"") | CG27: =IFERROR(VLOOKUP(AR27,'12__mapping'!$A:$B,2,0),"") | CH27: =IFERROR(VLOOKUP(AU27,'13__mapping'!$A:$B,2,0),"") | CI27: =IFERROR(VLOOKUP(AW27,'14__mapping'!$A:$B,2,0),"") | CJ27: =IFERROR(VLOOKUP(AY27,'15__mapping'!$A:$B,2,0),"") | CK27: =IFERROR(VLOOKUP(BA27,'16__mapping'!$A:$B,2,0),"") | CL27: =IFERROR(VLOOKUP(BC27,'17__mapping'!$A:$B,2,0),"") | CM27: =IFERROR(VLOOKUP(BE27,'18__mapping'!$A:$B,2,0),"") | CN27: =IFERROR(VLOOKUP(BG27,'19__mapping'!$A:$B,2,0),"") | CO27: =IFERROR(VLOOKUP(BI27,'20__mapping'!$A:$B,2,0),"") | CP27: =IFERROR(VLOOKUP(BK27,'21__mapping'!$A:$B,2,0),"") | CQ27: =IFERROR(VLOOKUP(BM27,'22__mapping'!$A:$B,2,0),"") | CR27: =IFERROR(VLOOKUP(BO27,'23__mapping'!$A:$B,2,0),"") | CS27: =IFERROR(VLOOKUP(BQ27,'24__mapping'!$A:$B,2,0),"")
A28: Create | BU28: =IFERROR(VLOOKUP(A28,'0__mapping'!$A:$B,2,0),"") -> CREATE | BV28: =IFERROR(VLOOKUP(C28,'1__mapping'!$A:$B,2,0),"") | BW28: =INDEX('2__mapping'!B2:'2__mapping'!B49,MATCH(BV28&D28, INDEX('2__mapping'!C2:C49&'2__mapping'!A2:A49,),0)) -> #N/A | BX28: =IFERROR(VLOOKUP(E28,'3__mapping'!$A:$B,2,0),"") | BY28: =IFERROR(VLOOKUP(F28,'4__mapping'!$A:$B,2,0),"") | BZ28: =IFERROR(VLOOKUP(H28,'5__mapping'!$A:$B,2,0),"") | CA28: =IFERROR(VLOOKUP(K28,'6__mapping'!$A:$B,2,0),"") | CB28: =IFERROR(VLOOKUP(N28,'7__mapping'!$A:$B,2,0),"") | CC28: =IFERROR(VLOOKUP(AB28,'8__mapping'!$A:$B,2,0),"") | CD28: =IFERROR(VLOOKUP(AD28,'9__mapping'!$A:$B,2,0),"") | CE28: =IFERROR(VLOOKUP(AG28,'10__mapping'!$A:$B,2,0),"") | CF28: =IFERROR(VLOOKUP(AL28,'11__mapping'!$A:$B,2,0),"") | CG28: =IFERROR(VLOOKUP(AR28,'12__mapping'!$A:$B,2,0),"") | CH28: =IFERROR(VLOOKUP(AU28,'13__mapping'!$A:$B,2,0),"") | CI28: =IFERROR(VLOOKUP(AW28,'14__mapping'!$A:$B,2,0),"") | CJ28: =IFERROR(VLOOKUP(AY28,'15__mapping'!$A:$B,2,0),"") | CK28: =IFERROR(VLOOKUP(BA28,'16__mapping'!$A:$B,2,0),"") | CL28: =IFERROR(VLOOKUP(BC28,'17__mapping'!$A:$B,2,0),"") | CM28: =IFERROR(VLOOKUP(BE28,'18__mapping'!$A:$B,2,0),"") | CN28: =IFERROR(VLOOKUP(BG28,'19__mapping'!$A:$B,2,0),"") | CO28: =IFERROR(VLOOKUP(BI28,'20__mapping'!$A:$B,2,0),"") | CP28: =IFERROR(VLOOKUP(BK28,'21__mapping'!$A:$B,2,0),"") | CQ28: =IFERROR(VLOOKUP(BM28,'22__mapping'!$A:$B,2,0),"") | CR28: =IFERROR(VLOOKUP(BO28,'23__mapping'!$A:$B,2,0),"") | CS28: =IFERROR(VLOOKUP(BQ28,'24__mapping'!$A:$B,2,0),"")
A29: Create | BU29: =IFERROR(VLOOKUP(A29,'0__mapping'!$A:$B,2,0),"") -> CREATE | BV29: =IFERROR(VLOOKUP(C29,'1__mapping'!$A:$B,2,0),"") | BW29: =INDEX('2__mapping'!B2:'2__mapping'!B49,MATCH(BV29&D29, INDEX('2__mapping'!C2:C49&'2__mapping'!A2:A49,),0)) -> #N/A | BX29: =IFERROR(VLOOKUP(E29,'3__mapping'!$A:$B,2,0),"") | BY29: =IFERROR(VLOOKUP(F29,'4__mapping'!$A:$B,2,0),"") | BZ29: =IFERROR(VLOOKUP(H29,'5__mapping'!$A:$B,2,0),"") | CA29: =IFERROR(VLOOKUP(K29,'6__mapping'!$A:$B,2,0),"") | CB29: =IFERROR(VLOOKUP(N29,'7__mapping'!$A:$B,2,0),"") | CC29: =IFERROR(VLOOKUP(AB29,'8__mapping'!$A:$B,2,0),"") | CD29: =IFERROR(VLOOKUP(AD29,'9__mapping'!$A:$B,2,0),"") | CE29: =IFERROR(VLOOKUP(AG29,'10__mapping'!$A:$B,2,0),"") | CF29: =IFERROR(VLOOKUP(AL29,'11__mapping'!$A:$B,2,0),"") | CG29: =IFERROR(VLOOKUP(AR29,'12__mapping'!$A:$B,2,0),"") | CH29: =IFERROR(VLOOKUP(AU29,'13__mapping'!$A:$B,2,0),"") | CI29: =IFERROR(VLOOKUP(AW29,'14__mapping'!$A:$B,2,0),"") | CJ29: =IFERROR(VLOOKUP(AY29,'15__mapping'!$A:$B,2,0),"") | CK29: =IFERROR(VLOOKUP(BA29,'16__mapping'!$A:$B,2,0),"") | CL29: =IFERROR(VLOOKUP(BC29,'17__mapping'!$A:$B,2,0),"") | CM29: =IFERROR(VLOOKUP(BE29,'18__mapping'!$A:$B,2,0),"") | CN29: =IFERROR(VLOOKUP(BG29,'19__mapping'!$A:$B,2,0),"") | CO29: =IFERROR(VLOOKUP(BI29,'20__mapping'!$A:$B,2,0),"") | CP29: =IFERROR(VLOOKUP(BK29,'21__mapping'!$A:$B,2,0),"") | CQ29: =IFERROR(VLOOKUP(BM29,'22__mapping'!$A:$B,2,0),"") | CR29: =IFERROR(VLOOKUP(BO29,'23__mapping'!$A:$B,2,0),"") | CS29: =IFERROR(VLOOKUP(BQ29,'24__mapping'!$A:$B,2,0),"")
A30: Create | BU30: =IFERROR(VLOOKUP(A30,'0__mapping'!$A:$B,2,0),"") -> CREATE | BV30: =IFERROR(VLOOKUP(C30,'1__mapping'!$A:$B,2,0),"") | BW30: =INDEX('2__mapping'!B2:'2__mapping'!B49,MATCH(BV30&D30, INDEX('2__mapping'!C2:C49&'2__mapping'!A2:A49,),0)) -> #N/A | BX30: =IFERROR(VLOOKUP(E30,'3__mapping'!$A:$B,2,0),"") | BY30: =IFERROR(VLOOKUP(F30,'4__mapping'!$A:$B,2,0),"") | BZ30: =IFERROR(VLOOKUP(H30,'5__mapping'!$A:$B,2,0),"") | CA30: =IFERROR(VLOOKUP(K30,'6__mapping'!$A:$B,2,0),"") | CB30: =IFERROR(VLOOKUP(N30,'7__mapping'!$A:$B,2,0),"") | CC30: =IFERROR(VLOOKUP(AB30,'8__mapping'!$A:$B,2,0),"") | CD30: =IFERROR(VLOOKUP(AD30,'9__mapping'!$A:$B,2,0),"") | CE30: =IFERROR(VLOOKUP(AG30,'10__mapping'!$A:$B,2,0),"") | CF30: =IFERROR(VLOOKUP(AL30,'11__mapping'!$A:$B,2,0),"") | CG30: =IFERROR(VLOOKUP(AR30,'12__mapping'!$A:$B,2,0),"") | CH30: =IFERROR(VLOOKUP(AU30,'13__mapping'!$A:$B,2,0),"") | CI30: =IFERROR(VLOOKUP(AW30,'14__mapping'!$A:$B,2,0),"") | CJ30: =IFERROR(VLOOKUP(AY30,'15__mapping'!$A:$B,2,0),"") | CK30: =IFERROR(VLOOKUP(BA30,'16__mapping'!$A:$B,2,0),"") | CL30: =IFERROR(VLOOKUP(BC30,'17__mapping'!$A:$B,2,0),"") | CM30: =IFERROR(VLOOKUP(BE30,'18__mapping'!$A:$B,2,0),"") | CN30: =IFERROR(VLOOKUP(BG30,'19__mapping'!$A:$B,2,0),"") | CO30: =IFERROR(VLOOKUP(BI30,'20__mapping'!$A:$B,2,0),"") | CP30: =IFERROR(VLOOKUP(BK30,'21__mapping'!$A:$B,2,0),"") | CQ30: =IFERROR(VLOOKUP(BM30,'22__mapping'!$A:$B,2,0),"") | CR30: =IFERROR(VLOOKUP(BO30,'23__mapping'!$A:$B,2,0),"") | CS30: =IFERROR(VLOOKUP(BQ30,'24__mapping'!$A:$B,2,0),"")
A31: Create | BU31: =IFERROR(VLOOKUP(A31,'0__mapping'!$A:$B,2,0),"") -> CREATE | BV31: =IFERROR(VLOOKUP(C31,'1__mapping'!$A:$B,2,0),"") | BW31: =INDEX('2__mapping'!B2:'2__mapping'!B49,MATCH(BV31&D31, INDEX('2__mapping'!C2:C49&'2__mapping'!A2:A49,),0)) -> #N/A | BX31: =IFERROR(VLOOKUP(E31,'3__mapping'!$A:$B,2,0),"") | BY31: =IFERROR(VLOOKUP(F31,'4__mapping'!$A:$B,2,0),"") | BZ31: =IFERROR(VLOOKUP(H31,'5__mapping'!$A:$B,2,0),"") | CA31: =IFERROR(VLOOKUP(K31,'6__mapping'!$A:$B,2,0),"") | CB31: =IFERROR(VLOOKUP(N31,'7__mapping'!$A:$B,2,0),"") | CC31: =IFERROR(VLOOKUP(AB31,'8__mapping'!$A:$B,2,0),"") | CD31: =IFERROR(VLOOKUP(AD31,'9__mapping'!$A:$B,2,0),"") | CE31: =IFERROR(VLOOKUP(AG31,'10__mapping'!$A:$B,2,0),"") | CF31: =IFERROR(VLOOKUP(AL31,'11__mapping'!$A:$B,2,0),"") | CG31: =IFERROR(VLOOKUP(AR31,'12__mapping'!$A:$B,2,0),"") | CH31: =IFERROR(VLOOKUP(AU31,'13__mapping'!$A:$B,2,0),"") | CI31: =IFERROR(VLOOKUP(AW31,'14__mapping'!$A:$B,2,0),"") | CJ31: =IFERROR(VLOOKUP(AY31,'15__mapping'!$A:$B,2,0),"") | CK31: =IFERROR(VLOOKUP(BA31,'16__mapping'!$A:$B,2,0),"") | CL31: =IFERROR(VLOOKUP(BC31,'17__mapping'!$A:$B,2,0),"") | CM31: =IFERROR(VLOOKUP(BE31,'18__mapping'!$A:$B,2,0),"") | CN31: =IFERROR(VLOOKUP(BG31,'19__mapping'!$A:$B,2,0),"") | CO31: =IFERROR(VLOOKUP(BI31,'20__mapping'!$A:$B,2,0),"") | CP31: =IFERROR(VLOOKUP(BK31,'21__mapping'!$A:$B,2,0),"") | CQ31: =IFERROR(VLOOKUP(BM31,'22__mapping'!$A:$B,2,0),"") | CR31: =IFERROR(VLOOKUP(BO31,'23__mapping'!$A:$B,2,0),"") | CS31: =IFERROR(VLOOKUP(BQ31,'24__mapping'!$A:$B,2,0),"")
A32: Create | BU32: =IFERROR(VLOOKUP(A32,'0__mapping'!$A:$B,2,0),"") -> CREATE | BV32: =IFERROR(VLOOKUP(C32,'1__mapping'!$A:$B,2,0),"") | BW32: =INDEX('2__mapping'!B2:'2__mapping'!B49,MATCH(BV32&D32, INDEX('2__mapping'!C2:C49&'2__mapping'!A2:A49,),0)) -> #N/A | BX32: =IFERROR(VLOOKUP(E32,'3__mapping'!$A:$B,2,0),"") | BY32: =IFERROR(VLOOKUP(F32,'4__mapping'!$A:$B,2,0),"") | BZ32: =IFERROR(VLOOKUP(H32,'5__mapping'!$A:$B,2,0),"") | CA32: =IFERROR(VLOOKUP(K32,'6__mapping'!$A:$B,2,0),"") | CB32: =IFERROR(VLOOKUP(N32,'7__mapping'!$A:$B,2,0),"") | CC32: =IFERROR(VLOOKUP(AB32,'8__mapping'!$A:$B,2,0),"") | CD32: =IFERROR(VLOOKUP(AD32,'9__mapping'!$A:$B,2,0),"") | CE32: =IFERROR(VLOOKUP(AG32,'10__mapping'!$A:$B,2,0),"") | CF32: =IFERROR(VLOOKUP(AL32,'11__mapping'!$A:$B,2,0),"") | CG32: =IFERROR(VLOOKUP(AR32,'12__mapping'!$A:$B,2,0),"") | CH32: =IFERROR(VLOOKUP(AU32,'13__mapping'!$A:$B,2,0),"") | CI32: =IFERROR(VLOOKUP(AW32,'14__mapping'!$A:$B,2,0),"") | CJ32: =IFERROR(VLOOKUP(AY32,'15__mapping'!$A:$B,2,0),"") | CK32: =IFERROR(VLOOKUP(BA32,'16__mapping'!$A:$B,2,0),"") | CL32: =IFERROR(VLOOKUP(BC32,'17__mapping'!$A:$B,2,0),"") | CM32: =IFERROR(VLOOKUP(BE32,'18__mapping'!$A:$B,2,0),"") | CN32: =IFERROR(VLOOKUP(BG32,'19__mapping'!$A:$B,2,0),"") | CO32: =IFERROR(VLOOKUP(BI32,'20__mapping'!$A:$B,2,0),"") | CP32: =IFERROR(VLOOKUP(BK32,'21__mapping'!$A:$B,2,0),"") | CQ32: =IFERROR(VLOOKUP(BM32,'22__mapping'!$A:$B,2,0),"") | CR32: =IFERROR(VLOOKUP(BO32,'23__mapping'!$A:$B,2,0),"") | CS32: =IFERROR(VLOOKUP(BQ32,'24__mapping'!$A:$B,2,0),"")
A33: Create | BU33: =IFERROR(VLOOKUP(A33,'0__mapping'!$A:$B,2,0),"") -> CREATE | BV33: =IFERROR(VLOOKUP(C33,'1__mapping'!$A:$B,2,0),"") | BW33: =INDEX('2__mapping'!B2:'2__mapping'!B49,MATCH(BV33&D33, INDEX('2__mapping'!C2:C49&'2__mapping'!A2:A49,),0)) -> #N/A | BX33: =IFERROR(VLOOKUP(E33,'3__mapping'!$A:$B,2,0),"") | BY33: =IFERROR(VLOOKUP(F33,'4__mapping'!$A:$B,2,0),"") | BZ33: =IFERROR(VLOOKUP(H33,'5__mapping'!$A:$B,2,0),"") | CA33: =IFERROR(VLOOKUP(K33,'6__mapping'!$A:$B,2,0),"") | CB33: =IFERROR(VLOOKUP(N33,'7__mapping'!$A:$B,2,0),"") | CC33: =IFERROR(VLOOKUP(AB33,'8__mapping'!$A:$B,2,0),"") | CD33: =IFERROR(VLOOKUP(AD33,'9__mapping'!$A:$B,2,0),"") | CE33: =IFERROR(VLOOKUP(AG33,'10__mapping'!$A:$B,2,0),"") | CF33: =IFERROR(VLOOKUP(AL33,'11__mapping'!$A:$B,2,0),"") | CG33: =IFERROR(VLOOKUP(AR33,'12__mapping'!$A:$B,2,0),"") | CH33: =IFERROR(VLOOKUP(AU33,'13__mapping'!$A:$B,2,0),"") | CI33: =IFERROR(VLOOKUP(AW33,'14__mapping'!$A:$B,2,0),"") | CJ33: =IFERROR(VLOOKUP(AY33,'15__mapping'!$A:$B,2,0),"") | CK33: =IFERROR(VLOOKUP(BA33,'16__mapping'!$A:$B,2,0),"") | CL33: =IFERROR(VLOOKUP(BC33,'17__mapping'!$A:$B,2,0),"") | CM33: =IFERROR(VLOOKUP(BE33,'18__mapping'!$A:$B,2,0),"") | CN33: =IFERROR(VLOOKUP(BG33,'19__mapping'!$A:$B,2,0),"") | CO33: =IFERROR(VLOOKUP(BI33,'20__mapping'!$A:$B,2,0),"") | CP33: =IFERROR(VLOOKUP(BK33,'21__mapping'!$A:$B,2,0),"") | CQ33: =IFERROR(VLOOKUP(BM33,'22__mapping'!$A:$B,2,0),"") | CR33: =IFERROR(VLOOKUP(BO33,'23__mapping'!$A:$B,2,0),"") | CS33: =IFERROR(VLOOKUP(BQ33,'24__mapping'!$A:$B,2,0),"")
A34: Create | BU34: =IFERROR(VLOOKUP(A34,'0__mapping'!$A:$B,2,0),"") -> CREATE | BV34: =IFERROR(VLOOKUP(C34,'1__mapping'!$A:$B,2,0),"") | BW34: =INDEX('2__mapping'!B2:'2__mapping'!B49,MATCH(BV34&D34, INDEX('2__mapping'!C2:C49&'2__mapping'!A2:A49,),0)) -> #N/A | BX34: =IFERROR(VLOOKUP(E34,'3__mapping'!$A:$B,2,0),"") | BY34: =IFERROR(VLOOKUP(F34,'4__mapping'!$A:$B,2,0),"") | BZ34: =IFERROR(VLOOKUP(H34,'5__mapping'!$A:$B,2,0),"") | CA34: =IFERROR(VLOOKUP(K34,'6__mapping'!$A:$B,2,0),"") | CB34: =IFERROR(VLOOKUP(N34,'7__mapping'!$A:$B,2,0),"") | CC34: =IFERROR(VLOOKUP(AB34,'8__mapping'!$A:$B,2,0),"") | CD34: =IFERROR(VLOOKUP(AD34,'9__mapping'!$A:$B,2,0),"") | CE34: =IFERROR(VLOOKUP(AG34,'10__mapping'!$A:$B,2,0),"") | CF34: =IFERROR(VLOOKUP(AL34,'11__mapping'!$A:$B,2,0),"") | CG34: =IFERROR(VLOOKUP(AR34,'12__mapping'!$A:$B,2,0),"") | CH34: =IFERROR(VLOOKUP(AU34,'13__mapping'!$A:$B,2,0),"") | CI34: =IFERROR(VLOOKUP(AW34,'14__mapping'!$A:$B,2,0),"") | CJ34: =IFERROR(VLOOKUP(AY34,'15__mapping'!$A:$B,2,0),"") | CK34: =IFERROR(VLOOKUP(BA34,'16__mapping'!$A:$B,2,0),"") | CL34: =IFERROR(VLOOKUP(BC34,'17__mapping'!$A:$B,2,0),"") | CM34: =IFERROR(VLOOKUP(BE34,'18__mapping'!$A:$B,2,0),"") | CN34: =IFERROR(VLOOKUP(BG34,'19__mapping'!$A:$B,2,0),"") | CO34: =IFERROR(VLOOKUP(BI34,'20__mapping'!$A:$B,2,0),"") | CP34: =IFERROR(VLOOKUP(BK34,'21__mapping'!$A:$B,2,0),"") | CQ34: =IFERROR(VLOOKUP(BM34,'22__mapping'!$A:$B,2,0),"") | CR34: =IFERROR(VLOOKUP(BO34,'23__mapping'!$A:$B,2,0),"") | CS34: =IFERROR(VLOOKUP(BQ34,'24__mapping'!$A:$B,2,0),"")
A35: Create | BU35: =IFERROR(VLOOKUP(A35,'0__mapping'!$A:$B,2,0),"") -> CREATE | BV35: =IFERROR(VLOOKUP(C35,'1__mapping'!$A:$B,2,0),"") | BW35: =INDEX('2__mapping'!B2:'2__mapping'!B49,MATCH(BV35&D35, INDEX('2__mapping'!C2:C49&'2__mapping'!A2:A49,),0)) -> #N/A | BX35: =IFERROR(VLOOKUP(E35,'3__mapping'!$A:$B,2,0),"") | BY35: =IFERROR(VLOOKUP(F35,'4__mapping'!$A:$B,2,0),"") | BZ35: =IFERROR(VLOOKUP(H35,'5__mapping'!$A:$B,2,0),"") | CA35: =IFERROR(VLOOKUP(K35,'6__mapping'!$A:$B,2,0),"") | CB35: =IFERROR(VLOOKUP(N35,'7__mapping'!$A:$B,2,0),"") | CC35: =IFERROR(VLOOKUP(AB35,'8__mapping'!$A:$B,2,0),"") | CD35: =IFERROR(VLOOKUP(AD35,'9__mapping'!$A:$B,2,0),"") | CE35: =IFERROR(VLOOKUP(AG35,'10__mapping'!$A:$B,2,0),"") | CF35: =IFERROR(VLOOKUP(AL35,'11__mapping'!$A:$B,2,0),"") | CG35: =IFERROR(VLOOKUP(AR35,'12__mapping'!$A:$B,2,0),"") | CH35: =IFERROR(VLOOKUP(AU35,'13__mapping'!$A:$B,2,0),"") | CI35: =IFERROR(VLOOKUP(AW35,'14__mapping'!$A:$B,2,0),"") | CJ35: =IFERROR(VLOOKUP(AY35,'15__mapping'!$A:$B,2,0),"") | CK35: =IFERROR(VLOOKUP(BA35,'16__mapping'!$A:$B,2,0),"") | CL35: =IFERROR(VLOOKUP(BC35,'17__mapping'!$A:$B,2,0),"") | CM35: =IFERROR(VLOOKUP(BE35,'18__mapping'!$A:$B,2,0),"") | CN35: =IFERROR(VLOOKUP(BG35,'19__mapping'!$A:$B,2,0),"") | CO35: =IFERROR(VLOOKUP(BI35,'20__mapping'!$A:$B,2,0),"") | CP35: =IFERROR(VLOOKUP(BK35,'21__mapping'!$A:$B,2,0),"") | CQ35: =IFERROR(VLOOKUP(BM35,'22__mapping'!$A:$B,2,0),"") | CR35: =IFERROR(VLOOKUP(BO35,'23__mapping'!$A:$B,2,0),"") | CS35: =IFERROR(VLOOKUP(BQ35,'24__mapping'!$A:$B,2,0),"")
A36: Create | BU36: =IFERROR(VLOOKUP(A36,'0__mapping'!$A:$B,2,0),"") -> CREATE | BV36: =IFERROR(VLOOKUP(C36,'1__mapping'!$A:$B,2,0),"") | BW36: =INDEX('2__mapping'!B2:'2__mapping'!B49,MATCH(BV36&D36, INDEX('2__mapping'!C2:C49&'2__mapping'!A2:A49,),0)) -> #N/A | BX36: =IFERROR(VLOOKUP(E36,'3__mapping'!$A:$B,2,0),"") | BY36: =IFERROR(VLOOKUP(F36,'4__mapping'!$A:$B,2,0),"") | BZ36: =IFERROR(VLOOKUP(H36,'5__mapping'!$A:$B,2,0),"") | CA36: =IFERROR(VLOOKUP(K36,'6__mapping'!$A:$B,2,0),"") | CB36: =IFERROR(VLOOKUP(N36,'7__mapping'!$A:$B,2,0),"") | CC36: =IFERROR(VLOOKUP(AB36,'8__mapping'!$A:$B,2,0),"") | CD36: =IFERROR(VLOOKUP(AD36,'9__mapping'!$A:$B,2,0),"") | CE36: =IFERROR(VLOOKUP(AG36,'10__mapping'!$A:$B,2,0),"") | CF36: =IFERROR(VLOOKUP(AL36,'11__mapping'!$A:$B,2,0),"") | CG36: =IFERROR(VLOOKUP(AR36,'12__mapping'!$A:$B,2,0),"") | CH36: =IFERROR(VLOOKUP(AU36,'13__mapping'!$A:$B,2,0),"") | CI36: =IFERROR(VLOOKUP(AW36,'14__mapping'!$A:$B,2,0),"") | CJ36: =IFERROR(VLOOKUP(AY36,'15__mapping'!$A:$B,2,0),"") | CK36: =IFERROR(VLOOKUP(BA36,'16__mapping'!$A:$B,2,0),"") | CL36: =IFERROR(VLOOKUP(BC36,'17__mapping'!$A:$B,2,0),"") | CM36: =IFERROR(VLOOKUP(BE36,'18__mapping'!$A:$B,2,0),"") | CN36: =IFERROR(VLOOKUP(BG36,'19__mapping'!$A:$B,2,0),"") | CO36: =IFERROR(VLOOKUP(BI36,'20__mapping'!$A:$B,2,0),"") | CP36: =IFERROR(VLOOKUP(BK36,'21__mapping'!$A:$B,2,0),"") | CQ36: =IFERROR(VLOOKUP(BM36,'22__mapping'!$A:$B,2,0),"") | CR36: =IFERROR(VLOOKUP(BO36,'23__mapping'!$A:$B,2,0),"") | CS36: =IFERROR(VLOOKUP(BQ36,'24__mapping'!$A:$B,2,0),"")
A37: Create | BU37: =IFERROR(VLOOKUP(A37,'0__mapping'!$A:$B,2,0),"") -> CREATE | BV37: =IFERROR(VLOOKUP(C37,'1__mapping'!$A:$B,2,0),"") | BW37: =INDEX('2__mapping'!B2:'2__mapping'!B49,MATCH(BV37&D37, INDEX('2__mapping'!C2:C49&'2__mapping'!A2:A49,),0)) -> #N/A | BX37: =IFERROR(VLOOKUP(E37,'3__mapping'!$A:$B,2,0),"") | BY37: =IFERROR(VLOOKUP(F37,'4__mapping'!$A:$B,2,0),"") | BZ37: =IFERROR(VLOOKUP(H37,'5__mapping'!$A:$B,2,0),"") | CA37: =IFERROR(VLOOKUP(K37,'6__mapping'!$A:$B,2,0),"") | CB37: =IFERROR(VLOOKUP(N37,'7__mapping'!$A:$B,2,0),"") | CC37: =IFERROR(VLOOKUP(AB37,'8__mapping'!$A:$B,2,0),"") | CD37: =IFERROR(VLOOKUP(AD37,'9__mapping'!$A:$B,2,0),"") | CE37: =IFERROR(VLOOKUP(AG37,'10__mapping'!$A:$B,2,0),"") | CF37: =IFERROR(VLOOKUP(AL37,'11__mapping'!$A:$B,2,0),"") | CG37: =IFERROR(VLOOKUP(AR37,'12__mapping'!$A:$B,2,0),"") | CH37: =IFERROR(VLOOKUP(AU37,'13__mapping'!$A:$B,2,0),"") | CI37: =IFERROR(VLOOKUP(AW37,'14__mapping'!$A:$B,2,0),"") | CJ37: =IFERROR(VLOOKUP(AY37,'15__mapping'!$A:$B,2,0),"") | CK37: =IFERROR(VLOOKUP(BA37,'16__mapping'!$A:$B,2,0),"") | CL37: =IFERROR(VLOOKUP(BC37,'17__mapping'!$A:$B,2,0),"") | CM37: =IFERROR(VLOOKUP(BE37,'18__mapping'!$A:$B,2,0),"") | CN37: =IFERROR(VLOOKUP(BG37,'19__mapping'!$A:$B,2,0),"") | CO37: =IFERROR(VLOOKUP(BI37,'20__mapping'!$A:$B,2,0),"") | CP37: =IFERROR(VLOOKUP(BK37,'21__mapping'!$A:$B,2,0),"") | CQ37: =IFERROR(VLOOKUP(BM37,'22__mapping'!$A:$B,2,0),"") | CR37: =IFERROR(VLOOKUP(BO37,'23__mapping'!$A:$B,2,0),"") | CS37: =IFERROR(VLOOKUP(BQ37,'24__mapping'!$A:$B,2,0),"")
A38: Create | BU38: =IFERROR(VLOOKUP(A38,'0__mapping'!$A:$B,2,0),"") -> CREATE | BV38: =IFERROR(VLOOKUP(C38,'1__mapping'!$A:$B,2,0),"") | BW38: =INDEX('2__mapping'!B2:'2__mapping'!B49,MATCH(BV38&D38, INDEX('2__mapping'!C2:C49&'2__mapping'!A2:A49,),0)) -> #N/A | BX38: =IFERROR(VLOOKUP(E38,'3__mapping'!$A:$B,2,0),"") | BY38: =IFERROR(VLOOKUP(F38,'4__mapping'!$A:$B,2,0),"") | BZ38: =IFERROR(VLOOKUP(H38,'5__mapping'!$A:$B,2,0),"") | CA38: =IFERROR(VLOOKUP(K38,'6__mapping'!$A:$B,2,0),"") | CB38: =IFERROR(VLOOKUP(N38,'7__mapping'!$A:$B,2,0),"") | CC38: =IFERROR(VLOOKUP(AB38,'8__mapping'!$A:$B,2,0),"") | CD38: =IFERROR(VLOOKUP(AD38,'9__mapping'!$A:$B,2,0),"") | CE38: =IFERROR(VLOOKUP(AG38,'10__mapping'!$A:$B,2,0),"") | CF38: =IFERROR(VLOOKUP(AL38,'11__mapping'!$A:$B,2,0),"") | CG38: =IFERROR(VLOOKUP(AR38,'12__mapping'!$A:$B,2,0),"") | CH38: =IFERROR(VLOOKUP(AU38,'13__mapping'!$A:$B,2,0),"") | CI38: =IFERROR(VLOOKUP(AW38,'14__mapping'!$A:$B,2,0),"") | CJ38: =IFERROR(VLOOKUP(AY38,'15__mapping'!$A:$B,2,0),"") | CK38: =IFERROR(VLOOKUP(BA38,'16__mapping'!$A:$B,2,0),"") | CL38: =IFERROR(VLOOKUP(BC38,'17__mapping'!$A:$B,2,0),"") | CM38: =IFERROR(VLOOKUP(BE38,'18__mapping'!$A:$B,2,0),"") | CN38: =IFERROR(VLOOKUP(BG38,'19__mapping'!$A:$B,2,0),"") | CO38: =IFERROR(VLOOKUP(BI38,'20__mapping'!$A:$B,2,0),"") | CP38: =IFERROR(VLOOKUP(BK38,'21__mapping'!$A:$B,2,0),"") | CQ38: =IFERROR(VLOOKUP(BM38,'22__mapping'!$A:$B,2,0),"") | CR38: =IFERROR(VLOOKUP(BO38,'23__mapping'!$A:$B,2,0),"") | CS38: =IFERROR(VLOOKUP(BQ38,'24__mapping'!$A:$B,2,0),"")
A39: Create | BU39: =IFERROR(VLOOKUP(A39,'0__mapping'!$A:$B,2,0),"") -> CREATE | BV39: =IFERROR(VLOOKUP(C39,'1__mapping'!$A:$B,2,0),"") | BW39: =INDEX('2__mapping'!B2:'2__mapping'!B49,MATCH(BV39&D39, INDEX('2__mapping'!C2:C49&'2__mapping'!A2:A49,),0)) -> #N/A | BX39: =IFERROR(VLOOKUP(E39,'3__mapping'!$A:$B,2,0),"") | BY39: =IFERROR(VLOOKUP(F39,'4__mapping'!$A:$B,2,0),"") | BZ39: =IFERROR(VLOOKUP(H39,'5__mapping'!$A:$B,2,0),"") | CA39: =IFERROR(VLOOKUP(K39,'6__mapping'!$A:$B,2,0),"") | CB39: =IFERROR(VLOOKUP(N39,'7__mapping'!$A:$B,2,0),"") | CC39: =IFERROR(VLOOKUP(AB39,'8__mapping'!$A:$B,2,0),"") | CD39: =IFERROR(VLOOKUP(AD39,'9__mapping'!$A:$B,2,0),"") | CE39: =IFERROR(VLOOKUP(AG39,'10__mapping'!$A:$B,2,0),"") | CF39: =IFERROR(VLOOKUP(AL39,'11__mapping'!$A:$B,2,0),"") | CG39: =IFERROR(VLOOKUP(AR39,'12__mapping'!$A:$B,2,0),"") | CH39: =IFERROR(VLOOKUP(AU39,'13__mapping'!$A:$B,2,0),"") | CI39: =IFERROR(VLOOKUP(AW39,'14__mapping'!$A:$B,2,0),"") | CJ39: =IFERROR(VLOOKUP(AY39,'15__mapping'!$A:$B,2,0),"") | CK39: =IFERROR(VLOOKUP(BA39,'16__mapping'!$A:$B,2,0),"") | CL39: =IFERROR(VLOOKUP(BC39,'17__mapping'!$A:$B,2,0),"") | CM39: =IFERROR(VLOOKUP(BE39,'18__mapping'!$A:$B,2,0),"") | CN39: =IFERROR(VLOOKUP(BG39,'19__mapping'!$A:$B,2,0),"") | CO39: =IFERROR(VLOOKUP(BI39,'20__mapping'!$A:$B,2,0),"") | CP39: =IFERROR(VLOOKUP(BK39,'21__mapping'!$A:$B,2,0),"") | CQ39: =IFERROR(VLOOKUP(BM39,'22__mapping'!$A:$B,2,0),"") | CR39: =IFERROR(VLOOKUP(BO39,'23__mapping'!$A:$B,2,0),"") | CS39: =IFERROR(VLOOKUP(BQ39,'24__mapping'!$A:$B,2,0),"")
