Workbook

Sheet Workers
A1: Create / Edit | B1: Employee | N1: Payrun | S1: Employee Info | AD1: Residential Address | AI1: Office Address | AN1: Mailing Address | AT1: Dimensions | AY1: ID | AZ1: Mapping
A2: Required | B2: Required | C2: Required | D2: Optional | E2: Required | F2: Optional | G2: Optional | H2: Optional | I2: Optional | J2: Optional | K2: Required | L2: Optional | M2: Optional | N2: Optional | O2: Optional | P2: Optional | Q2: Optional | R2: Optional | S2: Optional | T2: Optional | U2: Optional | V2: Optional | W2: Optional | X2: Optional | Y2: Optional | Z2: Optional | AA2: Optional | AB2: Optional | AC2: Optional | AD2: Optional | AE2: Optional | AF2: Optional | AG2: Optional | AH2: Optional | AI2: Optional | AJ2: Optional | AK2: Optional | AL2: Optional | AM2: Optional | AN2: Optional | AO2: Optional | AP2: Optional | AQ2: Optional | AR2: Optional | AS2: Optional | AT2: Optional | AU2: Optional | AV2: Optional | AW2: Optional | AX2: Optional | AY2: Optional
A3: Create or Edit | B3: Worker Name | C3: Client | D3: End Client | E3: Work Country | F3: Date of Birth | G3: Visa Service | H3: Visa Renewal Date | I3: Visa Application Remarks | J3: Contract Status | K3: Employment Active | L3: Start Date | M3: Expected End Date | N3: Recurring Payrun | O3: First Payrun Date | P3: Effective Start Date | Q3: Last Payrun Date | R3: Effective End Date | S3: Spinach Demo Tenant ID | T3: Client Worker ID | U3: Legal Name in Local Language | V3: Email | W3: Personal Email | X3: Business Email | Y3: Phone Number | Z3: Job Title | AA3: Citizenship Country | AB3: National ID | AC3: Gender | AD3: Residential Address | AE3: Residential Address City | AF3: Residential Address Country | AG3: Residential Postal Code | AH3: Residential Address State | AI3: Office Address | AJ3: Office Address City | AK3: Office Address Country | AL3: Office Postal Code | AM3: Office Address State | AN3: Mailing Address Line 1 | AO3: Mailing Address Line 2 | AP3: Mailing Address City | AQ3: Mailing Address Country | AR3: Mail Address Postal Code | AS3: Mailing Address State | AT3: Team | AU3: Division | AV3: Department | AW3: Section | AX3: Group | AY3: ID | AZ3: 0__mapping | BA3: 1__mapping | BB3: 2__mapping | BC3: 3__mapping | BD3: 4__mapping | BE3: 5__mapping | BF3: 6__mapping | BG3: 7__mapping | BH3: 8__mapping | BI3: 9__mapping | BJ3: 10__mapping | BK3: 11__mapping | BL3: 12__mapping | BM3: 13__mapping | BN3: 14__mapping | BO3: 15__mapping | BP3: 16__mapping | BQ3: 17__mapping
A4: Create | B4: Alice Smith | C4: Sample Company | E4: Japan | K4: ✔ | AZ4: =IFERROR(VLOOKUP(A4,'0__mapping'!$A:$B,2,0),"") -> CREATE | BA4: =IFERROR(VLOOKUP(C4,'1__mapping'!$A:$B,2,0),"") -> ba776f30-8862-417b-ba2a-4c558b4f4db2 | BB4: =INDEX('2__mapping'!B2:'2__mapping'!B1,MATCH(BA4&D4, INDEX('2__mapping'!C1:C2&'2__mapping'!A1:A2,),0)) -> #N/A | BC4: =IFERROR(VLOOKUP(E4,'3__mapping'!$A:$B,2,0),"") -> JP | BD4: =IFERROR(VLOOKUP(G4,'4__mapping'!$A:$B,2,0),"") | BE4: =IFERROR(VLOOKUP(J4,'5__mapping'!$A:$B,2,0),"") | BF4: =IFERROR(VLOOKUP(K4,'6__mapping'!$A:$B,2,0),"") -> TRUE | BG4: =IFERROR(VLOOKUP(N4,'7__mapping'!$A:$B,2,0),"") | BH4: =IFERROR(VLOOKUP(AA4,'8__mapping'!$A:$B,2,0),"") | BI4: =IFERROR(VLOOKUP(AC4,'9__mapping'!$A:$B,2,0),"") | BJ4: =IFERROR(VLOOKUP(AF4,'10__mapping'!$A:$B,2,0),"") | BK4: =IFERROR(VLOOKUP(AK4,'11__mapping'!$A:$B,2,0),"") | BL4: =IFERROR(VLOOKUP(AQ4,'12__mapping'!$A:$B,2,0),"") | BM4: =IFERROR(VLOOKUP(AT4,'13__mapping'!$A:$B,2,0),"") | BN4: =IFERROR(VLOOKUP(AU4,'14__mapping'!$A:$B,2,0),"") | BO4: =IFERROR(VLOOKUP(AV4,'15__mapping'!$A:$B,2,0),"") | BP4: =IFERROR(VLOOKUP(AW4,'16__mapping'!$A:$B,2,0),"") | BQ4: =IFERROR(VLOOKUP(AX4,'17__mapping'!$A:$B,2,0),"")
A5: Create | AZ5: =IFERROR(VLOOKUP(A5,'0__mapping'!$A:$B,2,0),"") -> CREATE | BA5: =IFERROR(VLOOKUP(C5,'1__mapping'!$A:$B,2,0),"") | BB5: =INDEX('2__mapping'!B2:'2__mapping'!B1,MATCH(BA5&D5, INDEX('2__mapping'!C1:C2&'2__mapping'!A1:A2,),0)) -> 0 | BC5: =IFERROR(VLOOKUP(E5,'3__mapping'!$A:$B,2,0),"") | BD5: =IFERROR(VLOOKUP(G5,'4__mapping'!$A:$B,2,0),"") | BE5: =IFERROR(VLOOKUP(J5,'5__mapping'!$A:$B,2,0),"") | BF5: =IFERROR(VLOOKUP(K5,'6__mapping'!$A:$B,2,0),"") | BG5: =IFERROR(VLOOKUP(N5,'7__mapping'!$A:$B,2,0),"") | BH5: =IFERROR(VLOOKUP(AA5,'8__mapping'!$A:$B,2,0),"") | BI5: =IFERROR(VLOOKUP(AC5,'9__mapping'!$A:$B,2,0),"") | BJ5: =IFERROR(VLOOKUP(AF5,'10__mapping'!$A:$B,2,0),"") | BK5: =IFERROR(VLOOKUP(AK5,'11__mapping'!$A:$B,2,0),"") | BL5: =IFERROR(VLOOKUP(AQ5,'12__mapping'!$A:$B,2,0),"") | BM5: =IFERROR(VLOOKUP(AT5,'13__mapping'!$A:$B,2,0),"") | BN5: =IFERROR(VLOOKUP(AU5,'14__mapping'!$A:$B,2,0),"") | BO5: =IFERROR(VLOOKUP(AV5,'15__mapping'!$A:$B,2,0),"") | BP5: =IFERROR(VLOOKUP(AW5,'16__mapping'!$A:$B,2,0),"") | BQ5: =IFERROR(VLOOKUP(AX5,'17__mapping'!$A:$B,2,0),"")
A6: Create | AZ6: =IFERROR(VLOOKUP(A6,'0__mapping'!$A:$B,2,0),"") -> CREATE | BA6: =IFERROR(VLOOKUP(C6,'1__mapping'!$A:$B,2,0),"") | BB6: =INDEX('2__mapping'!B2:'2__mapping'!B1,MATCH(BA6&D6, INDEX('2__mapping'!C1:C2&'2__mapping'!A1:A2,),0)) -> 0 | BC6: =IFERROR(VLOOKUP(E6,'3__mapping'!$A:$B,2,0),"") | BD6: =IFERROR(VLOOKUP(G6,'4__mapping'!$A:$B,2,0),"") | BE6: =IFERROR(VLOOKUP(J6,'5__mapping'!$A:$B,2,0),"") | BF6: =IFERROR(VLOOKUP(K6,'6__mapping'!$A:$B,2,0),"") | BG6: =IFERROR(VLOOKUP(N6,'7__mapping'!$A:$B,2,0),"") | BH6: =IFERROR(VLOOKUP(AA6,'8__mapping'!$A:$B,2,0),"") | BI6: =IFERROR(VLOOKUP(AC6,'9__mapping'!$A:$B,2,0),"") | BJ6: =IFERROR(VLOOKUP(AF6,'10__mapping'!$A:$B,2,0),"") | BK6: =IFERROR(VLOOKUP(AK6,'11__mapping'!$A:$B,2,0),"") | BL6: =IFERROR(VLOOKUP(AQ6,'12__mapping'!$A:$B,2,0),"") | BM6: =IFERROR(VLOOKUP(AT6,'13__mapping'!$A:$B,2,0),"") | BN6: =IFERROR(VLOOKUP(AU6,'14__mapping'!$A:$B,2,0),"") | BO6: =IFERROR(VLOOKUP(AV6,'15__mapping'!$A:$B,2,0),"") | BP6: =IFERROR(VLOOKUP(AW6,'16__mapping'!$A:$B,2,0),"") | BQ6: =IFERROR(VLOOKUP(AX6,'17__mapping'!$A:$B,2,0),"")
A7: Create | AZ7: =IFERROR(VLOOKUP(A7,'0__mapping'!$A:$B,2,0),"") -> CREATE | BA7: =IFERROR(VLOOKUP(C7,'1__mapping'!$A:$B,2,0),"") | BB7: =INDEX('2__mapping'!B2:'2__mapping'!B1,MATCH(BA7&D7, INDEX('2__mapping'!C1:C2&'2__mapping'!A1:A2,),0)) -> 0 | BC7: =IFERROR(VLOOKUP(E7,'3__mapping'!$A:$B,2,0),"") | BD7: =IFERROR(VLOOKUP(G7,'4__mapping'!$A:$B,2,0),"") | BE7: =IFERROR(VLOOKUP(J7,'5__mapping'!$A:$B,2,0),"") | BF7: =IFERROR(VLOOKUP(K7,'6__mapping'!$A:$B,2,0),"") | BG7: =IFERROR(VLOOKUP(N7,'7__mapping'!$A:$B,2,0),"") | BH7: =IFERROR(VLOOKUP(AA7,'8__mapping'!$A:$B,2,0),"") | BI7: =IFERROR(VLOOKUP(AC7,'9__mapping'!$A:$B,2,0),"") | BJ7: =IFERROR(VLOOKUP(AF7,'10__mapping'!$A:$B,2,0),"") | BK7: =IFERROR(VLOOKUP(AK7,'11__mapping'!$A:$B,2,0),"") | BL7: =IFERROR(VLOOKUP(AQ7,'12__mapping'!$A:$B,2,0),"") | BM7: =IFERROR(VLOOKUP(AT7,'13__mapping'!$A:$B,2,0),"") | BN7: =IFERROR(VLOOKUP(AU7,'14__mapping'!$A:$B,2,0),"") | BO7: =IFERROR(VLOOKUP(AV7,'15__mapping'!$A:$B,2,0),"") | BP7: =IFERROR(VLOOKUP(AW7,'16__mapping'!$A:$B,2,0),"") | BQ7: =IFERROR(VLOOKUP(AX7,'17__mapping'!$A:$B,2,0),"")
A8: Create | AZ8: =IFERROR(VLOOKUP(A8,'0__mapping'!$A:$B,2,0),"") -> CREATE | BA8: =IFERROR(VLOOKUP(C8,'1__mapping'!$A:$B,2,0),"") | BB8: =INDEX('2__mapping'!B2:'2__mapping'!B1,MATCH(BA8&D8, INDEX('2__mapping'!C1:C2&'2__mapping'!A1:A2,),0)) -> 0 | BC8: =IFERROR(VLOOKUP(E8,'3__mapping'!$A:$B,2,0),"") | BD8: =IFERROR(VLOOKUP(G8,'4__mapping'!$A:$B,2,0),"") | BE8: =IFERROR(VLOOKUP(J8,'5__mapping'!$A:$B,2,0),"") | BF8: =IFERROR(VLOOKUP(K8,'6__mapping'!$A:$B,2,0),"") | BG8: =IFERROR(VLOOKUP(N8,'7__mapping'!$A:$B,2,0),"") | BH8: =IFERROR(VLOOKUP(AA8,'8__mapping'!$A:$B,2,0),"") | BI8: =IFERROR(VLOOKUP(AC8,'9__mapping'!$A:$B,2,0),"") | BJ8: =IFERROR(VLOOKUP(AF8,'10__mapping'!$A:$B,2,0),"") | BK8: =IFERROR(VLOOKUP(AK8,'11__mapping'!$A:$B,2,0),"") | BL8: =IFERROR(VLOOKUP(AQ8,'12__mapping'!$A:$B,2,0),"") | BM8: =IFERROR(VLOOKUP(AT8,'13__mapping'!$A:$B,2,0),"") | BN8: =IFERROR(VLOOKUP(AU8,'14__mapping'!$A:$B,2,0),"") | BO8: =IFERROR(VLOOKUP(AV8,'15__mapping'!$A:$B,2,0),"") | BP8: =IFERROR(VLOOKUP(AW8,'16__mapping'!$A:$B,2,0),"") | BQ8: =IFERROR(VLOOKUP(AX8,'17__mapping'!$A:$B,2,0),"")
A9: Create | AZ9: =IFERROR(VLOOKUP(A9,'0__mapping'!$A:$B,2,0),"") -> CREATE | BA9: =IFERROR(VLOOKUP(C9,'1__mapping'!$A:$B,2,0),"") | BB9: =INDEX('2__mapping'!B2:'2__mapping'!B1,MATCH(BA9&D9, INDEX('2__mapping'!C1:C2&'2__mapping'!A1:A2,),0)) -> 0 | BC9: =IFERROR(VLOOKUP(E9,'3__mapping'!$A:$B,2,0),"") | BD9: =IFERROR(VLOOKUP(G9,'4__mapping'!$A:$B,2,0),"") | BE9: =IFERROR(VLOOKUP(J9,'5__mapping'!$A:$B,2,0),"") | BF9: =IFERROR(VLOOKUP(K9,'6__mapping'!$A:$B,2,0),"") | BG9: =IFERROR(VLOOKUP(N9,'7__mapping'!$A:$B,2,0),"") | BH9: =IFERROR(VLOOKUP(AA9,'8__mapping'!$A:$B,2,0),"") | BI9: =IFERROR(VLOOKUP(AC9,'9__mapping'!$A:$B,2,0),"") | BJ9: =IFERROR(VLOOKUP(AF9,'10__mapping'!$A:$B,2,0),"") | BK9: =IFERROR(VLOOKUP(AK9,'11__mapping'!$A:$B,2,0),"") | BL9: =IFERROR(VLOOKUP(AQ9,'12__mapping'!$A:$B,2,0),"") | BM9: =IFERROR(VLOOKUP(AT9,'13__mapping'!$A:$B,2,0),"") | BN9: =IFERROR(VLOOKUP(AU9,'14__mapping'!$A:$B,2,0),"") | BO9: =IFERROR(VLOOKUP(AV9,'15__mapping'!$A:$B,2,0),"") | BP9: =IFERROR(VLOOKUP(AW9,'16__mapping'!$A:$B,2,0),"") | BQ9: =IFERROR(VLOOKUP(AX9,'17__mapping'!$A:$B,2,0),"")
A10: Create | AZ10: =IFERROR(VLOOKUP(A10,'0__mapping'!$A:$B,2,0),"") -> CREATE | BA10: =IFERROR(VLOOKUP(C10,'1__mapping'!$A:$B,2,0),"") | BB10: =INDEX('2__mapping'!B2:'2__mapping'!B1,MATCH(BA10&D10, INDEX('2__mapping'!C1:C2&'2__mapping'!A1:A2,),0)) -> 0 | BC10: =IFERROR(VLOOKUP(E10,'3__mapping'!$A:$B,2,0),"") | BD10: =IFERROR(VLOOKUP(G10,'4__mapping'!$A:$B,2,0),"") | BE10: =IFERROR(VLOOKUP(J10,'5__mapping'!$A:$B,2,0),"") | BF10: =IFERROR(VLOOKUP(K10,'6__mapping'!$A:$B,2,0),"") | BG10: =IFERROR(VLOOKUP(N10,'7__mapping'!$A:$B,2,0),"") | BH10: =IFERROR(VLOOKUP(AA10,'8__mapping'!$A:$B,2,0),"") | BI10: =IFERROR(VLOOKUP(AC10,'9__mapping'!$A:$B,2,0),"") | BJ10: =IFERROR(VLOOKUP(AF10,'10__mapping'!$A:$B,2,0),"") | BK10: =IFERROR(VLOOKUP(AK10,'11__mapping'!$A:$B,2,0),"") | BL10: =IFERROR(VLOOKUP(AQ10,'12__mapping'!$A:$B,2,0),"") | BM10: =IFERROR(VLOOKUP(AT10,'13__mapping'!$A:$B,2,0),"") | BN10: =IFERROR(VLOOKUP(AU10,'14__mapping'!$A:$B,2,0),"") | BO10: =IFERROR(VLOOKUP(AV10,'15__mapping'!$A:$B,2,0),"") | BP10: =IFERROR(VLOOKUP(AW10,'16__mapping'!$A:$B,2,0),"") | BQ10: =IFERROR(VLOOKUP(AX10,'17__mapping'!$A:$B,2,0),"")
A11: Create | AZ11: =IFERROR(VLOOKUP(A11,'0__mapping'!$A:$B,2,0),"") -> CREATE | BA11: =IFERROR(VLOOKUP(C11,'1__mapping'!$A:$B,2,0),"") | BB11: =INDEX('2__mapping'!B2:'2__mapping'!B1,MATCH(BA11&D11, INDEX('2__mapping'!C1:C2&'2__mapping'!A1:A2,),0)) -> 0 | BC11: =IFERROR(VLOOKUP(E11,'3__mapping'!$A:$B,2,0),"") | BD11: =IFERROR(VLOOKUP(G11,'4__mapping'!$A:$B,2,0),"") | BE11: =IFERROR(VLOOKUP(J11,'5__mapping'!$A:$B,2,0),"") | BF11: =IFERROR(VLOOKUP(K11,'6__mapping'!$A:$B,2,0),"") | BG11: =IFERROR(VLOOKUP(N11,'7__mapping'!$A:$B,2,0),"") | BH11: =IFERROR(VLOOKUP(AA11,'8__mapping'!$A:$B,2,0),"") | BI11: =IFERROR(VLOOKUP(AC11,'9__mapping'!$A:$B,2,0),"") | BJ11: =IFERROR(VLOOKUP(AF11,'10__mapping'!$A:$B,2,0),"") | BK11: =IFERROR(VLOOKUP(AK11,'11__mapping'!$A:$B,2,0),"") | BL11: =IFERROR(VLOOKUP(AQ11,'12__mapping'!$A:$B,2,0),"") | BM11: =IFERROR(VLOOKUP(AT11,'13__mapping'!$A:$B,2,0),"") | BN11: =IFERROR(VLOOKUP(AU11,'14__mapping'!$A:$B,2,0),"") | BO11: =IFERROR(VLOOKUP(AV11,'15__mapping'!$A:$B,2,0),"") | BP11: =IFERROR(VLOOKUP(AW11,'16__mapping'!$A:$B,2,0),"") | BQ11: =IFERROR(VLOOKUP(AX11,'17__mapping'!$A:$B,2,0),"")
A12: Create | AZ12: =IFERROR(VLOOKUP(A12,'0__mapping'!$A:$B,2,0),"") -> CREATE | BA12: =IFERROR(VLOOKUP(C12,'1__mapping'!$A:$B,2,0),"") | BB12: =INDEX('2__mapping'!B2:'2__mapping'!B1,MATCH(BA12&D12, INDEX('2__mapping'!C1:C2&'2__mapping'!A1:A2,),0)) -> 0 | BC12: =IFERROR(VLOOKUP(E12,'3__mapping'!$A:$B,2,0),"") | BD12: =IFERROR(VLOOKUP(G12,'4__mapping'!$A:$B,2,0),"") | BE12: =IFERROR(VLOOKUP(J12,'5__mapping'!$A:$B,2,0),"") | BF12: =IFERROR(VLOOKUP(K12,'6__mapping'!$A:$B,2,0),"") | BG12: =IFERROR(VLOOKUP(N12,'7__mapping'!$A:$B,2,0),"") | BH12: =IFERROR(VLOOKUP(AA12,'8__mapping'!$A:$B,2,0),"") | BI12: =IFERROR(VLOOKUP(AC12,'9__mapping'!$A:$B,2,0),"") | BJ12: =IFERROR(VLOOKUP(AF12,'10__mapping'!$A:$B,2,0),"") | BK12: =IFERROR(VLOOKUP(AK12,'11__mapping'!$A:$B,2,0),"") | BL12: =IFERROR(VLOOKUP(AQ12,'12__mapping'!$A:$B,2,0),"") | BM12: =IFERROR(VLOOKUP(AT12,'13__mapping'!$A:$B,2,0),"") | BN12: =IFERROR(VLOOKUP(AU12,'14__mapping'!$A:$B,2,0),"") | BO12: =IFERROR(VLOOKUP(AV12,'15__mapping'!$A:$B,2,0),"") | BP12: =IFERROR(VLOOKUP(AW12,'16__mapping'!$A:$B,2,0),"") | BQ12: =IFERROR(VLOOKUP(AX12,'17__mapping'!$A:$B,2,0),"")
A13: Create | AZ13: =IFERROR(VLOOKUP(A13,'0__mapping'!$A:$B,2,0),"") -> CREATE | BA13: =IFERROR(VLOOKUP(C13,'1__mapping'!$A:$B,2,0),"") | BB13: =INDEX('2__mapping'!B2:'2__mapping'!B1,MATCH(BA13&D13, INDEX('2__mapping'!C1:C2&'2__mapping'!A1:A2,),0)) -> 0 | BC13: =IFERROR(VLOOKUP(E13,'3__mapping'!$A:$B,2,0),"") | BD13: =IFERROR(VLOOKUP(G13,'4__mapping'!$A:$B,2,0),"") | BE13: =IFERROR(VLOOKUP(J13,'5__mapping'!$A:$B,2,0),"") | BF13: =IFERROR(VLOOKUP(K13,'6__mapping'!$A:$B,2,0),"") | BG13: =IFERROR(VLOOKUP(N13,'7__mapping'!$A:$B,2,0),"") | BH13: =IFERROR(VLOOKUP(AA13,'8__mapping'!$A:$B,2,0),"") | BI13: =IFERROR(VLOOKUP(AC13,'9__mapping'!$A:$B,2,0),"") | BJ13: =IFERROR(VLOOKUP(AF13,'10__mapping'!$A:$B,2,0),"") | BK13: =IFERROR(VLOOKUP(AK13,'11__mapping'!$A:$B,2,0),"") | BL13: =IFERROR(VLOOKUP(AQ13,'12__mapping'!$A:$B,2,0),"") | BM13: =IFERROR(VLOOKUP(AT13,'13__mapping'!$A:$B,2,0),"") | BN13: =IFERROR(VLOOKUP(AU13,'14__mapping'!$A:$B,2,0),"") | BO13: =IFERROR(VLOOKUP(AV13,'15__mapping'!$A:$B,2,0),"") | BP13: =IFERROR(VLOOKUP(AW13,'16__mapping'!$A:$B,2,0),"") | BQ13: =IFERROR(VLOOKUP(AX13,'17__mapping'!$A:$B,2,0),"")
A14: Create | AZ14: =IFERROR(VLOOKUP(A14,'0__mapping'!$A:$B,2,0),"") -> CREATE | BA14: =IFERROR(VLOOKUP(C14,'1__mapping'!$A:$B,2,0),"") | BB14: =INDEX('2__mapping'!B2:'2__mapping'!B1,MATCH(BA14&D14, INDEX('2__mapping'!C1:C2&'2__mapping'!A1:A2,),0)) -> 0 | BC14: =IFERROR(VLOOKUP(E14,'3__mapping'!$A:$B,2,0),"") | BD14: =IFERROR(VLOOKUP(G14,'4__mapping'!$A:$B,2,0),"") | BE14: =IFERROR(VLOOKUP(J14,'5__mapping'!$A:$B,2,0),"") | BF14: =IFERROR(VLOOKUP(K14,'6__mapping'!$A:$B,2,0),"") | BG14: =IFERROR(VLOOKUP(N14,'7__mapping'!$A:$B,2,0),"") | BH14: =IFERROR(VLOOKUP(AA14,'8__mapping'!$A:$B,2,0),"") | BI14: =IFERROR(VLOOKUP(AC14,'9__mapping'!$A:$B,2,0),"") | BJ14: =IFERROR(VLOOKUP(AF14,'10__mapping'!$A:$B,2,0),"") | BK14: =IFERROR(VLOOKUP(AK14,'11__mapping'!$A:$B,2,0),"") | BL14: =IFERROR(VLOOKUP(AQ14,'12__mapping'!$A:$B,2,0),"") | BM14: =IFERROR(VLOOKUP(AT14,'13__mapping'!$A:$B,2,0),"") | BN14: =IFERROR(VLOOKUP(AU14,'14__mapping'!$A:$B,2,0),"") | BO14: =IFERROR(VLOOKUP(AV14,'15__mapping'!$A:$B,2,0),"") | BP14: =IFERROR(VLOOKUP(AW14,'16__mapping'!$A:$B,2,0),"") | BQ14: =IFERROR(VLOOKUP(AX14,'17__mapping'!$A:$B,2,0),"")
A15: Create | AZ15: =IFERROR(VLOOKUP(A15,'0__mapping'!$A:$B,2,0),"") -> CREATE | BA15: =IFERROR(VLOOKUP(C15,'1__mapping'!$A:$B,2,0),"") | BB15: =INDEX('2__mapping'!B2:'2__mapping'!B1,MATCH(BA15&D15, INDEX('2__mapping'!C1:C2&'2__mapping'!A1:A2,),0)) -> 0 | BC15: =IFERROR(VLOOKUP(E15,'3__mapping'!$A:$B,2,0),"") | BD15: =IFERROR(VLOOKUP(G15,'4__mapping'!$A:$B,2,0),"") | BE15: =IFERROR(VLOOKUP(J15,'5__mapping'!$A:$B,2,0),"") | BF15: =IFERROR(VLOOKUP(K15,'6__mapping'!$A:$B,2,0),"") | BG15: =IFERROR(VLOOKUP(N15,'7__mapping'!$A:$B,2,0),"") | BH15: =IFERROR(VLOOKUP(AA15,'8__mapping'!$A:$B,2,0),"") | BI15: =IFERROR(VLOOKUP(AC15,'9__mapping'!$A:$B,2,0),"") | BJ15: =IFERROR(VLOOKUP(AF15,'10__mapping'!$A:$B,2,0),"") | BK15: =IFERROR(VLOOKUP(AK15,'11__mapping'!$A:$B,2,0),"") | BL15: =IFERROR(VLOOKUP(AQ15,'12__mapping'!$A:$B,2,0),"") | BM15: =IFERROR(VLOOKUP(AT15,'13__mapping'!$A:$B,2,0),"") | BN15: =IFERROR(VLOOKUP(AU15,'14__mapping'!$A:$B,2,0),"") | BO15: =IFERROR(VLOOKUP(AV15,'15__mapping'!$A:$B,2,0),"") | BP15: =IFERROR(VLOOKUP(AW15,'16__mapping'!$A:$B,2,0),"") | BQ15: =IFERROR(VLOOKUP(AX15,'17__mapping'!$A:$B,2,0),"")
A16: Create | AZ16: =IFERROR(VLOOKUP(A16,'0__mapping'!$A:$B,2,0),"") -> CREATE | BA16: =IFERROR(VLOOKUP(C16,'1__mapping'!$A:$B,2,0),"") | BB16: =INDEX('2__mapping'!B2:'2__mapping'!B1,MATCH(BA16&D16, INDEX('2__mapping'!C1:C2&'2__mapping'!A1:A2,),0)) -> 0 | BC16: =IFERROR(VLOOKUP(E16,'3__mapping'!$A:$B,2,0),"") | BD16: =IFERROR(VLOOKUP(G16,'4__mapping'!$A:$B,2,0),"") | BE16: =IFERROR(VLOOKUP(J16,'5__mapping'!$A:$B,2,0),"") | BF16: =IFERROR(VLOOKUP(K16,'6__mapping'!$A:$B,2,0),"") | BG16: =IFERROR(VLOOKUP(N16,'7__mapping'!$A:$B,2,0),"") | BH16: =IFERROR(VLOOKUP(AA16,'8__mapping'!$A:$B,2,0),"") | BI16: =IFERROR(VLOOKUP(AC16,'9__mapping'!$A:$B,2,0),"") | BJ16: =IFERROR(VLOOKUP(AF16,'10__mapping'!$A:$B,2,0),"") | BK16: =IFERROR(VLOOKUP(AK16,'11__mapping'!$A:$B,2,0),"") | BL16: =IFERROR(VLOOKUP(AQ16,'12__mapping'!$A:$B,2,0),"") | BM16: =IFERROR(VLOOKUP(AT16,'13__mapping'!$A:$B,2,0),"") | BN16: =IFERROR(VLOOKUP(AU16,'14__mapping'!$A:$B,2,0),"") | BO16: =IFERROR(VLOOKUP(AV16,'15__mapping'!$A:$B,2,0),"") | BP16: =IFERROR(VLOOKUP(AW16,'16__mapping'!$A:$B,2,0),"") | BQ16: =IFERROR(VLOOKUP(AX16,'17__mapping'!$A:$B,2,0),"")
A17: Create | AZ17: =IFERROR(VLOOKUP(A17,'0__mapping'!$A:$B,2,0),"") -> CREATE | BA17: =IFERROR(VLOOKUP(C17,'1__mapping'!$A:$B,2,0),"") | BB17: =INDEX('2__mapping'!B2:'2__mapping'!B1,MATCH(BA17&D17, INDEX('2__mapping'!C1:C2&'2__mapping'!A1:A2,),0)) -> 0 | BC17: =IFERROR(VLOOKUP(E17,'3__mapping'!$A:$B,2,0),"") | BD17: =IFERROR(VLOOKUP(G17,'4__mapping'!$A:$B,2,0),"") | BE17: =IFERROR(VLOOKUP(J17,'5__mapping'!$A:$B,2,0),"") | BF17: =IFERROR(VLOOKUP(K17,'6__mapping'!$A:$B,2,0),"") | BG17: =IFERROR(VLOOKUP(N17,'7__mapping'!$A:$B,2,0),"") | BH17: =IFERROR(VLOOKUP(AA17,'8__mapping'!$A:$B,2,0),"") | BI17: =IFERROR(VLOOKUP(AC17,'9__mapping'!$A:$B,2,0),"") | BJ17: =IFERROR(VLOOKUP(AF17,'10__mapping'!$A:$B,2,0),"") | BK17: =IFERROR(VLOOKUP(AK17,'11__mapping'!$A:$B,2,0),"") | BL17: =IFERROR(VLOOKUP(AQ17,'12__mapping'!$A:$B,2,0),"") | BM17: =IFERROR(VLOOKUP(AT17,'13__mapping'!$A:$B,2,0),"") | BN17: =IFERROR(VLOOKUP(AU17,'14__mapping'!$A:$B,2,0),"") | BO17: =IFERROR(VLOOKUP(AV17,'15__mapping'!$A:$B,2,0),"") | BP17: =IFERROR(VLOOKUP(AW17,'16__mapping'!$A:$B,2,0),"") | BQ17: =IFERROR(VLOOKUP(AX17,'17__mapping'!$A:$B,2,0),"")
A18: Create | AZ18: =IFERROR(VLOOKUP(A18,'0__mapping'!$A:$B,2,0),"") -> CREATE | BA18: =IFERROR(VLOOKUP(C18,'1__mapping'!$A:$B,2,0),"") | BB18: =INDEX('2__mapping'!B2:'2__mapping'!B1,MATCH(BA18&D18, INDEX('2__mapping'!C1:C2&'2__mapping'!A1:A2,),0)) -> 0 | BC18: =IFERROR(VLOOKUP(E18,'3__mapping'!$A:$B,2,0),"") | BD18: =IFERROR(VLOOKUP(G18,'4__mapping'!$A:$B,2,0),"") | BE18: =IFERROR(VLOOKUP(J18,'5__mapping'!$A:$B,2,0),"") | BF18: =IFERROR(VLOOKUP(K18,'6__mapping'!$A:$B,2,0),"") | BG18: =IFERROR(VLOOKUP(N18,'7__mapping'!$A:$B,2,0),"") | BH18: =IFERROR(VLOOKUP(AA18,'8__mapping'!$A:$B,2,0),"") | BI18: =IFERROR(VLOOKUP(AC18,'9__mapping'!$A:$B,2,0),"") | BJ18: =IFERROR(VLOOKUP(AF18,'10__mapping'!$A:$B,2,0),"") | BK18: =IFERROR(VLOOKUP(AK18,'11__mapping'!$A:$B,2,0),"") | BL18: =IFERROR(VLOOKUP(AQ18,'12__mapping'!$A:$B,2,0),"") | BM18: =IFERROR(VLOOKUP(AT18,'13__mapping'!$A:$B,2,0),"") | BN18: =IFERROR(VLOOKUP(AU18,'14__mapping'!$A:$B,2,0),"") | BO18: =IFERROR(VLOOKUP(AV18,'15__mapping'!$A:$B,2,0),"") | BP18: =IFERROR(VLOOKUP(AW18,'16__mapping'!$A:$B,2,0),"") | BQ18: =IFERROR(VLOOKUP(AX18,'17__mapping'!$A:$B,2,0),"")
A19: Create | AZ19: =IFERROR(VLOOKUP(A19,'0__mapping'!$A:$B,2,0),"") -> CREATE | BA19: =IFERROR(VLOOKUP(C19,'1__mapping'!$A:$B,2,0),"") | BB19: =INDEX('2__mapping'!B2:'2__mapping'!B1,MATCH(BA19&D19, INDEX('2__mapping'!C1:C2&'2__mapping'!A1:A2,),0)) -> 0 | BC19: =IFERROR(VLOOKUP(E19,'3__mapping'!$A:$B,2,0),"") | BD19: =IFERROR(VLOOKUP(G19,'4__mapping'!$A:$B,2,0),"") | BE19: =IFERROR(VLOOKUP(J19,'5__mapping'!$A:$B,2,0),"") | BF19: =IFERROR(VLOOKUP(K19,'6__mapping'!$A:$B,2,0),"") | BG19: =IFERROR(VLOOKUP(N19,'7__mapping'!$A:$B,2,0),"") | BH19: =IFERROR(VLOOKUP(AA19,'8__mapping'!$A:$B,2,0),"") | BI19: =IFERROR(VLOOKUP(AC19,'9__mapping'!$A:$B,2,0),"") | BJ19: =IFERROR(VLOOKUP(AF19,'10__mapping'!$A:$B,2,0),"") | BK19: =IFERROR(VLOOKUP(AK19,'11__mapping'!$A:$B,2,0),"") | BL19: =IFERROR(VLOOKUP(AQ19,'12__mapping'!$A:$B,2,0),"") | BM19: =IFERROR(VLOOKUP(AT19,'13__mapping'!$A:$B,2,0),"") | BN19: =IFERROR(VLOOKUP(AU19,'14__mapping'!$A:$B,2,0),"") | BO19: =IFERROR(VLOOKUP(AV19,'15__mapping'!$A:$B,2,0),"") | BP19: =IFERROR(VLOOKUP(AW19,'16__mapping'!$A:$B,2,0),"") | BQ19: =IFERROR(VLOOKUP(AX19,'17__mapping'!$A:$B,2,0),"")
A20: Create | AZ20: =IFERROR(VLOOKUP(A20,'0__mapping'!$A:$B,2,0),"") -> CREATE | BA20: =IFERROR(VLOOKUP(C20,'1__mapping'!$A:$B,2,0),"") | BB20: =INDEX('2__mapping'!B2:'2__mapping'!B1,MATCH(BA20&D20, INDEX('2__mapping'!C1:C2&'2__mapping'!A1:A2,),0)) -> 0 | BC20: =IFERROR(VLOOKUP(E20,'3__mapping'!$A:$B,2,0),"") | BD20: =IFERROR(VLOOKUP(G20,'4__mapping'!$A:$B,2,0),"") | BE20: =IFERROR(VLOOKUP(J20,'5__mapping'!$A:$B,2,0),"") | BF20: =IFERROR(VLOOKUP(K20,'6__mapping'!$A:$B,2,0),"") | BG20: =IFERROR(VLOOKUP(N20,'7__mapping'!$A:$B,2,0),"") | BH20: =IFERROR(VLOOKUP(AA20,'8__mapping'!$A:$B,2,0),"") | BI20: =IFERROR(VLOOKUP(AC20,'9__mapping'!$A:$B,2,0),"") | BJ20: =IFERROR(VLOOKUP(AF20,'10__mapping'!$A:$B,2,0),"") | BK20: =IFERROR(VLOOKUP(AK20,'11__mapping'!$A:$B,2,0),"") | BL20: =IFERROR(VLOOKUP(AQ20,'12__mapping'!$A:$B,2,0),"") | BM20: =IFERROR(VLOOKUP(AT20,'13__mapping'!$A:$B,2,0),"") | BN20: =IFERROR(VLOOKUP(AU20,'14__mapping'!$A:$B,2,0),"") | BO20: =IFERROR(VLOOKUP(AV20,'15__mapping'!$A:$B,2,0),"") | BP20: =IFERROR(VLOOKUP(AW20,'16__mapping'!$A:$B,2,0),"") | BQ20: =IFERROR(VLOOKUP(AX20,'17__mapping'!$A:$B,2,0),"")
A21: Create | AZ21: =IFERROR(VLOOKUP(A21,'0__mapping'!$A:$B,2,0),"") -> CREATE | BA21: =IFERROR(VLOOKUP(C21,'1__mapping'!$A:$B,2,0),"") | BB21: =INDEX('2__mapping'!B2:'2__mapping'!B1,MATCH(BA21&D21, INDEX('2__mapping'!C1:C2&'2__mapping'!A1:A2,),0)) -> 0 | BC21: =IFERROR(VLOOKUP(E21,'3__mapping'!$A:$B,2,0),"") | BD21: =IFERROR(VLOOKUP(G21,'4__mapping'!$A:$B,2,0),"") | BE21: =IFERROR(VLOOKUP(J21,'5__mapping'!$A:$B,2,0),"") | BF21: =IFERROR(VLOOKUP(K21,'6__mapping'!$A:$B,2,0),"") | BG21: =IFERROR(VLOOKUP(N21,'7__mapping'!$A:$B,2,0),"") | BH21: =IFERROR(VLOOKUP(AA21,'8__mapping'!$A:$B,2,0),"") | BI21: =IFERROR(VLOOKUP(AC21,'9__mapping'!$A:$B,2,0),"") | BJ21: =IFERROR(VLOOKUP(AF21,'10__mapping'!$A:$B,2,0),"") | BK21: =IFERROR(VLOOKUP(AK21,'11__mapping'!$A:$B,2,0),"") | BL21: =IFERROR(VLOOKUP(AQ21,'12__mapping'!$A:$B,2,0),"") | BM21: =IFERROR(VLOOKUP(AT21,'13__mapping'!$A:$B,2,0),"") | BN21: =IFERROR(VLOOKUP(AU21,'14__mapping'!$A:$B,2,0),"") | BO21: =IFERROR(VLOOKUP(AV21,'15__mapping'!$A:$B,2,0),"") | BP21: =IFERROR(VLOOKUP(AW21,'16__mapping'!$A:$B,2,0),"") | BQ21: =IFERROR(VLOOKUP(AX21,'17__mapping'!$A:$B,2,0),"")
A22: Create | AZ22: =IFERROR(VLOOKUP(A22,'0__mapping'!$A:$B,2,0),"") -> CREATE | BA22: =IFERROR(VLOOKUP(C22,'1__mapping'!$A:$B,2,0),"") | BB22: =INDEX('2__mapping'!B2:'2__mapping'!B1,MATCH(BA22&D22, INDEX('2__mapping'!C1:C2&'2__mapping'!A1:A2,),0)) -> 0 | BC22: =IFERROR(VLOOKUP(E22,'3__mapping'!$A:$B,2,0),"") | BD22: =IFERROR(VLOOKUP(G22,'4__mapping'!$A:$B,2,0),"") | BE22: =IFERROR(VLOOKUP(J22,'5__mapping'!$A:$B,2,0),"") | BF22: =IFERROR(VLOOKUP(K22,'6__mapping'!$A:$B,2,0),"") | BG22: =IFERROR(VLOOKUP(N22,'7__mapping'!$A:$B,2,0),"") | BH22: =IFERROR(VLOOKUP(AA22,'8__mapping'!$A:$B,2,0),"") | BI22: =IFERROR(VLOOKUP(AC22,'9__mapping'!$A:$B,2,0),"") | BJ22: =IFERROR(VLOOKUP(AF22,'10__mapping'!$A:$B,2,0),"") | BK22: =IFERROR(VLOOKUP(AK22,'11__mapping'!$A:$B,2,0),"") | BL22: =IFERROR(VLOOKUP(AQ22,'12__mapping'!$A:$B,2,0),"") | BM22: =IFERROR(VLOOKUP(AT22,'13__mapping'!$A:$B,2,0),"") | BN22: =IFERROR(VLOOKUP(AU22,'14__mapping'!$A:$B,2,0),"") | BO22: =IFERROR(VLOOKUP(AV22,'15__mapping'!$A:$B,2,0),"") | BP22: =IFERROR(VLOOKUP(AW22,'16__mapping'!$A:$B,2,0),"") | BQ22: =IFERROR(VLOOKUP(AX22,'17__mapping'!$A:$B,2,0),"")
A23: Create | AZ23: =IFERROR(VLOOKUP(A23,'0__mapping'!$A:$B,2,0),"") -> CREATE | BA23: =IFERROR(VLOOKUP(C23,'1__mapping'!$A:$B,2,0),"") | BB23: =INDEX('2__mapping'!B2:'2__mapping'!B1,MATCH(BA23&D23, INDEX('2__mapping'!C1:C2&'2__mapping'!A1:A2,),0)) -> 0 | BC23: =IFERROR(VLOOKUP(E23,'3__mapping'!$A:$B,2,0),"") | BD23: =IFERROR(VLOOKUP(G23,'4__mapping'!$A:$B,2,0),"") | BE23: =IFERROR(VLOOKUP(J23,'5__mapping'!$A:$B,2,0),"") | BF23: =IFERROR(VLOOKUP(K23,'6__mapping'!$A:$B,2,0),"") | BG23: =IFERROR(VLOOKUP(N23,'7__mapping'!$A:$B,2,0),"") | BH23: =IFERROR(VLOOKUP(AA23,'8__mapping'!$A:$B,2,0),"") | BI23: =IFERROR(VLOOKUP(AC23,'9__mapping'!$A:$B,2,0),"") | BJ23: =IFERROR(VLOOKUP(AF23,'10__mapping'!$A:$B,2,0),"") | BK23: =IFERROR(VLOOKUP(AK23,'11__mapping'!$A:$B,2,0),"") | BL23: =IFERROR(VLOOKUP(AQ23,'12__mapping'!$A:$B,2,0),"") | BM23: =IFERROR(VLOOKUP(AT23,'13__mapping'!$A:$B,2,0),"") | BN23: =IFERROR(VLOOKUP(AU23,'14__mapping'!$A:$B,2,0),"") | BO23: =IFERROR(VLOOKUP(AV23,'15__mapping'!$A:$B,2,0),"") | BP23: =IFERROR(VLOOKUP(AW23,'16__mapping'!$A:$B,2,0),"") | BQ23: =IFERROR(VLOOKUP(AX23,'17__mapping'!$A:$B,2,0),"")
A24: Create | AZ24: =IFERROR(VLOOKUP(A24,'0__mapping'!$A:$B,2,0),"") -> CREATE | BA24: =IFERROR(VLOOKUP(C24,'1__mapping'!$A:$B,2,0),"") | BB24: =INDEX('2__mapping'!B2:'2__mapping'!B1,MATCH(BA24&D24, INDEX('2__mapping'!C1:C2&'2__mapping'!A1:A2,),0)) -> 0 | BC24: =IFERROR(VLOOKUP(E24,'3__mapping'!$A:$B,2,0),"") | BD24: =IFERROR(VLOOKUP(G24,'4__mapping'!$A:$B,2,0),"") | BE24: =IFERROR(VLOOKUP(J24,'5__mapping'!$A:$B,2,0),"") | BF24: =IFERROR(VLOOKUP(K24,'6__mapping'!$A:$B,2,0),"") | BG24: =IFERROR(VLOOKUP(N24,'7__mapping'!$A:$B,2,0),"") | BH24: =IFERROR(VLOOKUP(AA24,'8__mapping'!$A:$B,2,0),"") | BI24: =IFERROR(VLOOKUP(AC24,'9__mapping'!$A:$B,2,0),"") | BJ24: =IFERROR(VLOOKUP(AF24,'10__mapping'!$A:$B,2,0),"") | BK24: =IFERROR(VLOOKUP(AK24,'11__mapping'!$A:$B,2,0),"") | BL24: =IFERROR(VLOOKUP(AQ24,'12__mapping'!$A:$B,2,0),"") | BM24: =IFERROR(VLOOKUP(AT24,'13__mapping'!$A:$B,2,0),"") | BN24: =IFERROR(VLOOKUP(AU24,'14__mapping'!$A:$B,2,0),"") | BO24: =IFERROR(VLOOKUP(AV24,'15__mapping'!$A:$B,2,0),"") | BP24: =IFERROR(VLOOKUP(AW24,'16__mapping'!$A:$B,2,0),"") | BQ24: =IFERROR(VLOOKUP(AX24,'17__mapping'!$A:$B,2,0),"")
A25: Create | AZ25: =IFERROR(VLOOKUP(A25,'0__mapping'!$A:$B,2,0),"") -> CREATE | BA25: =IFERROR(VLOOKUP(C25,'1__mapping'!$A:$B,2,0),"") | BB25: =INDEX('2__mapping'!B2:'2__mapping'!B1,MATCH(BA25&D25, INDEX('2__mapping'!C1:C2&'2__mapping'!A1:A2,),0)) -> 0 | BC25: =IFERROR(VLOOKUP(E25,'3__mapping'!$A:$B,2,0),"") | BD25: =IFERROR(VLOOKUP(G25,'4__mapping'!$A:$B,2,0),"") | BE25: =IFERROR(VLOOKUP(J25,'5__mapping'!$A:$B,2,0),"") | BF25: =IFERROR(VLOOKUP(K25,'6__mapping'!$A:$B,2,0),"") | BG25: =IFERROR(VLOOKUP(N25,'7__mapping'!$A:$B,2,0),"") | BH25: =IFERROR(VLOOKUP(AA25,'8__mapping'!$A:$B,2,0),"") | BI25: =IFERROR(VLOOKUP(AC25,'9__mapping'!$A:$B,2,0),"") | BJ25: =IFERROR(VLOOKUP(AF25,'10__mapping'!$A:$B,2,0),"") | BK25: =IFERROR(VLOOKUP(AK25,'11__mapping'!$A:$B,2,0),"") | BL25: =IFERROR(VLOOKUP(AQ25,'12__mapping'!$A:$B,2,0),"") | BM25: =IFERROR(VLOOKUP(AT25,'13__mapping'!$A:$B,2,0),"") | BN25: =IFERROR(VLOOKUP(AU25,'14__mapping'!$A:$B,2,0),"") | BO25: =IFERROR(VLOOKUP(AV25,'15__mapping'!$A:$B,2,0),"") | BP25: =IFERROR(VLOOKUP(AW25,'16__mapping'!$A:$B,2,0),"") | BQ25: =IFERROR(VLOOKUP(AX25,'17__mapping'!$A:$B,2,0),"")
A26: Create | AZ26: =IFERROR(VLOOKUP(A26,'0__mapping'!$A:$B,2,0),"") -> CREATE | BA26: =IFERROR(VLOOKUP(C26,'1__mapping'!$A:$B,2,0),"") | BB26: =INDEX('2__mapping'!B2:'2__mapping'!B1,MATCH(BA26&D26, INDEX('2__mapping'!C1:C2&'2__mapping'!A1:A2,),0)) -> 0 | BC26: =IFERROR(VLOOKUP(E26,'3__mapping'!$A:$B,2,0),"") | BD26: =IFERROR(VLOOKUP(G26,'4__mapping'!$A:$B,2,0),"") | BE26: =IFERROR(VLOOKUP(J26,'5__mapping'!$A:$B,2,0),"") | BF26: =IFERROR(VLOOKUP(K26,'6__mapping'!$A:$B,2,0),"") | BG26: =IFERROR(VLOOKUP(N26,'7__mapping'!$A:$B,2,0),"") | BH26: =IFERROR(VLOOKUP(AA26,'8__mapping'!$A:$B,2,0),"") | BI26: =IFERROR(VLOOKUP(AC26,'9__mapping'!$A:$B,2,0),"") | BJ26: =IFERROR(VLOOKUP(AF26,'10__mapping'!$A:$B,2,0),"") | BK26: =IFERROR(VLOOKUP(AK26,'11__mapping'!$A:$B,2,0),"") | BL26: =IFERROR(VLOOKUP(AQ26,'12__mapping'!$A:$B,2,0),"") | BM26: =IFERROR(VLOOKUP(AT26,'13__mapping'!$A:$B,2,0),"") | BN26: =IFERROR(VLOOKUP(AU26,'14__mapping'!$A:$B,2,0),"") | BO26: =IFERROR(VLOOKUP(AV26,'15__mapping'!$A:$B,2,0),"") | BP26: =IFERROR(VLOOKUP(AW26,'16__mapping'!$A:$B,2,0),"") | BQ26: =IFERROR(VLOOKUP(AX26,'17__mapping'!$A:$B,2,0),"")
A27: Create | AZ27: =IFERROR(VLOOKUP(A27,'0__mapping'!$A:$B,2,0),"") -> CREATE | BA27: =IFERROR(VLOOKUP(C27,'1__mapping'!$A:$B,2,0),"") | BB27: =INDEX('2__mapping'!B2:'2__mapping'!B1,MATCH(BA27&D27, INDEX('2__mapping'!C1:C2&'2__mapping'!A1:A2,),0)) -> 0 | BC27: =IFERROR(VLOOKUP(E27,'3__mapping'!$A:$B,2,0),"") | BD27: =IFERROR(VLOOKUP(G27,'4__mapping'!$A:$B,2,0),"") | BE27: =IFERROR(VLOOKUP(J27,'5__mapping'!$A:$B,2,0),"") | BF27: =IFERROR(VLOOKUP(K27,'6__mapping'!$A:$B,2,0),"") | BG27: =IFERROR(VLOOKUP(N27,'7__mapping'!$A:$B,2,0),"") | BH27: =IFERROR(VLOOKUP(AA27,'8__mapping'!$A:$B,2,0),"") | BI27: =IFERROR(VLOOKUP(AC27,'9__mapping'!$A:$B,2,0),"") | BJ27: =IFERROR(VLOOKUP(AF27,'10__mapping'!$A:$B,2,0),"") | BK27: =IFERROR(VLOOKUP(AK27,'11__mapping'!$A:$B,2,0),"") | BL27: =IFERROR(VLOOKUP(AQ27,'12__mapping'!$A:$B,2,0),"") | BM27: =IFERROR(VLOOKUP(AT27,'13__mapping'!$A:$B,2,0),"") | BN27: =IFERROR(VLOOKUP(AU27,'14__mapping'!$A:$B,2,0),"") | BO27: =IFERROR(VLOOKUP(AV27,'15__mapping'!$A:$B,2,0),"") | BP27: =IFERROR(VLOOKUP(AW27,'16__mapping'!$A:$B,2,0),"") | BQ27: =IFERROR(VLOOKUP(AX27,'17__mapping'!$A:$B,2,0),"")
A28: Create | AZ28: =IFERROR(VLOOKUP(A28,'0__mapping'!$A:$B,2,0),"") -> CREATE | BA28: =IFERROR(VLOOKUP(C28,'1__mapping'!$A:$B,2,0),"") | BB28: =INDEX('2__mapping'!B2:'2__mapping'!B1,MATCH(BA28&D28, INDEX('2__mapping'!C1:C2&'2__mapping'!A1:A2,),0)) -> 0 | BC28: =IFERROR(VLOOKUP(E28,'3__mapping'!$A:$B,2,0),"") | BD28: =IFERROR(VLOOKUP(G28,'4__mapping'!$A:$B,2,0),"") | BE28: =IFERROR(VLOOKUP(J28,'5__mapping'!$A:$B,2,0),"") | BF28: =IFERROR(VLOOKUP(K28,'6__mapping'!$A:$B,2,0),"") | BG28: =IFERROR(VLOOKUP(N28,'7__mapping'!$A:$B,2,0),"") | BH28: =IFERROR(VLOOKUP(AA28,'8__mapping'!$A:$B,2,0),"") | BI28: =IFERROR(VLOOKUP(AC28,'9__mapping'!$A:$B,2,0),"") | BJ28: =IFERROR(VLOOKUP(AF28,'10__mapping'!$A:$B,2,0),"") | BK28: =IFERROR(VLOOKUP(AK28,'11__mapping'!$A:$B,2,0),"") | BL28: =IFERROR(VLOOKUP(AQ28,'12__mapping'!$A:$B,2,0),"") | BM28: =IFERROR(VLOOKUP(AT28,'13__mapping'!$A:$B,2,0),"") | BN28: =IFERROR(VLOOKUP(AU28,'14__mapping'!$A:$B,2,0),"") | BO28: =IFERROR(VLOOKUP(AV28,'15__mapping'!$A:$B,2,0),"") | BP28: =IFERROR(VLOOKUP(AW28,'16__mapping'!$A:$B,2,0),"") | BQ28: =IFERROR(VLOOKUP(AX28,'17__mapping'!$A:$B,2,0),"")
A29: Create | AZ29: =IFERROR(VLOOKUP(A29,'0__mapping'!$A:$B,2,0),"") -> CREATE | BA29: =IFERROR(VLOOKUP(C29,'1__mapping'!$A:$B,2,0),"") | BB29: =INDEX('2__mapping'!B2:'2__mapping'!B1,MATCH(BA29&D29, INDEX('2__mapping'!C1:C2&'2__mapping'!A1:A2,),0)) -> 0 | BC29: =IFERROR(VLOOKUP(E29,'3__mapping'!$A:$B,2,0),"") | BD29: =IFERROR(VLOOKUP(G29,'4__mapping'!$A:$B,2,0),"") | BE29: =IFERROR(VLOOKUP(J29,'5__mapping'!$A:$B,2,0),"") | BF29: =IFERROR(VLOOKUP(K29,'6__mapping'!$A:$B,2,0),"") | BG29: =IFERROR(VLOOKUP(N29,'7__mapping'!$A:$B,2,0),"") | BH29: =IFERROR(VLOOKUP(AA29,'8__mapping'!$A:$B,2,0),"") | BI29: =IFERROR(VLOOKUP(AC29,'9__mapping'!$A:$B,2,0),"") | BJ29: =IFERROR(VLOOKUP(AF29,'10__mapping'!$A:$B,2,0),"") | BK29: =IFERROR(VLOOKUP(AK29,'11__mapping'!$A:$B,2,0),"") | BL29: =IFERROR(VLOOKUP(AQ29,'12__mapping'!$A:$B,2,0),"") | BM29: =IFERROR(VLOOKUP(AT29,'13__mapping'!$A:$B,2,0),"") | BN29: =IFERROR(VLOOKUP(AU29,'14__mapping'!$A:$B,2,0),"") | BO29: =IFERROR(VLOOKUP(AV29,'15__mapping'!$A:$B,2,0),"") | BP29: =IFERROR(VLOOKUP(AW29,'16__mapping'!$A:$B,2,0),"") | BQ29: =IFERROR(VLOOKUP(AX29,'17__mapping'!$A:$B,2,0),"")
A30: Create | AZ30: =IFERROR(VLOOKUP(A30,'0__mapping'!$A:$B,2,0),"") -> CREATE | BA30: =IFERROR(VLOOKUP(C30,'1__mapping'!$A:$B,2,0),"") | BB30: =INDEX('2__mapping'!B2:'2__mapping'!B1,MATCH(BA30&D30, INDEX('2__mapping'!C1:C2&'2__mapping'!A1:A2,),0)) -> 0 | BC30: =IFERROR(VLOOKUP(E30,'3__mapping'!$A:$B,2,0),"") | BD30: =IFERROR(VLOOKUP(G30,'4__mapping'!$A:$B,2,0),"") | BE30: =IFERROR(VLOOKUP(J30,'5__mapping'!$A:$B,2,0),"") | BF30: =IFERROR(VLOOKUP(K30,'6__mapping'!$A:$B,2,0),"") | BG30: =IFERROR(VLOOKUP(N30,'7__mapping'!$A:$B,2,0),"") | BH30: =IFERROR(VLOOKUP(AA30,'8__mapping'!$A:$B,2,0),"") | BI30: =IFERROR(VLOOKUP(AC30,'9__mapping'!$A:$B,2,0),"") | BJ30: =IFERROR(VLOOKUP(AF30,'10__mapping'!$A:$B,2,0),"") | BK30: =IFERROR(VLOOKUP(AK30,'11__mapping'!$A:$B,2,0),"") | BL30: =IFERROR(VLOOKUP(AQ30,'12__mapping'!$A:$B,2,0),"") | BM30: =IFERROR(VLOOKUP(AT30,'13__mapping'!$A:$B,2,0),"") | BN30: =IFERROR(VLOOKUP(AU30,'14__mapping'!$A:$B,2,0),"") | BO30: =IFERROR(VLOOKUP(AV30,'15__mapping'!$A:$B,2,0),"") | BP30: =IFERROR(VLOOKUP(AW30,'16__mapping'!$A:$B,2,0),"") | BQ30: =IFERROR(VLOOKUP(AX30,'17__mapping'!$A:$B,2,0),"")
A31: Create | AZ31: =IFERROR(VLOOKUP(A31,'0__mapping'!$A:$B,2,0),"") -> CREATE | BA31: =IFERROR(VLOOKUP(C31,'1__mapping'!$A:$B,2,0),"") | BB31: =INDEX('2__mapping'!B2:'2__mapping'!B1,MATCH(BA31&D31, INDEX('2__mapping'!C1:C2&'2__mapping'!A1:A2,),0)) -> 0 | BC31: =IFERROR(VLOOKUP(E31,'3__mapping'!$A:$B,2,0),"") | BD31: =IFERROR(VLOOKUP(G31,'4__mapping'!$A:$B,2,0),"") | BE31: =IFERROR(VLOOKUP(J31,'5__mapping'!$A:$B,2,0),"") | BF31: =IFERROR(VLOOKUP(K31,'6__mapping'!$A:$B,2,0),"") | BG31: =IFERROR(VLOOKUP(N31,'7__mapping'!$A:$B,2,0),"") | BH31: =IFERROR(VLOOKUP(AA31,'8__mapping'!$A:$B,2,0),"") | BI31: =IFERROR(VLOOKUP(AC31,'9__mapping'!$A:$B,2,0),"") | BJ31: =IFERROR(VLOOKUP(AF31,'10__mapping'!$A:$B,2,0),"") | BK31: =IFERROR(VLOOKUP(AK31,'11__mapping'!$A:$B,2,0),"") | BL31: =IFERROR(VLOOKUP(AQ31,'12__mapping'!$A:$B,2,0),"") | BM31: =IFERROR(VLOOKUP(AT31,'13__mapping'!$A:$B,2,0),"") | BN31: =IFERROR(VLOOKUP(AU31,'14__mapping'!$A:$B,2,0),"") | BO31: =IFERROR(VLOOKUP(AV31,'15__mapping'!$A:$B,2,0),"") | BP31: =IFERROR(VLOOKUP(AW31,'16__mapping'!$A:$B,2,0),"") | BQ31: =IFERROR(VLOOKUP(AX31,'17__mapping'!$A:$B,2,0),"")
A32: Create | AZ32: =IFERROR(VLOOKUP(A32,'0__mapping'!$A:$B,2,0),"") -> CREATE | BA32: =IFERROR(VLOOKUP(C32,'1__mapping'!$A:$B,2,0),"") | BB32: =INDEX('2__mapping'!B2:'2__mapping'!B1,MATCH(BA32&D32, INDEX('2__mapping'!C1:C2&'2__mapping'!A1:A2,),0)) -> 0 | BC32: =IFERROR(VLOOKUP(E32,'3__mapping'!$A:$B,2,0),"") | BD32: =IFERROR(VLOOKUP(G32,'4__mapping'!$A:$B,2,0),"") | BE32: =IFERROR(VLOOKUP(J32,'5__mapping'!$A:$B,2,0),"") | BF32: =IFERROR(VLOOKUP(K32,'6__mapping'!$A:$B,2,0),"") | BG32: =IFERROR(VLOOKUP(N32,'7__mapping'!$A:$B,2,0),"") | BH32: =IFERROR(VLOOKUP(AA32,'8__mapping'!$A:$B,2,0),"") | BI32: =IFERROR(VLOOKUP(AC32,'9__mapping'!$A:$B,2,0),"") | BJ32: =IFERROR(VLOOKUP(AF32,'10__mapping'!$A:$B,2,0),"") | BK32: =IFERROR(VLOOKUP(AK32,'11__mapping'!$A:$B,2,0),"") | BL32: =IFERROR(VLOOKUP(AQ32,'12__mapping'!$A:$B,2,0),"") | BM32: =IFERROR(VLOOKUP(AT32,'13__mapping'!$A:$B,2,0),"") | BN32: =IFERROR(VLOOKUP(AU32,'14__mapping'!$A:$B,2,0),"") | BO32: =IFERROR(VLOOKUP(AV32,'15__mapping'!$A:$B,2,0),"") | BP32: =IFERROR(VLOOKUP(AW32,'16__mapping'!$A:$B,2,0),"") | BQ32: =IFERROR(VLOOKUP(AX32,'17__mapping'!$A:$B,2,0),"")
A33: Create | AZ33: =IFERROR(VLOOKUP(A33,'0__mapping'!$A:$B,2,0),"") -> CREATE | BA33: =IFERROR(VLOOKUP(C33,'1__mapping'!$A:$B,2,0),"") | BB33: =INDEX('2__mapping'!B2:'2__mapping'!B1,MATCH(BA33&D33, INDEX('2__mapping'!C1:C2&'2__mapping'!A1:A2,),0)) -> 0 | BC33: =IFERROR(VLOOKUP(E33,'3__mapping'!$A:$B,2,0),"") | BD33: =IFERROR(VLOOKUP(G33,'4__mapping'!$A:$B,2,0),"") | BE33: =IFERROR(VLOOKUP(J33,'5__mapping'!$A:$B,2,0),"") | BF33: =IFERROR(VLOOKUP(K33,'6__mapping'!$A:$B,2,0),"") | BG33: =IFERROR(VLOOKUP(N33,'7__mapping'!$A:$B,2,0),"") | BH33: =IFERROR(VLOOKUP(AA33,'8__mapping'!$A:$B,2,0),"") | BI33: =IFERROR(VLOOKUP(AC33,'9__mapping'!$A:$B,2,0),"") | BJ33: =IFERROR(VLOOKUP(AF33,'10__mapping'!$A:$B,2,0),"") | BK33: =IFERROR(VLOOKUP(AK33,'11__mapping'!$A:$B,2,0),"") | BL33: =IFERROR(VLOOKUP(AQ33,'12__mapping'!$A:$B,2,0),"") | BM33: =IFERROR(VLOOKUP(AT33,'13__mapping'!$A:$B,2,0),"") | BN33: =IFERROR(VLOOKUP(AU33,'14__mapping'!$A:$B,2,0),"") | BO33: =IFERROR(VLOOKUP(AV33,'15__mapping'!$A:$B,2,0),"") | BP33: =IFERROR(VLOOKUP(AW33,'16__mapping'!$A:$B,2,0),"") | BQ33: =IFERROR(VLOOKUP(AX33,'17__mapping'!$A:$B,2,0),"")
A34: Create | AZ34: =IFERROR(VLOOKUP(A34,'0__mapping'!$A:$B,2,0),"") -> CREATE | BA34: =IFERROR(VLOOKUP(C34,'1__mapping'!$A:$B,2,0),"") | BB34: =INDEX('2__mapping'!B2:'2__mapping'!B1,MATCH(BA34&D34, INDEX('2__mapping'!C1:C2&'2__mapping'!A1:A2,),0)) -> 0 | BC34: =IFERROR(VLOOKUP(E34,'3__mapping'!$A:$B,2,0),"") | BD34: =IFERROR(VLOOKUP(G34,'4__mapping'!$A:$B,2,0),"") | BE34: =IFERROR(VLOOKUP(J34,'5__mapping'!$A:$B,2,0),"") | BF34: =IFERROR(VLOOKUP(K34,'6__mapping'!$A:$B,2,0),"") | BG34: =IFERROR(VLOOKUP(N34,'7__mapping'!$A:$B,2,0),"") | BH34: =IFERROR(VLOOKUP(AA34,'8__mapping'!$A:$B,2,0),"") | BI34: =IFERROR(VLOOKUP(AC34,'9__mapping'!$A:$B,2,0),"") | BJ34: =IFERROR(VLOOKUP(AF34,'10__mapping'!$A:$B,2,0),"") | BK34: =IFERROR(VLOOKUP(AK34,'11__mapping'!$A:$B,2,0),"") | BL34: =IFERROR(VLOOKUP(AQ34,'12__mapping'!$A:$B,2,0),"") | BM34: =IFERROR(VLOOKUP(AT34,'13__mapping'!$A:$B,2,0),"") | BN34: =IFERROR(VLOOKUP(AU34,'14__mapping'!$A:$B,2,0),"") | BO34: =IFERROR(VLOOKUP(AV34,'15__mapping'!$A:$B,2,0),"") | BP34: =IFERROR(VLOOKUP(AW34,'16__mapping'!$A:$B,2,0),"") | BQ34: =IFERROR(VLOOKUP(AX34,'17__mapping'!$A:$B,2,0),"")
A35: Create | AZ35: =IFERROR(VLOOKUP(A35,'0__mapping'!$A:$B,2,0),"") -> CREATE | BA35: =IFERROR(VLOOKUP(C35,'1__mapping'!$A:$B,2,0),"") | BB35: =INDEX('2__mapping'!B2:'2__mapping'!B1,MATCH(BA35&D35, INDEX('2__mapping'!C1:C2&'2__mapping'!A1:A2,),0)) -> 0 | BC35: =IFERROR(VLOOKUP(E35,'3__mapping'!$A:$B,2,0),"") | BD35: =IFERROR(VLOOKUP(G35,'4__mapping'!$A:$B,2,0),"") | BE35: =IFERROR(VLOOKUP(J35,'5__mapping'!$A:$B,2,0),"") | BF35: =IFERROR(VLOOKUP(K35,'6__mapping'!$A:$B,2,0),"") | BG35: =IFERROR(VLOOKUP(N35,'7__mapping'!$A:$B,2,0),"") | BH35: =IFERROR(VLOOKUP(AA35,'8__mapping'!$A:$B,2,0),"") | BI35: =IFERROR(VLOOKUP(AC35,'9__mapping'!$A:$B,2,0),"") | BJ35: =IFERROR(VLOOKUP(AF35,'10__mapping'!$A:$B,2,0),"") | BK35: =IFERROR(VLOOKUP(AK35,'11__mapping'!$A:$B,2,0),"") | BL35: =IFERROR(VLOOKUP(AQ35,'12__mapping'!$A:$B,2,0),"") | BM35: =IFERROR(VLOOKUP(AT35,'13__mapping'!$A:$B,2,0),"") | BN35: =IFERROR(VLOOKUP(AU35,'14__mapping'!$A:$B,2,0),"") | BO35: =IFERROR(VLOOKUP(AV35,'15__mapping'!$A:$B,2,0),"") | BP35: =IFERROR(VLOOKUP(AW35,'16__mapping'!$A:$B,2,0),"") | BQ35: =IFERROR(VLOOKUP(AX35,'17__mapping'!$A:$B,2,0),"")
A36: Create | AZ36: =IFERROR(VLOOKUP(A36,'0__mapping'!$A:$B,2,0),"") -> CREATE | BA36: =IFERROR(VLOOKUP(C36,'1__mapping'!$A:$B,2,0),"") | BB36: =INDEX('2__mapping'!B2:'2__mapping'!B1,MATCH(BA36&D36, INDEX('2__mapping'!C1:C2&'2__mapping'!A1:A2,),0)) -> 0 | BC36: =IFERROR(VLOOKUP(E36,'3__mapping'!$A:$B,2,0),"") | BD36: =IFERROR(VLOOKUP(G36,'4__mapping'!$A:$B,2,0),"") | BE36: =IFERROR(VLOOKUP(J36,'5__mapping'!$A:$B,2,0),"") | BF36: =IFERROR(VLOOKUP(K36,'6__mapping'!$A:$B,2,0),"") | BG36: =IFERROR(VLOOKUP(N36,'7__mapping'!$A:$B,2,0),"") | BH36: =IFERROR(VLOOKUP(AA36,'8__mapping'!$A:$B,2,0),"") | BI36: =IFERROR(VLOOKUP(AC36,'9__mapping'!$A:$B,2,0),"") | BJ36: =IFERROR(VLOOKUP(AF36,'10__mapping'!$A:$B,2,0),"") | BK36: =IFERROR(VLOOKUP(AK36,'11__mapping'!$A:$B,2,0),"") | BL36: =IFERROR(VLOOKUP(AQ36,'12__mapping'!$A:$B,2,0),"") | BM36: =IFERROR(VLOOKUP(AT36,'13__mapping'!$A:$B,2,0),"") | BN36: =IFERROR(VLOOKUP(AU36,'14__mapping'!$A:$B,2,0),"") | BO36: =IFERROR(VLOOKUP(AV36,'15__mapping'!$A:$B,2,0),"") | BP36: =IFERROR(VLOOKUP(AW36,'16__mapping'!$A:$B,2,0),"") | BQ36: =IFERROR(VLOOKUP(AX36,'17__mapping'!$A:$B,2,0),"")
A37: Create | AZ37: =IFERROR(VLOOKUP(A37,'0__mapping'!$A:$B,2,0),"") -> CREATE | BA37: =IFERROR(VLOOKUP(C37,'1__mapping'!$A:$B,2,0),"") | BB37: =INDEX('2__mapping'!B2:'2__mapping'!B1,MATCH(BA37&D37, INDEX('2__mapping'!C1:C2&'2__mapping'!A1:A2,),0)) -> 0 | BC37: =IFERROR(VLOOKUP(E37,'3__mapping'!$A:$B,2,0),"") | BD37: =IFERROR(VLOOKUP(G37,'4__mapping'!$A:$B,2,0),"") | BE37: =IFERROR(VLOOKUP(J37,'5__mapping'!$A:$B,2,0),"") | BF37: =IFERROR(VLOOKUP(K37,'6__mapping'!$A:$B,2,0),"") | BG37: =IFERROR(VLOOKUP(N37,'7__mapping'!$A:$B,2,0),"") | BH37: =IFERROR(VLOOKUP(AA37,'8__mapping'!$A:$B,2,0),"") | BI37: =IFERROR(VLOOKUP(AC37,'9__mapping'!$A:$B,2,0),"") | BJ37: =IFERROR(VLOOKUP(AF37,'10__mapping'!$A:$B,2,0),"") | BK37: =IFERROR(VLOOKUP(AK37,'11__mapping'!$A:$B,2,0),"") | BL37: =IFERROR(VLOOKUP(AQ37,'12__mapping'!$A:$B,2,0),"") | BM37: =IFERROR(VLOOKUP(AT37,'13__mapping'!$A:$B,2,0),"") | BN37: =IFERROR(VLOOKUP(AU37,'14__mapping'!$A:$B,2,0),"") | BO37: =IFERROR(VLOOKUP(AV37,'15__mapping'!$A:$B,2,0),"") | BP37: =IFERROR(VLOOKUP(AW37,'16__mapping'!$A:$B,2,0),"") | BQ37: =IFERROR(VLOOKUP(AX37,'17__mapping'!$A:$B,2,0),"")
A38: Create | AZ38: =IFERROR(VLOOKUP(A38,'0__mapping'!$A:$B,2,0),"") -> CREATE | BA38: =IFERROR(VLOOKUP(C38,'1__mapping'!$A:$B,2,0),"") | BB38: =INDEX('2__mapping'!B2:'2__mapping'!B1,MATCH(BA38&D38, INDEX('2__mapping'!C1:C2&'2__mapping'!A1:A2,),0)) -> 0 | BC38: =IFERROR(VLOOKUP(E38,'3__mapping'!$A:$B,2,0),"") | BD38: =IFERROR(VLOOKUP(G38,'4__mapping'!$A:$B,2,0),"") | BE38: =IFERROR(VLOOKUP(J38,'5__mapping'!$A:$B,2,0),"") | BF38: =IFERROR(VLOOKUP(K38,'6__mapping'!$A:$B,2,0),"") | BG38: =IFERROR(VLOOKUP(N38,'7__mapping'!$A:$B,2,0),"") | BH38: =IFERROR(VLOOKUP(AA38,'8__mapping'!$A:$B,2,0),"") | BI38: =IFERROR(VLOOKUP(AC38,'9__mapping'!$A:$B,2,0),"") | BJ38: =IFERROR(VLOOKUP(AF38,'10__mapping'!$A:$B,2,0),"") | BK38: =IFERROR(VLOOKUP(AK38,'11__mapping'!$A:$B,2,0),"") | BL38: =IFERROR(VLOOKUP(AQ38,'12__mapping'!$A:$B,2,0),"") | BM38: =IFERROR(VLOOKUP(AT38,'13__mapping'!$A:$B,2,0),"") | BN38: =IFERROR(VLOOKUP(AU38,'14__mapping'!$A:$B,2,0),"") | BO38: =IFERROR(VLOOKUP(AV38,'15__mapping'!$A:$B,2,0),"") | BP38: =IFERROR(VLOOKUP(AW38,'16__mapping'!$A:$B,2,0),"") | BQ38: =IFERROR(VLOOKUP(AX38,'17__mapping'!$A:$B,2,0),"")
A39: Create | AZ39: =IFERROR(VLOOKUP(A39,'0__mapping'!$A:$B,2,0),"") -> CREATE | BA39: =IFERROR(VLOOKUP(C39,'1__mapping'!$A:$B,2,0),"") | BB39: =INDEX('2__mapping'!B2:'2__mapping'!B1,MATCH(BA39&D39, INDEX('2__mapping'!C1:C2&'2__mapping'!A1:A2,),0)) -> 0 | BC39: =IFERROR(VLOOKUP(E39,'3__mapping'!$A:$B,2,0),"") | BD39: =IFERROR(VLOOKUP(G39,'4__mapping'!$A:$B,2,0),"") | BE39: =IFERROR(VLOOKUP(J39,'5__mapping'!$A:$B,2,0),"") | BF39: =IFERROR(VLOOKUP(K39,'6__mapping'!$A:$B,2,0),"") | BG39: =IFERROR(VLOOKUP(N39,'7__mapping'!$A:$B,2,0),"") | BH39: =IFERROR(VLOOKUP(AA39,'8__mapping'!$A:$B,2,0),"") | BI39: =IFERROR(VLOOKUP(AC39,'9__mapping'!$A:$B,2,0),"") | BJ39: =IFERROR(VLOOKUP(AF39,'10__mapping'!$A:$B,2,0),"") | BK39: =IFERROR(VLOOKUP(AK39,'11__mapping'!$A:$B,2,0),"") | BL39: =IFERROR(VLOOKUP(AQ39,'12__mapping'!$A:$B,2,0),"") | BM39: =IFERROR(VLOOKUP(AT39,'13__mapping'!$A:$B,2,0),"") | BN39: =IFERROR(VLOOKUP(AU39,'14__mapping'!$A:$B,2,0),"") | BO39: =IFERROR(VLOOKUP(AV39,'15__mapping'!$A:$B,2,0),"") | BP39: =IFERROR(VLOOKUP(AW39,'16__mapping'!$A:$B,2,0),"") | BQ39: =IFERROR(VLOOKUP(AX39,'17__mapping'!$A:$B,2,0),"")
A40: Create | AZ40: =IFERROR(VLOOKUP(A40,'0__mapping'!$A:$B,2,0),"") -> CREATE | BA40: =IFERROR(VLOOKUP(C40,'1__mapping'!$A:$B,2,0),"") | BB40: =INDEX('2__mapping'!B2:'2__mapping'!B1,MATCH(BA40&D40, INDEX('2__mapping'!C1:C2&'2__mapping'!A1:A2,),0)) -> 0 | BC40: =IFERROR(VLOOKUP(E40,'3__mapping'!$A:$B,2,0),"") | BD40: =IFERROR(VLOOKUP(G40,'4__mapping'!$A:$B,2,0),"") | BE40: =IFERROR(VLOOKUP(J40,'5__mapping'!$A:$B,2,0),"") | BF40: =IFERROR(VLOOKUP(K40,'6__mapping'!$A:$B,2,0),"") | BG40: =IFERROR(VLOOKUP(N40,'7__mapping'!$A:$B,2,0),"") | BH40: =IFERROR(VLOOKUP(AA40,'8__mapping'!$A:$B,2,0),"") | BI40: =IFERROR(VLOOKUP(AC40,'9__mapping'!$A:$B,2,0),"") | BJ40: =IFERROR(VLOOKUP(AF40,'10__mapping'!$A:$B,2,0),"") | BK40: =IFERROR(VLOOKUP(AK40,'11__mapping'!$A:$B,2,0),"") | BL40: =IFERROR(VLOOKUP(AQ40,'12__mapping'!$A:$B,2,0),"") | BM40: =IFERROR(VLOOKUP(AT40,'13__mapping'!$A:$B,2,0),"") | BN40: =IFERROR(VLOOKUP(AU40,'14__mapping'!$A:$B,2,0),"") | BO40: =IFERROR(VLOOKUP(AV40,'15__mapping'!$A:$B,2,0),"") | BP40: =IFERROR(VLOOKUP(AW40,'16__mapping'!$A:$B,2,0),"") | BQ40: =IFERROR(VLOOKUP(AX40,'17__mapping'!$A:$B,2,0),"")
...

Sheet 0__mapping
A1: label | B1: value
A2: Create | B2: CREATE
A3: Edit | B3: EDIT

Sheet 1__mapping
A1: label | B1: value
A2: A Company | B2: f00901e4-44e4-45ae-a8b6-b687727925da
A3: ABC | B3: e67e34fd-723f-44e0-81db-ab17acdaea6a
A4: Acme Corporation | B4: 32104d43-bb4d-4e3a-abf6-2af3d09add6d
A5: Crystal Dynamics | B5: cbbd14f3-c38c-4bf6-a886-ceaf7b51f6bb
A6: EDG | B6: 0e1edff7-9921-465a-9d9e-52bd21d09c60
A7: Example Corporation | B7: f5af7b22-1548-4efa-b31c-8d6f44b692e1
A8: Jaguar Corporation | B8: 2c902f19-5144-480b-97c1-408d47105794
A9: Keystone Enterprises | B9: 8a0035c0-6e70-41c2-87c9-d50581f5a3ee
A10: Kitsune Electric | B10: 0d3e4243-b524-4dad-b9dd-5c4cdd7ed8ba
A11: Lionheart Industries | B11: 6a44e067-8cd0-40dd-b484-179b5e75cbac
A12: Lover Company | B12: 1af6062c-2651-40a7-98a4-3360eac47e55
... A36: Zytech Corporation | B36: 743e3ebb-7609-4103-ac2a-93c737f9294f

Sheet 2__mapping
A1: label | B1: value | C1: direct_client_id

Sheet 3__mapping
A1: label | B1: value
A2: Afghanistan | B2: AF
A3: Åland Islands | B3: AX
A4: Albania | B4: AL
A5: Algeria | B5: DZ
A6: American Samoa | B6: AS
A7: Andorra | B7: AD
A8: Angola | B8: AO
A9: Anguilla | B9: AI
A10: Antarctica | B10: AQ
A11: Antigua & Barbuda | B11: AG
A12: Argentina | B12: AR
... A251: Zimbabwe | B251: ZW

Sheet 4__mapping
A1: label | B1: value
A2: ❌ | B2: FALSE
A3: ✔ | B3: TRUE

Sheet 5__mapping
A1: label | B1: value
A2: Fixed Term | B2: FIXED_TERM
A3: Fixed Term End Confirmed | B3: FIXED_TERM_END_CONFIRMED
A4: Fixed Term Renewable | B4: FIXED_TERM_RENEWABLE
A5: Indefinite | B5: INDEFINITE
A6: Indefinite End Confirmed | B6: INDEFINITE_END_CONFIRMED

Sheet 6__mapping
A1: label | B1: value
A2: ❌ | B2: FALSE
A3: ✔ | B3: TRUE

Sheet 7__mapping
A1: label | B1: value
A2: Crystal Dynamics - JP - 123 Provider - JPY | B2: b5aceb12-1efa-43d1-936f-9987cec5b15b
A3: Crystal Dynamics - JP - 123 Provider - JPY | B3: 1ba25264-ae3c-4dc2-a642-e6fbfcc31632
A4: Crystal Dynamics - JP - Mazars - JPY | B4: 1591c251-43ea-443d-941b-da21e3beef1d
A5: Crystal Dynamics - JP - SThree - JPY | B5: d3c31f01-f29a-48e8-9d96-f09966758e0f
A6: Example Corporation (China) - CN - Example Provider - CNY | B6: 8cfe2c7d-3a89-4aa2-be69-e04d0f46b0f1
A7: Example Corporation (China) - CN - Example Provider - CNY | B7: 341d8cbc-5f21-48e9-9b71-b8692a16a95b
A8: Jaguar Corporation - JP - Mazars - JPY | B8: a2aabda2-5ada-409b-a614-4090c3c3f5fe
A9: Jaguar Corporation - JP - SThree - JPY | B9: 25bdc5b5-f657-44fa-a343-6cd64f8b5a0a
A10: Kitsune Electric (Australia) - AU - Example Provider - AUD | B10: 2dc71d9b-4472-477d-a91d-485789be0759
A11: Kitsune Electric (Australia) - AU - Mazars - AUD | B11: f34553b1-e17c-4535-887f-f163a7522d55
A12: Kitsune Electric (Germany) - DE - Boston Group - EUR | B12: e139d59a-09fa-4837-867a-da43a5e606d2
... A14: Sample Company - CN - One Provider - CNY | B14: c7e20b54-0d79-4fc1-8ecb-c12c9776c8b7

Sheet 8__mapping
A1: label | B1: value
A2: Afghanistan | B2: AF
A3: Åland Islands | B3: AX
A4: Albania | B4: AL
A5: Algeria | B5: DZ
A6: American Samoa | B6: AS
A7: Andorra | B7: AD
A8: Angola | B8: AO
A9: Anguilla | B9: AI
A10: Antarctica | B10: AQ
A11: Antigua & Barbuda | B11: AG
A12: Argentina | B12: AR
... A251: Zimbabwe | B251: ZW

Sheet 9__mapping
A1: label | B1: value
A2: Female | B2: FEMALE
A3: Male | B3: MALE
A4: Non Binary | B4: NON_BINARY
A5: Other | B5: OTHER
A6: Prefer not to disclose | B6: NOT_DISCLOSED

Sheet 10__mapping
A1: label | B1: value
A2: Afghanistan | B2: AF
A3: Åland Islands | B3: AX
A4: Albania | B4: AL
A5: Algeria | B5: DZ
A6: American Samoa | B6: AS
A7: Andorra | B7: AD
A8: Angola | B8: AO
A9: Anguilla | B9: AI
A10: Antarctica | B10: AQ
A11: Antigua & Barbuda | B11: AG
A12: Argentina | B12: AR
... A251: Zimbabwe | B251: ZW

Sheet 11__mapping
A1: label | B1: value
A2: Afghanistan | B2: AF
A3: Åland Islands | B3: AX
A4: Albania | B4: AL
A5: Algeria | B5: DZ
A6: American Samoa | B6: AS
A7: Andorra | B7: AD
A8: Angola | B8: AO
A9: Anguilla | B9: AI
A10: Antarctica | B10: AQ
A11: Antigua & Barbuda | B11: AG
A12: Argentina | B12: AR
... A251: Zimbabwe | B251: ZW

Sheet 12__mapping
A1: label | B1: value
A2: Afghanistan | B2: AF
A3: Åland Islands | B3: AX
A4: Albania | B4: AL
A5: Algeria | B5: DZ
A6: American Samoa | B6: AS
A7: Andorra | B7: AD
A8: Angola | B8: AO
A9: Anguilla | B9: AI
A10: Antarctica | B10: AQ
A11: Antigua & Barbuda | B11: AG
A12: Argentina | B12: AR
... A251: Zimbabwe | B251: ZW

Sheet 13__mapping
A1: label | B1: value
A2: Bezos | B2: fbdb9cf8-2d8b-46d9-9c06-1de52f64e1e5
A3: Bill | B3: 1c489c63-7cf6-4988-9834-1b53d7fc54a7
A4: Elon | B4: d0baeb45-fefc-4a82-8aba-308ec194ea97
A5: Zuck | B5: 7c30d685-7222-4d9a-9b4b-d6bc7d2b3318

Sheet 14__mapping
A1: label | B1: value
A2: Development | B2: f2d60abf-4146-44ad-9640-5594662bf324
A3: Product Management | B3: 9479d939-48b4-4503-9347-feb998f9c09f
A4: User Experience | B4: 2b5f9657-039f-445a-a5bb-3c5d3147f08b

Sheet 15__mapping
A1: label | B1: value
A2: Accounting | B2: ab58f928-b45f-4730-9bb1-3d4dd9e82bb8
A3: Marketing | B3: 88984eb6-50ee-4096-903c-56db3dcb4242
A4: Payroll | B4: 9469314e-d471-475f-9912-2405dfadd550
A5: Sales | B5: dbc742a4-aa9e-4a48-a640-602bf34e5f73

Sheet 16__mapping
A1: label | B1: value
A2: A | B2: dad3978f-6164-437a-90cc-6537ec26417c
A3: B | B3: b0b89c02-1358-45b8-b71e-3590f732c4bd
A4: C | B4: 1ee30de9-0dfa-431c-800e-124124be302a

Sheet 17__mapping
A1: label | B1: value
A2: AB | B2: a3488046-5a7f-42fe-a220-f875579b0dbe
A3: B | B3: f4a4ef86-7e2a-43a5-8438-041d51ca0ba2

Sheet __metadata
A1: version
A2: v2023-01
