Workbook

Sheet Workers
A1: Create / Edit | B1: Employee | N1: Payrun | S1: Employee Info | AD1: Residential Address | AI1: Office Address | AN1: Mailing Address | AT1: Dimensions | AY1: ID | AZ1: Mapping
A2: Required | B2: Required | C2: Required | D2: Optional | E2: Required | F2: Optional | G2: Optional | H2: Optional | I2: Optional | J2: Optional | K2: Required | L2: Optional | M2: Optional | N2: Optional | O2: Optional | P2: Optional | Q2: Optional | R2: Optional | S2: Optional | T2: Optional | U2: Optional | V2: Optional | W2: Optional | X2: Optional | Y2: Optional | Z2: Optional | AA2: Optional | AB2: Optional | AC2: Optional | AD2: Optional | AE2: Optional | AF2: Optional | AG2: Optional | AH2: Optional | AI2: Optional | AJ2: Optional | AK2: Optional | AL2: Optional | AM2: Optional | AN2: Optional | AO2: Optional | AP2: Optional | AQ2: Optional | AR2: Optional | AS2: Optional | AT2: Optional | AU2: Optional | AV2: Optional | AW2: Optional | AX2: Optional | AY2: Optional
A3: Create or Edit | B3: Worker Name | C3: Client | D3: End Client | E3: Work Country | F3: Date of Birth | G3: Visa Service | H3: Visa Renewal Date | I3: Visa Application Remarks | J3: Contract Status | K3: Employment Active | L3: Start Date | M3: Expected End Date | N3: Recurring Payrun | O3: First Payrun Date | P3: Effective Start Date | Q3: Last Payrun Date | R3: Effective End Date | S3: Spinach Demo Tenant ID | T3: Client Worker ID | U3: Legal Name in Local Language | V3: Email | W3: Personal Email | X3: Business Email | Y3: Phone Number | Z3: Job Title | AA3: Citizenship Country | AB3: National ID | AC3: Gender | AD3: Residential Address | AE3: Residential Address City | AF3: Residential Address Country | AG3: Residential Postal Code | AH3: Residential Address State | AI3: Office Address | AJ3: Office Address City | AK3: Office Address Country | AL3: Office Postal Code | AM3: Office Address State | AN3: Mailing Address Line 1 | AO3: Mailing Address Line 2 | AP3: Mailing Address City | AQ3: Mailing Address Country | AR3: Mail Address Postal Code | AS3: Mailing Address State | AT3: Team | AU3: Division | AV3: Department | AW3: Section | AX3: Group | AY3: ID | AZ3: 0__mapping | BA3: 1__mapping | BB3: 2__mapping | BC3: 3__mapping | BD3: 4__mapping | BE3: 5__mapping | BF3: 6__mapping | BG3: 7__mapping | BH3: 8__mapping | BI3: 9__mapping | BJ3: 10__mapping | BK3: 11__mapping | BL3: 12__mapping | BM3: 13__mapping | BN3: 14__mapping | BO3: 15__mapping | BP3: 16__mapping | BQ3: 17__mapping
A4: Create | B4: Alice Smith | C4: Sample Company | E4: Japan | K4: ✔ | AZ4: =IFERROR(VLOOKUP(A4,'0__mapping'!$A:$B,2,0),"") -> CREATE | BA4: =IFERROR(VLOOKUP(C4,'1__mapping'!$A:$B,2,0),"") -> ba776f30-8862-417b-ba2a-4c558b4f4db2 | BB4: =INDEX('2__mapping'!B2:'2__mapping'!B1,MATCH(BA4&D4, INDEX('2__mapping'!C1:C2&'2__mapping'!A1:A2,),0)) -> #N/A | BC4: =IFERROR(VLOOKUP(E4,'3__mapping'!$A:$B,2,0),"") -> JP | BD4: =IFERROR(VLOOKUP(G4,'4__mapping'!$A:$B,2,0),"") | BE4: =IFERROR(VLOOKUP(J4,'5__mapping'!$A:$B,2,0),"") | BF4: =IFERROR(VLOOKUP(K4,'6__mapping'!$A:$B,2,0),"") -> TRUE | BG4: =IFERROR(VLOOKUP(N4,'7__mapping'!$A:$B,2,0),"") | BH4: =IFERROR(VLOOKUP(AA4,'8__mapping'!$A:$B,2,0),"") | BI4: =IFERROR(VLOOKUP(AC4,'9__mapping'!$A:$B,2,0),"") | BJ4: =IFERROR(VLOOKUP(AF4,'10__mapping'!$A:$B,2,0),"") | BK4: =IFERROR(VLOOKUP(AK4,'11__mapping'!$A:$B,2,0),"") | BL4: =IFERROR(VLOOKUP(AQ4,'12__mapping'!$A:$B,2,0),"") | BM4: =IFERROR(VLOOKUP(AT4,'13__mapping'!$A:$B,2,0),"") | BN4: =IFERROR(VLOOKUP(AU4,'14__mapping'!$A:$B,2,0),"") | BO4: =IFERROR(VLOOKUP(AV4,'15__mapping'!$A:$B,2,0),"") | BP4: =IFERROR(VLOOKUP(AW4,'16__mapping'!$A:$B,2,0),"") | BQ4: =IFERROR(VLOOKUP(AX4,'17__mapping'!$A:$B,2,0),"")
A5: Create | AZ5: =IFERROR(VLOOKUP(A5,'0__mapping'!$A:$B,2,0),"") -> CREATE | BA5: =IFERROR(VLOOKUP(C5,'1__mapping'!$A:$B,2,0),"") | BB5: =INDEX('2__mapping'!B2:'2__mapping'!B1,MATCH(BA5&D5, INDEX('2__mapping'!C1:C2&'2__mapping'!A1:A2,),0)) -> 0 | BC5: =IFERROR(VLOOKUP(E5,'3__mapping'!$A:$B,2,0),"") | BD5: =IFERROR(VLOOKUP(G5,'4__mapping'!$A:$B,2,0),"") | BE5: =IFERROR(VLOOKUP(J5,'5__mapping'!$A:$B,2,0),"") | BF5: =IFERROR(VLOOKUP(K5,'6__mapping'!$A:$B,2,0),"") | BG5: =IFERROR(VLOOKUP(N5,'7__mapping'!$A:$B,2,0),"") | BH5: =IFERROR(VLOOKUP(AA5,'8__mapping'!$A:$B,2,0),"") | BI5: =IFERROR(VLOOKUP(AC5,'9__mapping'!$A:$B,2,0),"") | BJ5: =IFERROR(VLOOKUP(AF5,'10__mapping'!$A:$B,2,0),"") | BK5: =IFERROR(VLOOKUP(AK5,'11__mapping'!$A:$B,2,0),"") | BL5: =IFERROR(VLOOKUP(AQ5,'12__mapping'!$A:$B,2,0),"") | BM5: =IFERROR(VLOOKUP(AT5,'13__mapping'!$A:$B,2,0),"") | BN5: =IFERROR(VLOOKUP(AU5,'14__mapping'!$A:$B,2,0),"") | BO5: =IFERROR(VLOOKUP(AV5,'15__mapping'!$A:$B,2,0),"") | BP5: =IFERROR(VLOOKUP(AW5,'16__mapping'!$A:$B,2,0),"") | BQ5: =IFERROR(VLOOKUP(AX5,'17__mapping'!$A:$B,2,0),"")
A6: Create | AZ6: =IFERROR(VLOOKUP(A6,'0__mapping'!$A:$B,2,0),"") -> CREATE | BA6: =IFERROR(VLOOKUP(C6,'1__mapping'!$A:$B,2,0),"") | BB6: =INDEX('2__mapping'!B2:'2__mapping'!B1,MATCH(BA6&D6, INDEX('2__mapping'!C1:C2&'2__mapping'!A1:A2,),0)) -> 0 | BC6: =IFERROR(VLOOKUP(E6,'3__mapping'!$A:$B,2,0),"") | BD6: =IFERROR(VLOOKUP(G6,'4__mapping'!$A:$B,2,0),"") | BE6: =IFERROR(VLOOKUP(J6,'5__mapping'!$A:$B,2,0),"") | BF6: =IFERROR(VLOOKUP(K6,'6__mapping'!$A:$B,2,0),"") | BG6: =IFERROR(VLOOKUP(N6,'7__mapping'!$A:$B,2,0),"") | BH6: =IFERROR(VLOOKUP(AA6,'8__mapping'!$A:$B,2,0),"") | BI6: =IFERROR(VLOOKUP(AC6,'9__mapping'!$A:$B,2,0),"") | BJ6: =IFERROR(VLOOKUP(AF6,'10__mapping'!$A:$B,2,0),"") | BK6: =IFERROR(VLOOKUP(AK6,'11__mapping'!$A:$B,2,0),"") | BL6: =IFERROR(VLOOKUP(AQ6,'12__mapping'!$A:$B,2,0),"") | BM6: =IFERROR(VLOOKUP(AT6,'13__mapping'!$A:$B,2,0),"") | BN6: =IFERROR(VLOOKUP(AU6,'14__mapping'!$A:$B,2,0),"") | BO6: =IFERROR(VLOOKUP(AV6,'15__mapping'!$A:$B,2,0),"") | BP6: =IFERROR(VLOOKUP(AW6,'16__mapping'!$A:$B,2,0),"") | BQ6: =IFERROR(VLOOKUP(AX6,'17__mapping'!$A:$B,2,0),"")
A7: Create | AZ7: =IFERROR(VLOOKUP(A7,'0__mapping'!$A:$B,2,0),"") -> CREATE | BA7: =IFERROR(VLOOKUP(C7,'1__mapping'!$A:$B,2,0),"") | BB7: =INDEX('2__mapping'!B2:'2__mapping'!B1,MATCH(BA7&D7, INDEX('2__mapping'!C1:C2&'2__mapping'!A1:A2,),0)) -> 0 | BC7: =IFERROR(VLOOKUP(E7,'3__mapping'!$A:$B,2,0),"") | BD7: =IFERROR(VLOOKUP(G7,'4__mapping'!$A:$B,2,0),"") | BE7: =IFERROR(VLOOKUP(J7,'5__mapping'!$A:$B,2,0),"") | BF7: =IFERROR(VLOOKUP(K7,'6__mapping'!$A:$B,2,0),"") | BG7: =IFERROR(VLOOKUP(N7,'7__mapping'!$A:$B,2,0),"") | BH7: =IFERROR(VLOOKUP(AA7,'8__mapping'!$A:$B,2,0),"") | BI7: =IFERROR(VLOOKUP(AC7,'9__mapping'!$A:$B,2,0),"") | BJ7: =IFERROR(VLOOKUP(AF7,'10__mapping'!$A:$B,2,0),"") | BK7: =IFERROR(VLOOKUP(AK7,'11__mapping'!$A:$B,2,0),"") | BL7: =IFERROR(VLOOKUP(AQ7,'12__mapping'!$A:$B,2,0),"") | BM7: =IFERROR(VLOOKUP(AT7,'13__mapping'!$A:$B,2,0),"") | BN7: =IFERROR(VLOOKUP(AU7,'14__mapping'!$A:$B,2,0),"") | BO7: =IFERROR(VLOOKUP(AV7,'15__mapping'!$A:$B,2,0),"") | BP7: =IFERROR(VLOOKUP(AW7,'16__mapping'!$A:$B,2,0),"") | BQ7: =IFERROR(VLOOKUP(AX7,'17__mapping'!$A:$B,2,0),"")
A8: Create | AZ8: =IFERROR(VLOOKUP(A8,'0__mapping'!$A:$B,2,0),"") -> CREATE | BA8: =IFERROR(VLOOKUP(C8,'1__mapping'!$A:$B,2,0),"") | BB8: =INDEX('2__mapping'!B2:'2__mapping'!B1,MATCH(BA8&D8, INDEX('2__mapping'!C1:C2&'2__mapping'!A1:A2,),0)) -> 0 | BC8: =IFERROR(VLOOKUP(E8,'3__mapping'!$A:$B,2,0),"") | BD8: =IFERROR(VLOOKUP(G8,'4__mapping'!$A:$B,2,0),"") | BE8: =IFERROR(VLOOKUP(J8,'5__mapping'!$A:$B,2,0),"") | BF8: =IFERROR(VLOOKUP(K8,'6__mapping'!$A:$B,2,0),"") | BG8: =IFERROR(VLOOKUP(N8,'7__mapping'!$A:$B,2,0),"") | BH8: =IFERROR(VLOOKUP(AA8,'8__mapping'!$A:$B,2,0),"") | BI8: =IFERROR(VLOOKUP(AC8,'9__mapping'!$A:$B,2,0),"") | BJ8: =IFERROR(VLOOKUP(AF8,'10__mapping'!$A:$B,2,0),"") | BK8: =IFERROR(VLOOKUP(AK8,'11__mapping'!$A:$B,2,0),"") | BL8: =IFERROR(VLOOKUP(AQ8,'12__mapping'!$A:$B,2,0),"") | BM8: =IFERROR(VLOOKUP(AT8,'13__mapping'!$A:$B,2,0),"") | BN8: =IFERROR(VLOOKUP(AU8,'14__mapping'!$A:$B,2,0),"") | BO8: =IFERROR(VLOOKUP(AV8,'15__mapping'!$A:$B,2,0),"") | BP8: =IFERROR(VLOOKUP(AW8,'16__mapping'!$A:$B,2,0),"") | BQ8: =IFERROR(VLOOKUP(AX8,'17__mapping'!$A:$B,2,0),"")
A9: Create | AZ9: =IFERROR(VLOOKUP(A9,'0__mapping'!$A:$B,2,0),"") -> CREATE | BA9: =IFERROR(VLOOKUP(C9,'1__mapping'!$A:$B,2,0),"") | BB9: =INDEX('2__mapping'!B2:'2__mapping'!B1,MATCH(BA9&D9, INDEX('2__mapping'!C1:C2&'2__mapping'!A1:A2,),0)) -> 0 | BC9: =IFERROR(VLOOKUP(E9,'3__mapping'!$A:$B,2,0),"") | BD9: =IFERROR(VLOOKUP(G9,'4__mapping'!$A:$B,2,0),"") | BE9: =IFERROR(VLOOKUP(J9,'5__mapping'!$A:$B,2,0),"") | BF9: =IFERROR(VLOOKUP(K9,'6__mapping'!$A:$B,2,0),"") | BG9: =IFERROR(VLOOKUP(N9,'7__mapping'!$A:$B,2,0),"") | BH9: =IFERROR(VLOOKUP(AA9,'8__mapping'!$A:$B,2,0),"") | BI9: =IFERROR(VLOOKUP(AC9,'9__mapping'!$A:$B,2,0),"") | BJ9: =IFERROR(VLOOKUP(AF9,'10__mapping'!$A:$B,2,0),"") | BK9: =IFERROR(VLOOKUP(AK9,'11__mapping'!$A:$B,2,0),"") | BL9: =IFERROR(VLOOKUP(AQ9,'12__mapping'!$A:$B,2,0),"") | BM9: =IFERROR(VLOOKUP(AT9,'13__mapping'!$A:$B,2,0),"") | BN9: =IFERROR(VLOOKUP(AU9,'14__mapping'!$A:$B,2,0),"") | BO9: =IFERROR(VLOOKUP(AV9,'15__mapping'!$A:$B,2,0),"") | BP9: =IFERROR(VLOOKUP(AW9,'16__mapping'!$A:$B,2,0),"") | BQ9: =IFERROR(VLOOKUP(AX9,'17__mapping'!$A:$B,2,0),"")
A10: Create | AZ10: =IFERROR(VLOOKUP(A10,'0__mapping'!$A:$B,2,0),"") -> CREATE | BA10: =IFERROR(VLOOKUP(C10,'1__mapping'!$A:$B,2,0),"") | BB10: =INDEX('2__mapping'!B2:'2__mapping'!B1,MATCH(BA10&D10, INDEX('2__mapping'!C1:C2&'2__mapping'!A1:A2,),0)) -> 0 | BC10: =IFERROR(VLOOKUP(E10,'3__mapping'!$A:$B,2,0),"") | BD10: =IFERROR(VLOOKUP(G10,'4__mapping'!$A:$B,2,0),"") | BE10: =IFERROR(VLOOKUP(J10,'5__mapping'!$A:$B,2,0),"") | BF10: =IFERROR(VLOOKUP(K10,'6__mapping'!$A:$B,2,0),"") | BG10: =IFERROR(VLOOKUP(N10,'7__mapping'!$A:$B,2,0),"") | BH10: =IFERROR(VLOOKUP(AA10,'8__mapping'!$A:$B,2,0),"") | BI10: =IFERROR(VLOOKUP(AC10,'9__mapping'!$A:$B,2,0),"") | BJ10: =IFERROR(VLOOKUP(AF10,'10__mapping'!$A:$B,2,0),"") | BK10: =IFERROR(VLOOKUP(AK10,'11__mapping'!$A:$B,2,0),"") | BL10: =IFERROR(VLOOKUP(AQ10,'12__mapping'!$A:$B,2,0),"") | BM10: =IFERROR(VLOOKUP(AT10,'13__mapping'!$A:$B,2,0),"") | BN10: =IFERROR(VLOOKUP(AU10,'14__mapping'!$A:$B,2,0),"") | BO10: =IFERROR(VLOOKUP(AV10,'15__mapping'!$A:$B,2,0),"") | BP10: =IFERROR(VLOOKUP(AW10,'16__mapping'!$A:$B,2,0),"") | BQ10: =IFERROR(VLOOKUP(AX10,'17__mapping'!$A:$B,2,0),"")
A11: Create | AZ11: =IFERROR(VLOOKUP(A11,'0__mapping'!$A:$B,2,0),"") -> CREATE | BA11: =IFERROR(VLOOKUP(C11,'1__mapping'!$A:$B,2,0),"") | BB11: =INDEX('2__mapping'!B2:'2__mapping'!B1,MATCH(BA11&D11, INDEX('2__mapping'!C1:C2&'2__mapping'!A1:A2,),0)) -> 0 | BC11: =IFERROR(VLOOKUP(E11,'3__mapping'!$A:$B,2,0),"") | BD11: =IFERROR(VLOOKUP(G11,'4__mapping'!$A:$B,2,0),"") | BE11: =IFERROR(VLOOKUP(J11,'5__mapping'!$A:$B,2,0),"") | BF11: =IFERROR(VLOOKUP(K11,'6__mapping'!$A:$B,2,0),"") | BG11: =IFERROR(VLOOKUP(N11,'7__mapping'!$A:$B,2,0),"") | BH11: =IFERROR(VLOOKUP(AA11,'8__mapping'!$A:$B,2,0),"") | BI11: =IFERROR(VLOOKUP(AC11,'9__mapping'!$A:$B,2,0),"") | BJ11: =IFERROR(VLOOKUP(AF11,'10__mapping'!$A:$B,2,0),"") | BK11: =IFERROR(VLOOKUP(AK11,'11__mapping'!$A:$B,2,0),"") | BL11: =IFERROR(VLOOKUP(AQ11,'12__mapping'!$A:$B,2,0),"") | BM11: =IFERROR(VLOOKUP(AT11,'13__mapping'!$A:$B,2,0),"") | BN11: =IFERROR(VLOOKUP(AU11,'14__mapping'!$A:$B,2,0),"") | BO11: =IFERROR(VLOOKUP(AV11,'15__mapping'!$A:$B,2,0),"") | BP11: =IFERROR(VLOOKUP(AW11,'16__mapping'!$A:$B,2,0),"") | BQ11: =IFERROR(VLOOKUP(AX11,'17__mapping'!$A:$B,2,0),"")
A12: Create | AZ12: =IFERROR(VLOOKUP(A12,'0__mapping'!$A:$B,2,0),"") -> CREATE | BA12: =IFERROR(VLOOKUP(C12,'1__mapping'!$A:$B,2,0),"") | BB12: =INDEX('2__mapping'!B2:'2__mapping'!B1,MATCH(BA12&D12, INDEX('2__mapping'!C1:C2&'2__mapping'!A1:A2,),0)) -> 0 | BC12: =IFERROR(VLOOKUP(E12,'3__mapping'!$A:$B,2,0),"") | BD12: =IFERROR(VLOOKUP(G12,'4__mapping'!$A:$B,2,0),"") | BE12: =IFERROR(VLOOKUP(J12,'5__mapping'!$A:$B,2,0),"") | BF12: =IFERROR(VLOOKUP(K12,'6__mapping'!$A:$B,2,0),"") | BG12: =IFERROR(VLOOKUP(N12,'7__mapping'!$A:$B,2,0),"") | BH12: =IFERROR(VLOOKUP(AA12,'8__mapping'!$A:$B,2,0),"") | BI12: =IFERROR(VLOOKUP(AC12,'9__mapping'!$A:$B,2,0),"") | BJ12: =IFERROR(VLOOKUP(AF12,'10__mapping'!$A:$B,2,0),"") | BK12: =IFERROR(VLOOKUP(AK12,'11__mapping'!$A:$B,2,0),"") | BL12: =IFERROR(VLOOKUP(AQ12,'12__mapping'!$A:$B,2,0),"") | BM12: =IFERROR(VLOOKUP(AT12,'13__mapping'!$A:$B,2,0),"") | BN12: =IFERROR(VLOOKUP(AU12,'14__mapping'!$A:$B,2,0),"") | BO12: =IFERROR(VLOOKUP(AV12,'15__mapping'!$A:$B,2,0),"") | BP12: =IFERROR(VLOOKUP(AW12,'16__mapping'!$A:$B,2,0),"") | BQ12: =IFERROR(VLOOKUP(AX12,'17__mapping'!$A:$B,2,0),"")
A13: Create | AZ13: =IFERROR(VLOOKUP(A13,'0__mapping'!$A:$B,2,0),"") -> CREATE | BA13: =IFERROR(VLOOKUP(C13,'1__mapping'!$A:$B,2,0),"") | BB13: =INDEX('2__mapping'!B2:'2__mapping'!B1,MATCH(BA13&D13, INDEX('2__mapping'!C1:C2&'2__mapping'!A1:A2,),0)) -> 0 | BC13: =IFERROR(VLOOKUP(E13,'3__mapping'!$A:$B,2,0),"") | BD13: =IFERROR(VLOOKUP(G13,'4__mapping'!$A:$B,2,0),"") | BE13: =IFERROR(VLOOKUP(J13,'5__mapping'!$A:$B,2,0),"") | BF13: =IFERROR(VLOOKUP(K13,'6__mapping'!$A:$B,2,0),"") | BG13: =IFERROR(VLOOKUP(N13,'7__mapping'!$A:$B,2,0),"") | BH13: =IFERROR(VLOOKUP(AA13,'8__mapping'!$A:$B,2,0),"") | BI13: =IFERROR(VLOOKUP(AC13,'9__mapping'!$A:$B,2,0),"") | BJ13: =IFERROR(VLOOKUP(AF13,'10__mapping'!$A:$B,2,0),"") | BK13: =IFERROR(VLOOKUP(AK13,'11__mapping'!$A:$B,2,0),"") | BL13: =IFERROR(VLOOKUP(AQ13,'12__mapping'!$A:$B,2,0),"") | BM13: =IFERROR(VLOOKUP(AT13,'13__mapping'!$A:$B,2,0),"") | BN13: =IFERROR(VLOOKUP(AU13,'14__mapping'!$A:$B,2,0),"") | BO13: =IFERROR(VLOOKUP(AV13,'15__mapping'!$A:$B,2,0),"") | BP13: =IFERROR(VLOOKUP(AW13,'16__mapping'!$A:$B,2,0),"") | BQ13: =IFERROR(VLOOKUP(AX13,'17__mapping'!$A:$B,2,0),"")
A14: Create | AZ14: =IFERROR(VLOOKUP(A14,'0__mapping'!$A:$B,2,0),"") -> CREATE | BA14: =IFERROR(VLOOKUP(C14,'1__mapping'!$A:$B,2,0),"") | BB14: =INDEX('2__mapping'!B2:'2__mapping'!B1,MATCH(BA14&D14, INDEX('2__mapping'!C1:C2&'2__mapping'!A1:A2,),0)) -> 0 | BC14: =IFERROR(VLOOKUP(E14,'3__mapping'!$A:$B,2,0),"") | BD14: =IFERROR(VLOOKUP(G14,'4__mapping'!$A:$B,2,0),"") | BE14: =IFERROR(VLOOKUP(J14,'5__mapping'!$A:$B,2,0),"") | BF14: =IFERROR(VLOOKUP(K14,'6__mapping'!$A:$B,2,0),"") | BG14: =IFERROR(VLOOKUP(N14,'7__mapping'!$A:$B,2,0),"") | BH14: =IFERROR(VLOOKUP(AA14,'8__mapping'!$A:$B,2,0),"") | BI14: =IFERROR(VLOOKUP(AC14,'9__mapping'!$A:$B,2,0),"") | BJ14: =IFERROR(VLOOKUP(AF14,'10__mapping'!$A:$B,2,0),"") | BK14: =IFERROR(VLOOKUP(AK14,'11__mapping'!$A:$B,2,0),"") | BL14: =IFERROR(VLOOKUP(AQ14,'12__mapping'!$A:$B,2,0),"") | BM14: =IFERROR(VLOOKUP(AT14,'13__mapping'!$A:$B,2,0),"") | BN14: =IFERROR(VLOOKUP(AU14,'14__mapping'!$A:$B,2,0),"") | BO14: =IFERROR(VLOOKUP(AV14,'15__mapping'!$A:$B,2,0),"") | BP14: =IFERROR(VLOOKUP(AW14,'16__mapping'!$A:$B,2,0),"") | BQ14: =IFERROR(VLOOKUP(AX14,'17__mapping'!$A:$B,2,0),"")
A15: Create | AZ15: =IFERROR(VLOOKUP(A15,'0__mapping'!$A:$B,2,0),"") -> CREATE | BA15: =IFERROR(VLOOKUP(C15,'1__mapping'!$A:$B,2,0),"") | BB15: =INDEX('2__mapping'!B2:'2__mapping'!B1,MATCH(BA15&D15, INDEX('2__mapping'!C1:C2&'2__mapping'!A1:A2,),0)) -> 0 | BC15: =IFERROR(VLOOKUP(E15,'3__mapping'!$A:$B,2,0),"") | BD15: =IFERROR(VLOOKUP(G15,'4__mapping'!$A:$B,2,0),"") | BE15: =IFERROR(VLOOKUP(J15,'5__mapping'!$A:$B,2,0),"") | BF15: =IFERROR(VLOOKUP(K15,'6__mapping'!$A:$B,2,0),"") | BG15: =IFERROR(VLOOKUP(N15,'7__mapping'!$A:$B,2,0),"") | BH15: =IFERROR(VLOOKUP(AA15,'8__mapping'!$A:$B,2,0),"") | BI15: =IFERROR(VLOOKUP(AC15,'9__mapping'!$A:$B,2,0),"") | BJ15: =IFERROR(VLOOKUP(AF15,'10__mapping'!$A:$B,2,0),"") | BK15: =IFERROR(VLOOKUP(AK15,'11__mapping'!$A:$B,2,0),"") | BL15: =IFERROR(VLOOKUP(AQ15,'12__mapping'!$A:$B,2,0),"") | BM15: =IFERROR(VLOOKUP(AT15,'13__mapping'!$A:$B,2,0),"") | BN15: =IFERROR(VLOOKUP(AU15,'14__mapping'!$A:$B,2,0),"") | BO15: =IFERROR(VLOOKUP(AV15,'15__mapping'!$A:$B,2,0),"") | BP15: =IFERROR(VLOOKUP(AW15,'16__mapping'!$A:$B,2,0),"") | BQ15: =IFERROR(VLOOKUP(AX15,'17__mapping'!$A:$B,2,0),"")
A16: Create | AZ16: =IFERROR(VLOOKUP(A16,'0__mapping'!$A:$B,2,0),"") -> CREATE | BA16: =IFERROR(VLOOKUP(C16,'1__mapping'!$A:$B,2,0),"") | BB16: =INDEX('2__mapping'!B2:'2__mapping'!B1,MATCH(BA16&D16, INDEX('2__mapping'!C1:C2&'2__mapping'!A1:A2,),0)) -> 0 | BC16: =IFERROR(VLOOKUP(E16,'3__mapping'!$A:$B,2,0),"") | BD16: =IFERROR(VLOOKUP(G16,'4__mapping'!$A:$B,2,0),"") | BE16: =IFERROR(VLOOKUP(J16,'5__mapping'!$A:$B,2,0),"") | BF16: =IFERROR(VLOOKUP(K16,'6__mapping'!$A:$B,2,0),"") | BG16: =IFERROR(VLOOKUP(N16,'7__mapping'!$A:$B,2,0),"") | BH16: =IFERROR(VLOOKUP(AA16,'8__mapping'!$A:$B,2,0),"") | BI16: =IFERROR(VLOOKUP(AC16,'9__mapping'!$A:$B,2,0),"") | BJ16: =IFERROR(VLOOKUP(AF16,'10__mapping'!$A:$B,2,0),"") | BK16: =IFERROR(VLOOKUP(AK16,'11__mapping'!$A:$B,2,0),"") | BL16: =IFERROR(VLOOKUP(AQ16,'12__mapping'!$A:$B,2,0),"") | BM16: =IFERROR(VLOOKUP(AT16,'13__mapping'!$A:$B,2,0),"") | BN16: =IFERROR(VLOOKUP(AU16,'14__mapping'!$A:$B,2,0),"") | BO16: =IFERROR(VLOOKUP(AV16,'15__mapping'!$A:$B,2,0),"") | BP16: =IFERROR(VLOOKUP(AW16,'16__mapping'!$A:$B,2,0),"") | BQ16: =IFERROR(VLOOKUP(AX16,'17__mapping'!$A:$B,2,0),"")
A17: Create | AZ17: =IFERROR(VLOOKUP(A17,'0__mapping'!$A:$B,2,0),"") -> CREATE | BA17: =IFERROR(VLOOKUP(C17,'1__mapping'!$A:$B,2,0),"") | BB17: =INDEX('2__mapping'!B2:'2__mapping'!B1,MATCH(BA17&D17, INDEX('2__mapping'!C1:C2&'2__mapping'!A1:A2,),0)) -> 0 | BC17: =IFERROR(VLOOKUP(E17,'3__mapping'!$A:$B,2,0),"") | BD17: =IFERROR(VLOOKUP(G17,'4__mapping'!$A:$B,2,0),"") | BE17: =IFERROR(VLOOKUP(J17,'5__mapping'!$A:$B,2,0),"") | BF17: =IFERROR(VLOOKUP(K17,'6__mapping'!$A:$B,2,0),"") | BG17: =IFERROR(VLOOKUP(N17,'7__mapping'!$A:$B,2,0),"") | BH17: =IFERROR(VLOOKUP(AA17,'8__mapping'!$A:$B,2,0),"") | BI17: =IFERROR(VLOOKUP(AC17,'9__mapping'!$A:$B,2,0),"") | BJ17: =IFERROR(VLOOKUP(AF17,'10__mapping'!$A:$B,2,0),"") | BK17: =IFERROR(VLOOKUP(AK17,'11__mapping'!$A:$B,2,0),"") | BL17: =IFERROR(VLOOKUP(AQ17,'12__mapping'!$A:$B,2,0),"") | BM17: =IFERROR(VLOOKUP(AT17,'13__mapping'!$A:$B,2,0),"") | BN17: =IFERROR(VLOOKUP(AU17,'14__mapping'!$A:$B,2,0),"") | BO17: =IFERROR(VLOOKUP(AV17,'15__mapping'!$A:$B,2,0),"") | BP17: =IFERROR(VLOOKUP(AW17,'16__mapping'!$A:$B,2,0),"") | BQ17: =IFERROR(VLOOKUP(AX17,'17__mapping'!$A:$B,2,0),"")
A18: Create | AZ18: =IFERROR(VLOOKUP(A18,'0__mapping'!$A:$B,2,0),"") -> CREATE | BA18: =IFERROR(VLOOKUP(C18,'1__mapping'!$A:$B,2,0),"") | BB18: =INDEX('2__mapping'!B2:'2__mapping'!B1,MATCH(BA18&D18, INDEX('2__mapping'!C1:C2&'2__mapping'!A1:A2,),0)) -> 0 | BC18: =IFERROR(VLOOKUP(E18,'3__mapping'!$A:$B,2,0),"") | BD18: =IFERROR(VLOOKUP(G18,'4__mapping'!$A:$B,2,0),"") | BE18: =IFERROR(VLOOKUP(J18,'5__mapping'!$A:$B,2,0),"") | BF18: =IFERROR(VLOOKUP(K18,'6__mapping'!$A:$B,2,0),"") | BG18: =IFERROR(VLOOKUP(N18,'7__mapping'!$A:$B,2,0),"") | BH18: =IFERROR(VLOOKUP(AA18,'8__mapping'!$A:$B,2,0),"") | BI18: =IFERROR(VLOOKUP(AC18,'9__mapping'!$A:$B,2,0),"") | BJ18: =IFERROR(VLOOKUP(AF18,'10__mapping'!$A:$B,2,0),"") | BK18: =IFERROR(VLOOKUP(AK18,'11__mapping'!$A:$B,2,0),"") | BL18: =IFERROR(VLOOKUP(AQ18,'12__mapping'!$A:$B,2,0),"") | BM18: =IFERROR(VLOOKUP(AT18,'13__mapping'!$A:$B,2,0),"") | BN18: =IFERROR(VLOOKUP(AU18,'14__mapping'!$A:$B,2,0),"") | BO18: =IFERROR(VLOOKUP(AV18,'15__mapping'!$A:$B,2,0),"") | BP18: =IFERROR(VLOOKUP(AW18,'16__mapping'!$A:$B,2,0),"") | BQ18: =IFERROR(VLOOKUP(AX18,'17__mapping'!$A:$B,2,0),"")
A19: Create | AZ19: =IFERROR(VLOOKUP(A19,'0__mapping'!$A:$B,2,0),"") -> CREATE | BA19: =IFERROR(VLOOKUP(C19,'1__mapping'!$A:$B,2,0),"") | BB19: =INDEX('2__mapping'!B2:'2__mapping'!B1,MATCH(BA19&D19, INDEX('2__mapping'!C1:C2&'2__mapping'!A1:A2,),0)) -> 0 | BC19: =IFERROR(VLOOKUP(E19,'3__mapping'!$A:$B,2,0),"") | BD19: =IFERROR(VLOOKUP(G19,'4__mapping'!$A:$B,2,0),"") | BE19: =IFERROR(VLOOKUP(J19,'5__mapping'!$A:$B,2,0),"") | BF19: =IFERROR(VLOOKUP(K19,'6__mapping'!$A:$B,2,0),"") | BG19: =IFERROR(VLOOKUP(N19,'7__mapping'!$A:$B,2,0),"") | BH19: =IFERROR(VLOOKUP(AA19,'8__mapping'!$A:$B,2,0),"") | BI19: =IFERROR(VLOOKUP(AC19,'9__mapping'!$A:$B,2,0),"") | BJ19: =IFERROR(VLOOKUP(AF19,'10__mapping'!$A:$B,2,0),"") | BK19: =IFERROR(VLOOKUP(AK19,'11__mapping'!$A:$B,2,0),"") | BL19: =IFERROR(VLOOKUP(AQ19,'12__mapping'!$A:$B,2,0),"") | BM19: =IFERROR(VLOOKUP(AT19,'13__mapping'!$A:$B,2,0),"") | BN19: =IFERROR(VLOOKUP(AU19,'14__mapping'!$A:$B,2,0),"") | BO19: =IFERROR(VLOOKUP(AV19,'15__mapping'!$A:$B,2,0),"") | BP19: =IFERROR(VLOOKUP(AW19,'16__mapping'!$A:$B,2,0),"") | BQ19: =IFERROR(VLOOKUP(AX19,'17__mapping'!$A:$B,2,0),"")
A20: Create | AZ20: =IFERROR(VLOOKUP(A20,'0__mapping'!$A:$B,2,0),"") -> CREATE | BA20: =IFERROR(VLOOKUP(C20,'1__mapping'!$A:$B,2,0),"") | BB20: =INDEX('2__mapping'!B2:'2__mapping'!B1,MATCH(BA20&D20, INDEX('2__mapping'!C1:C2&'2__mapping'!A1:A2,),0)) -> 0 | BC20: =IFERROR(VLOOKUP(E20,'3__mapping'!$A:$B,2,0),"") | BD20: =IFERROR(VLOOKUP(G20,'4__mapping'!$A:$B,2,0),"") | BE20: =IFERROR(VLOOKUP(J20,'5__mapping'!$A:$B,2,0),"") | BF20: =IFERROR(VLOOKUP(K20,'6__mapping'!$A:$B,2,0),"") | BG20: =IFERROR(VLOOKUP(N20,'7__mapping'!$A:$B,2,0),"") | BH20: =IFERROR(VLOOKUP(AA20,'8__mapping'!$A:$B,2,0),"") | BI20: =IFERROR(VLOOKUP(AC20,'9__mapping'!$A:$B,2,0),"") | BJ20: =IFERROR(VLOOKUP(AF20,'10__mapping'!$A:$B,2,0),"") | BK20: =IFERROR(VLOOKUP(AK20,'11__mapping'!$A:$B,2,0),"") | BL20: =IFERROR(VLOOKUP(AQ20,'12__mapping'!$A:$B,2,0),"") | BM20: =IFERROR(VLOOKUP(AT20,'13__mapping'!$A:$B,2,0),"") | BN20: =IFERROR(VLOOKUP(AU20,'14__mapping'!$A:$B,2,0),"") | BO20: =IFERROR(VLOOKUP(AV20,'15__mapping'!$A:$B,2,0),"") | BP20: =IFERROR(VLOOKUP(AW20,'16__mapping'!$A:$B,2,0),"") | BQ20: =IFERROR(VLOOKUP(AX20,'17__mapping'!$A:$B,2,0),"")
A21: Create | AZ21: =IFERROR(VLOOKUP(A21,'0__mapping'!$A:$B,2,0),"") -> CREATE | BA21: =IFERROR(VLOOKUP(C21,'1__mapping'!$A:$B,2,0),"") | BB21: =INDEX('2__mapping'!B2:'2__mapping'!B1,MATCH(BA21&D21, INDEX('2__mapping'!C1:C2&'2__mapping'!A1:A2,),0)) -> 0 | BC21: =IFERROR(VLOOKUP(E21,'3__mapping'!$A:$B,2,0),"") | BD21: =IFERROR(VLOOKUP(G21,'4__mapping'!$A:$B,2,0),"") | BE21: =IFERROR(VLOOKUP(J21,'5__mapping'!$A:$B,2,0),"") | BF21: =IFERROR(VLOOKUP(K21,'6__mapping'!$A:$B,2,0),"") | BG21: =IFERROR(VLOOKUP(N21,'7__mapping'!$A:$B,2,0),"") | BH21: =IFERROR(VLOOKUP(AA21,'8__mapping'!$A:$B,2,0),"") | BI21: =IFERROR(VLOOKUP(AC21,'9__mapping'!$A:$B,2,0),"") | BJ21: =IFERROR(VLOOKUP(AF21,'10__mapping'!$A:$B,2,0),"") | BK21: =IFERROR(VLOOKUP(AK21,'11__mapping'!$A:$B,2,0),"") | BL21: =IFERROR(VLOOKUP(AQ21,'12__mapping'!$A:$B,2,0),"") | BM21: =IFERROR(VLOOKUP(AT21,'13__mapping'!$A:$B,2,0),"") | BN21: =IFERROR(VLOOKUP(AU21,'14__mapping'!$A:$B,2,0),"") | BO21: =IFERROR(VLOOKUP(AV21,'15__mapping'!$A:$B,2,0),"") | BP21: =IFERROR(VLOOKUP(AW21,'16__mapping'!$A:$B,2,0),"") | BQ21: =IFERROR(VLOOKUP(AX21,'17__mapping'!$A:$B,2,0),"")
A22: Create | AZ22: =IFERROR(VLOOKUP(A22,'0__mapping'!$A:$B,2,0),"") -> CREATE | BA22: =IFERROR(VLOOKUP(C22,'1__mapping'!$A:$B,2,0),"") | BB22: =INDEX('2__mapping'!B2:'2__mapping'!B1,MATCH(BA22&D22, INDEX('2__mapping'!C1:C2&'2__mapping'!A1:A2,),0)) -> 0 | BC22: =IFERROR(VLOOKUP(E22,'3__mapping'!$A:$B,2,0),"") | BD22: =IFERROR(VLOOKUP(G22,'4__mapping'!$A:$B,2,0),"") | BE22: =IFERROR(VLOOKUP(J22,'5__mapping'!$A:$B,2,0),"") | BF22: =IFERROR(VLOOKUP(K22,'6__mapping'!$A:$B,2,0),"") | BG22: =IFERROR(VLOOKUP(N22,'7__mapping'!$A:$B,2,0),"") | BH22: =IFERROR(VLOOKUP(AA22,'8__mapping'!$A:$B,2,0),"") | BI22: =IFERROR(VLOOKUP(AC22,'9__mapping'!$A:$B,2,0),"") | BJ22: =IFERROR(VLOOKUP(AF22,'10__mapping'!$A:$B,2,0),"") | BK22: =IFERROR(VLOOKUP(AK22,'11__mapping'!$A:$B,2,0),"") | BL22: =IFERROR(VLOOKUP(AQ22,'12__mapping'!$A:$B,2,0),"") | BM22: =IFERROR(VLOOKUP(AT22,'13__mapping'!$A:$B,2,0),"") | BN22: =IFERROR(VLOOKUP(AU22,'14__mapping'!$A:$B,2,0),"") | BO22: =IFERROR(VLOOKUP(AV22,'15__mapping'!$A:$B,2,0),"") | BP22: =IFERROR(VLOOKUP(AW22,'16__mapping'!$A:$B,2,0),"") | BQ22: =IFERROR(VLOOKUP(AX22,'17__mapping'!$A:$B,2,0),"")
A23: Create | AZ23: =IFERROR(VLOOKUP(A23,'0__mapping'!$A:$B,2,0),"") -> CREATE | BA23: =IFERROR(VLOOKUP(C23,'1__mapping'!$A:$B,2,0),"") | BB23: =INDEX('2__mapping'!B2:'2__mapping'!B1,MATCH(BA23&D23, INDEX('2__mapping'!C1:C2&'2__mapping'!A1:A2,),0)) -> 0 | BC23: =IFERROR(VLOOKUP(E23,'3__mapping'!$A:$B,2,0),"") | BD23: =IFERROR(VLOOKUP(G23,'4__mapping'!$A:$B,2,0),"") | BE23: =IFERROR(VLOOKUP(J23,'5__mapping'!$A:$B,2,0),"") | BF23: =IFERROR(VLOOKUP(K23,'6__mapping'!$A:$B,2,0),"") | BG23: =IFERROR(VLOOKUP(N23,'7__mapping'!$A:$B,2,0),"") | BH23: =IFERROR(VLOOKUP(AA23,'8__mapping'!$A:$B,2,0),"") | BI23: =IFERROR(VLOOKUP(AC23,'9__mapping'!$A:$B,2,0),"") | BJ23: =IFERROR(VLOOKUP(AF23,'10__mapping'!$A:$B,2,0),"") | BK23: =IFERROR(VLOOKUP(AK23,'11__mapping'!$A:$B,2,0),"") | BL23: =IFERROR(VLOOKUP(AQ23,'12__mapping'!$A:$B,2,0),"") | BM23: =IFERROR(VLOOKUP(AT23,'13__mapping'!$A:$B,2,0),"") | BN23: =IFERROR(VLOOKUP(AU23,'14__mapping'!$A:$B,2,0),"") | BO23: =IFERROR(VLOOKUP(AV23,'15__mapping'!$A:$B,2,0),"") | BP23: =IFERROR(VLOOKUP(AW23,'16__mapping'!$A:$B,2,0),"") | BQ23: =IFERROR(VLOOKUP(AX23,'17__mapping'!$A:$B,2,0),"")
A24: Create | AZ24: =IFERROR(VLOOKUP(A24,'0__mapping'!$A:$B,2,0),"") -> CREATE | BA24: =IFERROR(VLOOKUP(C24,'1__mapping'!$A:$B,2,0),"") | BB24: =INDEX('2__mapping'!B2:'2__mapping'!B1,MATCH(BA24&D24, INDEX('2__mapping'!C1:C2&'2__mapping'!A1:A2,),0)) -> 0 | BC24: =IFERROR(VLOOKUP(E24,'3__mapping'!$A:$B,2,0),"") | BD24: =IFERROR(VLOOKUP(G24,'4__mapping'!$A:$B,2,0),"") | BE24: =IFERROR(VLOOKUP(J24,'5__mapping'!$A:$B,2,0),"") | BF24: =IFERROR(VLOOKUP(K24,'6__mapping'!$A:$B,2,0),"") | BG24: =IFERROR(VLOOKUP(N24,'7__mapping'!$A:$B,2,0),"") | BH24: =IFERROR(VLOOKUP(AA24,'8__mapping'!$A:$B,2,0),"") | BI24: =IFERROR(VLOOKUP(AC24,'9__mapping'!$A:$B,2,0),"") | BJ24: =IFERROR(VLOOKUP(AF24,'10__mapping'!$A:$B,2,0),"") | BK24: =IFERROR(VLOOKUP(AK24,'11__mapping'!$A:$B,2,0),"") | BL24: =IFERROR(VLOOKUP(AQ24,'12__mapping'!$A:$B,2,0),"") | BM24: =IFERROR(VLOOKUP(AT24,'13__mapping'!$A:$B,2,0),"") | BN24: =IFERROR(VLOOKUP(AU24,'14__mapping'!$A:$B,2,0),"") | BO24: =IFERROR(VLOOKUP(AV24,'15__mapping'!$A:$B,2,0),"") | BP24: =IFERROR(VLOOKUP(AW24,'16__mapping'!$A:$B,2,0),"") | BQ24: =IFERROR(VLOOKUP(AX24,'17__mapping'!$A:$B,2,0),"")
A25: Create | AZ25: =IFERROR(VLOOKUP(A25,'0__mapping'!$A:$B,2,0),"") -> CREATE | BA25: =IFERROR(VLOOKUP(C25,'1__mapping'!$A:$B,2,0),"") | BB25: =INDEX('2__mapping'!B2:'2__mapping'!B1,MATCH(BA25&D25, INDEX('2__mapping'!C1:C2&'2__mapping'!A1:A2,),0)) -> 0 | BC25: =IFERROR(VLOOKUP(E25,'3__mapping'!$A:$B,2,0),"") | BD25: =IFERROR(VLOOKUP(G25,'4__mapping'!$A:$B,2,0),"") | BE25: =IFERROR(VLOOKUP(J25,'5__mapping'!$A:$B,2,0),"") | BF25: =IFERROR(VLOOKUP(K25,'6__mapping'!$A:$B,2,0),"") | BG25: =IFERROR(VLOOKUP(N25,'7__mapping'!$A:$B,2,0),"") | BH25: =IFERROR(VLOOKUP(AA25,'8__mapping'!$A:$B,2,0),"") | BI25: =IFERROR(VLOOKUP(AC25,'9__mapping'!$A:$B,2,0),"") | BJ25: =IFERROR(VLOOKUP(AF25,'10__mapping'!$A:$B,2,0),"") | BK25: =IFERROR(VLOOKUP(AK25,'11__mapping'!$A:$B,2,0),"") | BL25: =IFERROR(VLOOKUP(AQ25,'12__mapping'!$A:$B,2,0),"") | BM25: =IFERROR(VLOOKUP(AT25,'13__mapping'!$A:$B,2,0),"") | BN25: =IFERROR(VLOOKUP(AU25,'14__mapping'!$A:$B,2,0),"") | BO25: =IFERROR(VLOOKUP(AV25,'15__mapping'!$A:$B,2,0),"") | BP25: =IFERROR(VLOOKUP(AW25,'16__mapping'!$A:$B,2,0),"") | BQ25: =IFERROR(VLOOKUP(AX25,'17__mapping'!$A:$B,2,0),"")
A26: Create | AZ26: =IFERROR(VLOOKUP(A26,'0__mapping'!$A:$B,2,0),"") -> CREATE | BA26: =IFERROR(VLOOKUP(C26,'1__mapping'!$A:$B,2,0),"") | BB26: =INDEX('2__mapping'!B2:'2__mapping'!B1,MATCH(BA26&D26, INDEX('2__mapping'!C1:C2&'2__mapping'!A1:A2,),0)) -> 0 | BC26: =IFERROR(VLOOKUP(E26,'3__mapping'!$A:$B,2,0),"") | BD26: =IFERROR(VLOOKUP(G26,'4__mapping'!$A:$B,2,0),"") | BE26: =IFERROR(VLOOKUP(J26,'5__mapping'!$A:$B,2,0),"") | BF26: =IFERROR(VLOOKUP(K26,'6__mapping'!$A:$B,2,0),"") | BG26: =IFERROR(VLOOKUP(N26,'7__mapping'!$A:$B,2,0),"") | BH26: =IFERROR(VLOOKUP(AA26,'8__mapping'!$A:$B,2,0),"") | BI26: =IFERROR(VLOOKUP(AC26,'9__mapping'!$A:$B,2,0),"") | BJ26: =IFERROR(VLOOKUP(AF26,'10__mapping'!$A:$B,2,0),"") | BK26: =IFERROR(VLOOKUP(AK26,'11__mapping'!$A:$B,2,0),"") | BL26: =IFERROR(VLOOKUP(AQ26,'12__mapping'!$A:$B,2,0),"") | BM26: =IFERROR(VLOOKUP(AT26,'13__mapping'!$A:$B,2,0),"") | BN26: =IFERROR(VLOOKUP(AU26,'14__mapping'!$A:$B,2,0),"") | BO26: =IFERROR(VLOOKUP(AV26,'15__mapping'!$A:$B,2,0),"") | BP26: =IFERROR(VLOOKUP(AW26,'16__mapping'!$A:$B,2,0),"") | BQ26: =IFERROR(VLOOKUP(AX26,'17__mapping'!$A:$B,2,0),"")
A27: Create | AZ27: =IFERROR(VLOOKUP(A27,'0__mapping'!$A:$B,2,0),"") -> CREATE | BA27: =IFERROR(VLOOKUP(C27,'1__mapping'!$A:$B,2,0),"") | BB27: =INDEX('2__mapping'!B2:'2__mapping'!B1,MATCH(BA27&D27, INDEX('2__mapping'!C1:C2&'2__mapping'!A1:A2,),0)) -> 0 | BC27: =IFERROR(VLOOKUP(E27,'3__mapping'!$A:$B,2,0),"") | BD27: =IFERROR(VLOOKUP(G27,'4__mapping'!$A:$B,2,0),"") | BE27: =IFERROR(VLOOKUP(J27,'5__mapping'!$A:$B,2,0),"") | BF27: =IFERROR(VLOOKUP(K27,'6__mapping'!$A:$B,2,0),"") | BG27: =IFERROR(VLOOKUP(N27,'7__mapping'!$A:$B,2,0),"") | BH27: =IFERROR(VLOOKUP(AA27,'8__mapping'!$A:$B,2,0),"") | BI27: =IFERROR(VLOOKUP(AC27,'9__mapping'!$A:$B,2,0),"") | BJ27: =IFERROR(VLOOKUP(AF27,'10__mapping'!$A:$B,2,0),"") | BK27: =IFERROR(VLOOKUP(AK27,'11__mapping'!$A:$B,2,0),"") | BL27: =IFERROR(VLOOKUP(AQ27,'12__mapping'!$A:$B,2,0),"") | BM27: =IFERROR(VLOOKUP(AT27,'13__mapping'!$A:$B,2,0),"") | BN27: =IFERROR(VLOOKUP(AU27,'14__mapping'!$A:$B,2,0),"") | BO27: =IFERROR(VLOOKUP(AV27,'15__mapping'!$A:$B,2,0),"") | BP27: =IFERROR(VLOOKUP(AW27,'16__mapping'!$A:$B,2,0),"") | BQ27: =IFERROR(VLOOKUP(AX27,'17__mapping'!$A:$B,2,0),"")
A28: Create | AZ28: =IFERROR(VLOOKUP(A28,'0__mapping'!$A:$B,2,0),"") -> CREATE | BA28: =IFERROR(VLOOKUP(C28,'1__mapping'!$A:$B,2,0),"") | BB28: =INDEX('2__mapping'!B2:'2__mapping'!B1,MATCH(BA28&D28, INDEX('2__mapping'!C1:C2&'2__mapping'!A1:A2,),0)) -> 0 | BC28: =IFERROR(VLOOKUP(E28,'3__mapping'!$A:$B,2,0),"") | BD28: =IFERROR(VLOOKUP(G28,'4__mapping'!$A:$B,2,0),"") | BE28: =IFERROR(VLOOKUP(J28,'5__mapping'!$A:$B,2,0),"") | BF28: =IFERROR(VLOOKUP(K28,'6__mapping'!$A:$B,2,0),"") | BG28: =IFERROR(VLOOKUP(N28,'7__mapping'!$A:$B,2,0),"") | BH28: =IFERROR(VLOOKUP(AA28,'8__mapping'!$A:$B,2,0),"") | BI28: =IFERROR(VLOOKUP(AC28,'9__mapping'!$A:$B,2,0),"") | BJ28: =IFERROR(VLOOKUP(AF28,'10__mapping'!$A:$B,2,0),"") | BK28: =IFERROR(VLOOKUP(AK28,'11__mapping'!$A:$B,2,0),"") | BL28: =IFERROR(VLOOKUP(AQ28,'12__mapping'!$A:$B,2,0),"") | BM28: =IFERROR(VLOOKUP(AT28,'13__mapping'!$A:$B,2,0),"") | BN28: =IFERROR(VLOOKUP(AU28,'14__mapping'!$A:$B,2,0),"") | BO28: =IFERROR(VLOOKUP(AV28,'15__mapping'!$A:$B,2,0),"") | BP28: =IFERROR(VLOOKUP(AW28,'16__mapping'!$A:$B,2,0),"") | BQ28: =IFERROR(VLOOKUP(AX28,'17__mapping'!$A:$B,2,0),"")
A29: Create | AZ29: =IFERROR(VLOOKUP(A29,'0__mapping'!$A:$B,2,0),"") -> CREATE | BA29: =IFERROR(VLOOKUP(C29,'1__mapping'!$A:$B,2,0),"") | BB29: =INDEX('2__mapping'!B2:'2__mapping'!B1,MATCH(BA29&D29, INDEX('2__mapping'!C1:C2&'2__mapping'!A1:A2,),0)) -> 0 | BC29: =IFERROR(VLOOKUP(E29,'3__mapping'!$A:$B,2,0),"") | BD29: =IFERROR(VLOOKUP(G29,'4__mapping'!$A:$B,2,0),"") | BE29: =IFERROR(VLOOKUP(J29,'5__mapping'!$A:$B,2,0),"") | BF29: =IFERROR(VLOOKUP(K29,'6__mapping'!$A:$B,2,0),"") | BG29: =IFERROR(VLOOKUP(N29,'7__mapping'!$A:$B,2,0),"") | BH29: =IFERROR(VLOOKUP(AA29,'8__mapping'!$A:$B,2,0),"") | BI29: =IFERROR(VLOOKUP(AC29,'9__mapping'!$A:$B,2,0),"") | BJ29: =IFERROR(VLOOKUP(AF29,'10__mapping'!$A:$B,2,0),"") | BK29: =IFERROR(VLOOKUP(AK29,'11__mapping'!$A:$B,2,0),"") | BL29: =IFERROR(VLOOKUP(AQ29,'12__mapping'!$A:$B,2,0),"") | BM29: =IFERROR(VLOOKUP(AT29,'13__mapping'!$A:$B,2,0),"") | BN29: =IFERROR(VLOOKUP(AU29,'14__mapping'!$A:$B,2,0),"") | BO29: =IFERROR(VLOOKUP(AV29,'15__mapping'!$A:$B,2,0),"") | BP29: =IFERROR(VLOOKUP(AW29,'16__mapping'!$A:$B,2,0),"") | BQ29: =IFERROR(VLOOKUP(AX29,'17__mapping'!$A:$B,2,0),"")
A30: Create | AZ30: =IFERROR(VLOOKUP(A30,'0__mapping'!$A:$B,2,0),"") -> CREATE | BA30: =IFERROR(VLOOKUP(C30,'1__mapping'!$A:$B,2,0),"") | BB30: =INDEX('2__mapping'!B2:'2__mapping'!B1,MATCH(BA30&D30, INDEX('2__mapping'!C1:C2&'2__mapping'!A1:A2,),0)) -> 0 | BC30: =IFERROR(VLOOKUP(E30,'3__mapping'!$A:$B,2,0),"") | BD30: =IFERROR(VLOOKUP(G30,'4__mapping'!$A:$B,2,0),"") | BE30: =IFERROR(VLOOKUP(J30,'5__mapping'!$A:$B,2,0),"") | BF30: =IFERROR(VLOOKUP(K30,'6__mapping'!$A:$B,2,0),"") | BG30: =IFERROR(VLOOKUP(N30,'7__mapping'!$A:$B,2,0),"") | BH30: =IFERROR(VLOOKUP(AA30,'8__mapping'!$A:$B,2,0),"") | BI30: =IFERROR(VLOOKUP(AC30,'9__mapping'!$A:$B,2,0),"") | BJ30: =IFERROR(VLOOKUP(AF30,'10__mapping'!$A:$B,2,0),"") | BK30: =IFERROR(VLOOKUP(AK30,'11__mapping'!$A:$B,2,0),"") | BL30: =IFERROR(VLOOKUP(AQ30,'12__mapping'!$A:$B,2,0),"") | BM30: =IFERROR(VLOOKUP(AT30,'13__mapping'!$A:$B,2,0),"") | BN30: =IFERROR(VLOOKUP(AU30,'14__mapping'!$A:$B,2,0),"") | BO30: =IFERROR(VLOOKUP(AV30,'15__mapping'!$A:$B,2,0),"") | BP30: =IFERROR(VLOOKUP(AW30,'16__mapping'!$A:$B,2,0),"") | BQ30: =IFERROR(VLOOKUP(AX30,'17__mapping'!$A:$B,2,0),"")
A31: Create | AZ31: =IFERROR(VLOOKUP(A31,'0__mapping'!$A:$B,2,0),"") -> CREATE | BA31: =IFERROR(VLOOKUP(C31,'1__mapping'!$A:$B,2,0),"") | BB31: =INDEX('2__mapping'!B2:'2__mapping'!B1,MATCH(BA31&D31, INDEX('2__mapping'!C1:C2&'2__mapping'!A1:A2,),0)) -> 0 | BC31: =IFERROR(VLOOKUP(E31,'3__mapping'!$A:$B,2,0),"") | BD31: =IFERROR(VLOOKUP(G31,'4__mapping'!$A:$B,2,0),"") | BE31: =IFERROR(VLOOKUP(J31,'5__mapping'!$A:$B,2,0),"") | BF31: =IFERROR(VLOOKUP(K31,'6__mapping'!$A:$B,2,0),"") | BG31: =IFERROR(VLOOKUP(N31,'7__mapping'!$A:$B,2,0),"") | BH31: =IFERROR(VLOOKUP(AA31,'8__mapping'!$A:$B,2,0),"") | BI31: =IFERROR(VLOOKUP(AC31,'9__mapping'!$A:$B,2,0),"") | BJ31: =IFERROR(VLOOKUP(AF31,'10__mapping'!$A:$B,2,0),"") | BK31: =IFERROR(VLOOKUP(AK31,'11__mapping'!$A:$B,2,0),"") | BL31: =IFERROR(VLOOKUP(AQ31,'12__mapping'!$A:$B,2,0),"") | BM31: =IFERROR(VLOOKUP(AT31,'13__mapping'!$A:$B,2,0),"") | BN31: =IFERROR(VLOOKUP(AU31,'14__mapping'!$A:$B,2,0),"") | BO31: =IFERROR(VLOOKUP(AV31,'15__mapping'!$A:$B,2,0),"") | BP31: =IFERROR(VLOOKUP(AW31,'16__mapping'!$A:$B,2,0),"") | BQ31: =IFERROR(VLOOKUP(AX31,'17__mapping'!$A:$B,2,0),"")
A32: Create | AZ32: =IFERROR(VLOOKUP(A32,'0__mapping'!$A:$B,2,0),"") -> CREATE | BA32: =IFERROR(VLOOKUP(C32,'1__mapping'!$A:$B,2,0),"") | BB32: =INDEX('2__mapping'!B2:'2__mapping'!B1,MATCH(BA32&D32, INDEX('2__mapping'!C1:C2&'2__mapping'!A1:A2,),0)) -> 0 | BC32: =IFERROR(VLOOKUP(E32,'3__mapping'!$A:$B,2,0),"") | BD32: =IFERROR(VLOOKUP(G32,'4__mapping'!$A:$B,2,0),"") | BE32: =IFERROR(VLOOKUP(J32,'5__mapping'!$A:$B,2,0),"") | BF32: =IFERROR(VLOOKUP(K32,'6__mapping'!$A:$B,2,0),"") | BG32: =IFERROR(VLOOKUP(N32,'7__mapping'!$A:$B,2,0),"") | BH32: =IFERROR(VLOOKUP(AA32,'8__mapping'!$A:$B,2,0),"") | BI32: =IFERROR(VLOOKUP(AC32,'9__mapping'!$A:$B,2,0),"") | BJ32: =IFERROR(VLOOKUP(AF32,'10__mapping'!$A:$B,2,0),"") | BK32: =IFERROR(VLOOKUP(AK32,'11__mapping'!$A:$B,2,0),"") | BL32: =IFERROR(VLOOKUP(AQ32,'12__mapping'!$A:$B,2,0),"") | BM32: =IFERROR(VLOOKUP(AT32,'13__mapping'!$A:$B,2,0),"") | BN32: =IFERROR(VLOOKUP(AU32,'14__mapping'!$A:$B,2,0),"") | BO32: =IFERROR(VLOOKUP(AV32,'15__mapping'!$A:$B,2,0),"") | BP32: =IFERROR(VLOOKUP(AW32,'16__mapping'!$A:$B,2,0),"") | BQ32: =IFERROR(VLOOKUP(AX32,'17__mapping'!$A:$B,2,0),"")
A33: Create | AZ33: =IFERROR(VLOOKUP(A33,'0__mapping'!$A:$B,2,0),"") -> CREATE | BA33: =IFERROR(VLOOKUP(C33,'1__mapping'!$A:$B,2,0),"") | BB33: =INDEX('2__mapping'!B2:'2__mapping'!B1,MATCH(BA33&D33, INDEX('2__mapping'!C1:C2&'2__mapping'!A1:A2,),0)) -> 0 | BC33: =IFERROR(VLOOKUP(E33,'3__mapping'!$A:$B,2,0),"") | BD33: =IFERROR(VLOOKUP(G33,'4__mapping'!$A:$B,2,0),"") | BE33: =IFERROR(VLOOKUP(J33,'5__mapping'!$A:$B,2,0),"") | BF33: =IFERROR(VLOOKUP(K33,'6__mapping'!$A:$B,2,0),"") | BG33: =IFERROR(VLOOKUP(N33,'7__mapping'!$A:$B,2,0),"") | BH33: =IFERROR(VLOOKUP(AA33,'8__mapping'!$A:$B,2,0),"") | BI33: =IFERROR(VLOOKUP(AC33,'9__mapping'!$A:$B,2,0),"") | BJ33: =IFERROR(VLOOKUP(AF33,'10__mapping'!$A:$B,2,0),"") | BK33: =IFERROR(VLOOKUP(AK33,'11__mapping'!$A:$B,2,0),"") | BL33: =IFERROR(VLOOKUP(AQ33,'12__mapping'!$A:$B,2,0),"") | BM33: =IFERROR(VLOOKUP(AT33,'13__mapping'!$A:$B,2,0),"") | BN33: =IFERROR(VLOOKUP(AU33,'14__mapping'!$A:$B,2,0),"") | BO33: =IFERROR(VLOOKUP(AV33,'15__mapping'!$A:$B,2,0),"") | BP33: =IFERROR(VLOOKUP(AW33,'16__mapping'!$A:$B,2,0),"") | BQ33: =IFERROR(VLOOKUP(AX33,'17__mapping'!$A:$B,2,0),"")
A34: Create | AZ34: =IFERROR(VLOOKUP(A34,'0__mapping'!$A:$B,2,0),"") -> CREATE | BA34: =IFERROR(VLOOKUP(C34,'1__mapping'!$A:$B,2,0),"") | BB34: =INDEX('2__mapping'!B2:'2__mapping'!B1,MATCH(BA34&D34, INDEX('2__mapping'!C1:C2&'2__mapping'!A1:A2,),0)) -> 0 | BC34: =IFERROR(VLOOKUP(E34,'3__mapping'!$A:$B,2,0),"") | BD34: =IFERROR(VLOOKUP(G34,'4__mapping'!$A:$B,2,0),"") | BE34: =IFERROR(VLOOKUP(J34,'5__mapping'!$A:$B,2,0),"") | BF34: =IFERROR(VLOOKUP(K34,'6__mapping'!$A:$B,2,0),"") | BG34: =IFERROR(VLOOKUP(N34,'7__mapping'!$A:$B,2,0),"") | BH34: =IFERROR(VLOOKUP(AA34,'8__mapping'!$A:$B,2,0),"") | BI34: =IFERROR(VLOOKUP(AC34,'9__mapping'!$A:$B,2,0),"") | BJ34: =IFERROR(VLOOKUP(AF34,'10__mapping'!$A:$B,2,0),"") | BK34: =IFERROR(VLOOKUP(AK34,'11__mapping'!$A:$B,2,0),"") | BL34: =IFERROR(VLOOKUP(AQ34,'12__mapping'!$A:$B,2,0),"") | BM34: =IFERROR(VLOOKUP(AT34,'13__mapping'!$A:$B,2,0),"") | BN34: =IFERROR(VLOOKUP(AU34,'14__mapping'!$A:$B,2,0),"") | BO34: =IFERROR(VLOOKUP(AV34,'15__mapping'!$A:$B,2,0),"") | BP34: =IFERROR(VLOOKUP(AW34,'16__mapping'!$A:$B,2,0),"") | BQ34: =IFERROR(VLOOKUP(AX34,'17__mapping'!$A:$B,2,0),"")
A35: Create | AZ35: =IFERROR(VLOOKUP(A35,'0__mapping'!$A:$B,2,0),"") -> CREATE | BA35: =IFERROR(VLOOKUP(C35,'1__mapping'!$A:$B,2,0),"") | BB35: =INDEX('2__mapping'!B2:'2__mapping'!B1,MATCH(BA35&D35, INDEX('2__mapping'!C1:C2&'2__mapping'!A1:A2,),0)) -> 0 | BC35: =IFERROR(VLOOKUP(E35,'3__mapping'!$A:$B,2,0),"") | BD35: =IFERROR(VLOOKUP(G35,'4__mapping'!$A:$B,2,0),"") | BE35: =IFERROR(VLOOKUP(J35,'5__mapping'!$A:$B,2,0),"") | BF35: =IFERROR(VLOOKUP(K35,'6__mapping'!$A:$B,2,0),"") | BG35: =IFERROR(VLOOKUP(N35,'7__mapping'!$A:$B,2,0),"") | BH35: =IFERROR(VLOOKUP(AA35,'8__mapping'!$A:$B,2,0),"") | BI35: =IFERROR(VLOOKUP(AC35,'9__mapping'!$A:$B,2,0),"") | BJ35: =IFERROR(VLOOKUP(AF35,'10__mapping'!$A:$B,2,0),"") | BK35: =IFERROR(VLOOKUP(AK35,'11__mapping'!$A:$B,2,0),"") | BL35: =IFERROR(VLOOKUP(AQ35,'12__mapping'!$A:$B,2,0),"") | BM35: =IFERROR(VLOOKUP(AT35,'13__mapping'!$A:$B,2,0),"") | BN35: =IFERROR(VLOOKUP(AU35,'14__mapping'!$A:$B,2,0),"") | BO35: =IFERROR(VLOOKUP(AV35,'15__mapping'!$A:$B,2,0),"") | BP35: =IFERROR(VLOOKUP(AW35,'16__mapping'!$A:$B,2,0),"") | BQ35: =IFERROR(VLOOKUP(AX35,'17__mapping'!$A:$B,2,0),"")
A36: Create | AZ36: =IFERROR(VLOOKUP(A36,'0__mapping'!$A:$B,2,0),"") -> CREATE | BA36: =IFERROR(VLOOKUP(C36,'1__mapping'!$A:$B,2,0),"") | BB36: =INDEX('2__mapping'!B2:'2__mapping'!B1,MATCH(BA36&D36, INDEX('2__mapping'!C1:C2&'2__mapping'!A1:A2,),0)) -> 0 | BC36: =IFERROR(VLOOKUP(E36,'3__mapping'!$A:$B,2,0),"") | BD36: =IFERROR(VLOOKUP(G36,'4__mapping'!$A:$B,2,0),"") | BE36: =IFERROR(VLOOKUP(J36,'5__mapping'!$A:$B,2,0),"") | BF36: =IFERROR(VLOOKUP(K36,'6__mapping'!$A:$B,2,0),"") | BG36: =IFERROR(VLOOKUP(N36,'7__mapping'!$A:$B,2,0),"") | BH36: =IFERROR(VLOOKUP(AA36,'8__mapping'!$A:$B,2,0),"") | BI36: =IFERROR(VLOOKUP(AC36,'9__mapping'!$A:$B,2,0),"") | BJ36: =IFERROR(VLOOKUP(AF36,'10__mapping'!$A:$B,2,0),"") | BK36: =IFERROR(VLOOKUP(AK36,'11__mapping'!$A:$B,2,0),"") | BL36: =IFERROR(VLOOKUP(AQ36,'12__mapping'!$A:$B,2,0),"") | BM36: =IFERROR(VLOOKUP(AT36,'13__mapping'!$A:$B,2,0),"") | BN36: =IFERROR(VLOOKUP(AU36,'14__mapping'!$A:$B,2,0),"") | BO36: =IFERROR(VLOOKUP(AV36,'15__mapping'!$A:$B,2,0),"") | BP36: =IFERROR(VLOOKUP(AW36,'16__mapping'!$A:$B,2,0),"") | BQ36: =IFERROR(VLOOKUP(AX36,'17__mapping'!$A:$B,2,0),"")
A37: Create | AZ37: =IFERROR(VLOOKUP(A37,'0__mapping'!$A:$B,2,0),"") -> CREATE | BA37: =IFERROR(VLOOKUP(C37,'1__mapping'!$A:$B,2,0),"") | BB37: =INDEX('2__mapping'!B2:'2__mapping'!B1,MATCH(BA37&D37, INDEX('2__mapping'!C1:C2&'2__mapping'!A1:A2,),0)) -> 0 | BC37: =IFERROR(VLOOKUP(E37,'3__mapping'!$A:$B,2,0),"") | BD37: =IFERROR(VLOOKUP(G37,'4__mapping'!$A:$B,2,0),"") | BE37: =IFERROR(VLOOKUP(J37,'5__mapping'!$A:$B,2,0),"") | BF37: =IFERROR(VLOOKUP(K37,'6__mapping'!$A:$B,2,0),"") | BG37: =IFERROR(VLOOKUP(N37,'7__mapping'!$A:$B,2,0),"") | BH37: =IFERROR(VLOOKUP(AA37,'8__mapping'!$A:$B,2,0),"") | BI37: =IFERROR(VLOOKUP(AC37,'9__mapping'!$A:$B,2,0),"") | BJ37: =IFERROR(VLOOKUP(AF37,'10__mapping'!$A:$B,2,0),"") | BK37: =IFERROR(VLOOKUP(AK37,'11__mapping'!$A:$B,2,0),"") | BL37: =IFERROR(VLOOKUP(AQ37,'12__mapping'!$A:$B,2,0),"") | BM37: =IFERROR(VLOOKUP(AT37,'13__mapping'!$A:$B,2,0),"") | BN37: =IFERROR(VLOOKUP(AU37,'14__mapping'!$A:$B,2,0),"") | BO37: =IFERROR(VLOOKUP(AV37,'15__mapping'!$A:$B,2,0),"") | BP37: =IFERROR(VLOOKUP(AW37,'16__mapping'!$A:$B,2,0),"") | BQ37: =IFERROR(VLOOKUP(AX37,'17__mapping'!$A:$B,2,0),"")
A38: Create | AZ38: =IFERROR(VLOOKUP(A38,'0__mapping'!$A:$B,2,0),"") -> CREATE | BA38: =IFERROR(VLOOKUP(C38,'1__mapping'!$A:$B,2,0),"") | BB38: =INDEX('2__mapping'!B2:'2__mapping'!B1,MATCH(BA38&D38, INDEX('2__mapping'!C1:C2&'2__mapping'!A1:A2,),0)) -> 0 | BC38: =IFERROR(VLOOKUP(E38,'3__mapping'!$A:$B,2,0),"") | BD38: =IFERROR(VLOOKUP(G38,'4__mapping'!$A:$B,2,0),"") | BE38: =IFERROR(VLOOKUP(J38,'5__mapping'!$A:$B,2,0),"") | BF38: =IFERROR(VLOOKUP(K38,'6__mapping'!$A:$B,2,0),"") | BG38: =IFERROR(VLOOKUP(N38,'7__mapping'!$A:$B,2,0),"") | BH38: =IFERROR(VLOOKUP(AA38,'8__mapping'!$A:$B,2,0),"") | BI38: =IFERROR(VLOOKUP(AC38,'9__mapping'!$A:$B,2,0),"") | BJ38: =IFERROR(VLOOKUP(AF38,'10__mapping'!$A:$B,2,0),"") | BK38: =IFERROR(VLOOKUP(AK38,'11__mapping'!$A:$B,2,0),"") | BL38: =IFERROR(VLOOKUP(AQ38,'12__mapping'!$A:$B,2,0),"") | BM38: =IFERROR(VLOOKUP(AT38,'13__mapping'!$A:$B,2,0),"") | BN38: =IFERROR(VLOOKUP(AU38,'14__mapping'!$A:$B,2,0),"") | BO38: =IFERROR(VLOOKUP(AV38,'15__mapping'!$A:$B,2,0),"") | BP38: =IFERROR(VLOOKUP(AW38,'16__mapping'!$A:$B,2,0),"") | BQ38: =IFERROR(VLOOKUP(AX38,'17__mapping'!$A:$B,2,0),"")
A39: Create | AZ39: =IFERROR(VLOOKUP(A39,'0__mapping'!$A:$B,2,0),"") -> CREATE | BA39: =IFERROR(VLOOKUP(C39,'1__mapping'!$A:$B,2,0),"") | BB39: =INDEX('2__mapping'!B2:'2__mapping'!B1,MATCH(BA39&D39, INDEX('2__mapping'!C1:C2&'2__mapping'!A1:A2,),0)) -> 0 | BC39: =IFERROR(VLOOKUP(E39,'3__mapping'!$A:$B,2,0),"") | BD39: =IFERROR(VLOOKUP(G39,'4__mapping'!$A:$B,2,0),"") | BE39: =IFERROR(VLOOKUP(J39,'5__mapping'!$A:$B,2,0),"") | BF39: =IFERROR(VLOOKUP(K39,'6__mapping'!$A:$B,2,0),"") | BG39: =IFERROR(VLOOKUP(N39,'7__mapping'!$A:$B,2,0),"") | BH39: =IFERROR(VLOOKUP(AA39,'8__mapping'!$A:$B,2,0),"") | BI39: =IFERROR(VLOOKUP(AC39,'9__mapping'!$A:$B,2,0),"") | BJ39: =IFERROR(VLOOKUP(AF39,'10__mapping'!$A:$B,2,0),"") | BK39: =IFERROR(VLOOKUP(AK39,'11__mapping'!$A:$B,2,0),"") | BL39: =IFERROR(VLOOKUP(AQ39,'12__mapping'!$A:$B,2,0),"") | BM39: =IFERROR(VLOOKUP(AT39,'13__mapping'!$A:$B,2,0),"") | BN39: =IFERROR(VLOOKUP(AU39,'14__mapping'!$A:$B,2,0),"") | BO39: =IFERROR(VLOOKUP(AV39,'15__mapping'!$A:$B,2,0),"") | BP39: =IFERROR(VLOOKUP(AW39,'16__mapping'!$A:$B,2,0),"") | BQ39: =IFERROR(VLOOKUP(AX39,'17__mapping'!$A:$B,2,0),"")
A40: Create | AZ40: =IFERROR(VLOOKUP(A40,'0__mapping'!$A:$B,2,0),"") -> CREATE | BA40: =IFERROR(VLOOKUP(C40,'1__mapping'!$A:$B,2,0),"") | BB40: =INDEX('2__mapping'!B2:'2__mapping'!B1,MATCH(BA40&D40, INDEX('2__mapping'!C1:C2&'2__mapping'!A1:A2,),0)) -> 0 | BC40: =IFERROR(VLOOKUP(E40,'3__mapping'!$A:$B,2,0),"") | BD40: =IFERROR(VLOOKUP(G40,'4__mapping'!$A:$B,2,0),"") | BE40: =IFERROR(VLOOKUP(J40,'5__mapping'!$A:$B,2,0),"") | BF40: =IFERROR(VLOOKUP(K40,'6__mapping'!$A:$B,2,0),"") | BG40: =IFERROR(VLOOKUP(N40,'7__mapping'!$A:$B,2,0),"") | BH40: =IFERROR(VLOOKUP(AA40,'8__mapping'!$A:$B,2,0),"") | BI40: =IFERROR(VLOOKUP(AC40,'9__mapping'!$A:$B,2,0),"") | BJ40: =IFERROR(VLOOKUP(AF40,'10__mapping'!$A:$B,2,0),"") | BK40: =IFERROR(VLOOKUP(AK40,'11__mapping'!$A:$B,2,0),"") | BL40: =IFERROR(VLOOKUP(AQ40,'12__mapping'!$A:$B,2,0),"") | BM40: =IFERROR(VLOOKUP(AT40,'13__mapping'!$A:$B,2,0),"") | BN40: =IFERROR(VLOOKUP(AU40,'14__mapping'!$A:$B,2,0),"") | BO40: =IFERROR(VLOOKUP(AV40,'15__mapping'!$A:$B,2,0),"") | BP40: =IFERROR(VLOOKUP(AW40,'16__mapping'!$A:$B,2,0),"") | BQ40: =IFERROR(VLOOKUP(AX40,'17__mapping'!$A:$B,2,0),"")
A41: Create | AZ41: =IFERROR(VLOOKUP(A41,'0__mapping'!$A:$B,2,0),"") -> CREATE | BA41: =IFERROR(VLOOKUP(C41,'1__mapping'!$A:$B,2,0),"") | BB41: =INDEX('2__mapping'!B2:'2__mapping'!B1,MATCH(BA41&D41, INDEX('2__mapping'!C1:C2&'2__mapping'!A1:A2,),0)) -> 0 | BC41: =IFERROR(VLOOKUP(E41,'3__mapping'!$A:$B,2,0),"") | BD41: =IFERROR(VLOOKUP(G41,'4__mapping'!$A:$B,2,0),"") | BE41: =IFERROR(VLOOKUP(J41,'5__mapping'!$A:$B,2,0),"") | BF41: =IFERROR(VLOOKUP(K41,'6__mapping'!$A:$B,2,0),"") | BG41: =IFERROR(VLOOKUP(N41,'7__mapping'!$A:$B,2,0),"") | BH41: =IFERROR(VLOOKUP(AA41,'8__mapping'!$A:$B,2,0),"") | BI41: =IFERROR(VLOOKUP(AC41,'9__mapping'!$A:$B,2,0),"") | BJ41: =IFERROR(VLOOKUP(AF41,'10__mapping'!$A:$B,2,0),"") | BK41: =IFERROR(VLOOKUP(AK41,'11__mapping'!$A:$B,2,0),"") | BL41: =IFERROR(VLOOKUP(AQ41,'12__mapping'!$A:$B,2,0),"") | BM41: =IFERROR(VLOOKUP(AT41,'13__mapping'!$A:$B,2,0),"") | BN41: =IFERROR(VLOOKUP(AU41,'14__mapping'!$A:$B,2,0),"") | BO41: =IFERROR(VLOOKUP(AV41,'15__mapping'!$A:$B,2,0),"") | BP41: =IFERROR(VLOOKUP(AW41,'16__mapping'!$A:$B,2,0),"") | BQ41: =IFERROR(VLOOKUP(AX41,'17__mapping'!$A:$B,2,0),"")
A42: Create | AZ42: =IFERROR(VLOOKUP(A42,'0__mapping'!$A:$B,2,0),"") -> CREATE | BA42: =IFERROR(VLOOKUP(C42,'1__mapping'!$A:$B,2,0),"") | BB42: =INDEX('2__mapping'!B2:'2__mapping'!B1,MATCH(BA42&D42, INDEX('2__mapping'!C1:C2&'2__mapping'!A1:A2,),0)) -> 0 | BC42: =IFERROR(VLOOKUP(E42,'3__mapping'!$A:$B,2,0),"") | BD42: =IFERROR(VLOOKUP(G42,'4__mapping'!$A:$B,2,0),"") | BE42: =IFERROR(VLOOKUP(J42,'5__mapping'!$A:$B,2,0),"") | BF42: =IFERROR(VLOOKUP(K42,'6__mapping'!$A:$B,2,0),"") | BG42: =IFERROR(VLOOKUP(N42,'7__mapping'!$A:$B,2,0),"") | BH42: =IFERROR(VLOOKUP(AA42,'8__mapping'!$A:$B,2,0),"") | BI42: =IFERROR(VLOOKUP(AC42,'9__mapping'!$A:$B,2,0),"") | BJ42: =IFERROR(VLOOKUP(AF42,'10__mapping'!$A:$B,2,0),"") | BK42: =IFERROR(VLOOKUP(AK42,'11__mapping'!$A:$B,2,0),"") | BL42: =IFERROR(VLOOKUP(AQ42,'12__mapping'!$A:$B,2,0),"") | BM42: =IFERROR(VLOOKUP(AT42,'13__mapping'!$A:$B,2,0),"") | BN42: =IFERROR(VLOOKUP(AU42,'14__mapping'!$A:$B,2,0),"") | BO42: =IFERROR(VLOOKUP(AV42,'15__mapping'!$A:$B,2,0),"") | BP42: =IFERROR(VLOOKUP(AW42,'16__mapping'!$A:$B,2,0),"") | BQ42: =IFERROR(VLOOKUP(AX42,'17__mapping'!$A:$B,2,0),"")
A43: Create | AZ43: =IFERROR(VLOOKUP(A43,'0__mapping'!$A:$B,2,0),"") -> CREATE | BA43: =IFERROR(VLOOKUP(C43,'1__mapping'!$A:$B,2,0),"") | BB43: =INDEX('2__mapping'!B2:'2__mapping'!B1,MATCH(BA43&D43, INDEX('2__mapping'!C1:C2&'2__mapping'!A1:A2,),0)) -> 0 | BC43: =IFERROR(VLOOKUP(E43,'3__mapping'!$A:$B,2,0),"") | BD43: =IFERROR(VLOOKUP(G43,'4__mapping'!$A:$B,2,0),"") | BE43: =IFERROR(VLOOKUP(J43,'5__mapping'!$A:$B,2,0),"") | BF43: =IFERROR(VLOOKUP(K43,'6__mapping'!$A:$B,2,0),"") | BG43: =IFERROR(VLOOKUP(N43,'7__mapping'!$A:$B,2,0),"") | BH43: =IFERROR(VLOOKUP(AA43,'8__mapping'!$A:$B,2,0),"") | BI43: =IFERROR(VLOOKUP(AC43,'9__mapping'!$A:$B,2,0),"") | BJ43: =IFERROR(VLOOKUP(AF43,'10__mapping'!$A:$B,2,0),"") | BK43: =IFERROR(VLOOKUP(AK43,'11__mapping'!$A:$B,2,0),"") | BL43: =IFERROR(VLOOKUP(AQ43,'12__mapping'!$A:$B,2,0),"") | BM43: =IFERROR(VLOOKUP(AT43,'13__mapping'!$A:$B,2,0),"") | BN43: =IFERROR(VLOOKUP(AU43,'14__mapping'!$A:$B,2,0),"") | BO43: =IFERROR(VLOOKUP(AV43,'15__mapping'!$A:$B,2,0),"") | BP43: =IFERROR(VLOOKUP(AW43,'16__mapping'!$A:$B,2,0),"") | BQ43: =IFERROR(VLOOKUP(AX43,'17__mapping'!$A:$B,2,0),"")
A44: Create | AZ44: =IFERROR(VLOOKUP(A44,'0__mapping'!$A:$B,2,0),"") -> CREATE | BA44: =IFERROR(VLOOKUP(C44,'1__mapping'!$A:$B,2,0),"") | BB44: =INDEX('2__mapping'!B2:'2__mapping'!B1,MATCH(BA44&D44, INDEX('2__mapping'!C1:C2&'2__mapping'!A1:A2,),0)) -> 0 | BC44: =IFERROR(VLOOKUP(E44,'3__mapping'!$A:$B,2,0),"") | BD44: =IFERROR(VLOOKUP(G44,'4__mapping'!$A:$B,2,0),"") | BE44: =IFERROR(VLOOKUP(J44,'5__mapping'!$A:$B,2,0),"") | BF44: =IFERROR(VLOOKUP(K44,'6__mapping'!$A:$B,2,0),"") | BG44: =IFERROR(VLOOKUP(N44,'7__mapping'!$A:$B,2,0),"") | BH44: =IFERROR(VLOOKUP(AA44,'8__mapping'!$A:$B,2,0),"") | BI44: =IFERROR(VLOOKUP(AC44,'9__mapping'!$A:$B,2,0),"") | BJ44: =IFERROR(VLOOKUP(AF44,'10__mapping'!$A:$B,2,0),"") | BK44: =IFERROR(VLOOKUP(AK44,'11__mapping'!$A:$B,2,0),"") | BL44: =IFERROR(VLOOKUP(AQ44,'12__mapping'!$A:$B,2,0),"") | BM44: =IFERROR(VLOOKUP(AT44,'13__mapping'!$A:$B,2,0),"") | BN44: =IFERROR(VLOOKUP(AU44,'14__mapping'!$A:$B,2,0),"") | BO44: =IFERROR(VLOOKUP(AV44,'15__mapping'!$A:$B,2,0),"") | BP44: =IFERROR(VLOOKUP(AW44,'16__mapping'!$A:$B,2,0),"") | BQ44: =IFERROR(VLOOKUP(AX44,'17__mapping'!$A:$B,2,0),"")
A45: Create | AZ45: =IFERROR(VLOOKUP(A45,'0__mapping'!$A:$B,2,0),"") -> CREATE | BA45: =IFERROR(VLOOKUP(C45,'1__mapping'!$A:$B,2,0),"") | BB45: =INDEX('2__mapping'!B2:'2__mapping'!B1,MATCH(BA45&D45, INDEX('2__mapping'!C1:C2&'2__mapping'!A1:A2,),0)) -> 0 | BC45: =IFERROR(VLOOKUP(E45,'3__mapping'!$A:$B,2,0),"") | BD45: =IFERROR(VLOOKUP(G45,'4__mapping'!$A:$B,2,0),"") | BE45: =IFERROR(VLOOKUP(J45,'5__mapping'!$A:$B,2,0),"") | BF45: =IFERROR(VLOOKUP(K45,'6__mapping'!$A:$B,2,0),"") | BG45: =IFERROR(VLOOKUP(N45,'7__mapping'!$A:$B,2,0),"") | BH45: =IFERROR(VLOOKUP(AA45,'8__mapping'!$A:$B,2,0),"") | BI45: =IFERROR(VLOOKUP(AC45,'9__mapping'!$A:$B,2,0),"") | BJ45: =IFERROR(VLOOKUP(AF45,'10__mapping'!$A:$B,2,0),"") | BK45: =IFERROR(VLOOKUP(AK45,'11__mapping'!$A:$B,2,0),"") | BL45: =IFERROR(VLOOKUP(AQ45,'12__mapping'!$A:$B,2,0),"") | BM45: =IFERROR(VLOOKUP(AT45,'13__mapping'!$A:$B,2,0),"") | BN45: =IFERROR(VLOOKUP(AU45,'14__mapping'!$A:$B,2,0),"") | BO45: =IFERROR(VLOOKUP(AV45,'15__mapping'!$A:$B,2,0),"") | BP45: =IFERROR(VLOOKUP(AW45,'16__mapping'!$A:$B,2,0),"") | BQ45: =IFERROR(VLOOKUP(AX45,'17__mapping'!$A:$B,2,0),"")
A46: Create | AZ46: =IFERROR(VLOOKUP(A46,'0__mapping'!$A:$B,2,0),"") -> CREATE | BA46: =IFERROR(VLOOKUP(C46,'1__mapping'!$A:$B,2,0),"") | BB46: =INDEX('2__mapping'!B2:'2__mapping'!B1,MATCH(BA46&D46, INDEX('2__mapping'!C1:C2&'2__mapping'!A1:A2,),0)) -> 0 | BC46: =IFERROR(VLOOKUP(E46,'3__mapping'!$A:$B,2,0),"") | BD46: =IFERROR(VLOOKUP(G46,'4__mapping'!$A:$B,2,0),"") | BE46: =IFERROR(VLOOKUP(J46,'5__mapping'!$A:$B,2,0),"") | BF46: =IFERROR(VLOOKUP(K46,'6__mapping'!$A:$B,2,0),"") | BG46: =IFERROR(VLOOKUP(N46,'7__mapping'!$A:$B,2,0),"") | BH46: =IFERROR(VLOOKUP(AA46,'8__mapping'!$A:$B,2,0),"") | BI46: =IFERROR(VLOOKUP(AC46,'9__mapping'!$A:$B,2,0),"") | BJ46: =IFERROR(VLOOKUP(AF46,'10__mapping'!$A:$B,2,0),"") | BK46: =IFERROR(VLOOKUP(AK46,'11__mapping'!$A:$B,2,0),"") | BL46: =IFERROR(VLOOKUP(AQ46,'12__mapping'!$A:$B,2,0),"") | BM46: =IFERROR(VLOOKUP(AT46,'13__mapping'!$A:$B,2,0),"") | BN46: =IFERROR(VLOOKUP(AU46,'14__mapping'!$A:$B,2,0),"") | BO46: =IFERROR(VLOOKUP(AV46,'15__mapping'!$A:$B,2,0),"") | BP46: =IFERROR(VLOOKUP(AW46,'16__mapping'!$A:$B,2,0),"") | BQ46: =IFERROR(VLOOKUP(AX46,'17__mapping'!$A:$B,2,0),"")
A47: Create | AZ47: =IFERROR(VLOOKUP(A47,'0__mapping'!$A:$B,2,0),"") -> CREATE | BA47: =IFERROR(VLOOKUP(C47,'1__mapping'!$A:$B,2,0),"") | BB47: =INDEX('2__mapping'!B2:'2__mapping'!B1,MATCH(BA47&D47, INDEX('2__mapping'!C1:C2&'2__mapping'!A1:A2,),0)) -> 0 | BC47: =IFERROR(VLOOKUP(E47,'3__mapping'!$A:$B,2,0),"") | BD47: =IFERROR(VLOOKUP(G47,'4__mapping'!$A:$B,2,0),"") | BE47: =IFERROR(VLOOKUP(J47,'5__mapping'!$A:$B,2,0),"") | BF47: =IFERROR(VLOOKUP(K47,'6__mapping'!$A:$B,2,0),"") | BG47: =IFERROR(VLOOKUP(N47,'7__mapping'!$A:$B,2,0),"") | BH47: =IFERROR(VLOOKUP(AA47,'8__mapping'!$A:$B,2,0),"") | BI47: =IFERROR(VLOOKUP(AC47,'9__mapping'!$A:$B,2,0),"") | BJ47: =IFERROR(VLOOKUP(AF47,'10__mapping'!$A:$B,2,0),"") | BK47: =IFERROR(VLOOKUP(AK47,'11__mapping'!$A:$B,2,0),"") | BL47: =IFERROR(VLOOKUP(AQ47,'12__mapping'!$A:$B,2,0),"") | BM47: =IFERROR(VLOOKUP(AT47,'13__mapping'!$A:$B,2,0),"") | BN47: =IFERROR(VLOOKUP(AU47,'14__mapping'!$A:$B,2,0),"") | BO47: =IFERROR(VLOOKUP(AV47,'15__mapping'!$A:$B,2,0),"") | BP47: =IFERROR(VLOOKUP(AW47,'16__mapping'!$A:$B,2,0),"") | BQ47: =IFERROR(VLOOKUP(AX47,'17__mapping'!$A:$B,2,0),"")
A48: Create | AZ48: =IFERROR(VLOOKUP(A48,'0__mapping'!$A:$B,2,0),"") -> CREATE | BA48: =IFERROR(VLOOKUP(C48,'1__mapping'!$A:$B,2,0),"") | BB48: =INDEX('2__mapping'!B2:'2__mapping'!B1,MATCH(BA48&D48, INDEX('2__mapping'!C1:C2&'2__mapping'!A1:A2,),0)) -> 0 | BC48: =IFERROR(VLOOKUP(E48,'3__mapping'!$A:$B,2,0),"") | BD48: =IFERROR(VLOOKUP(G48,'4__mapping'!$A:$B,2,0),"") | BE48: =IFERROR(VLOOKUP(J48,'5__mapping'!$A:$B,2,0),"") | BF48: =IFERROR(VLOOKUP(K48,'6__mapping'!$A:$B,2,0),"") | BG48: =IFERROR(VLOOKUP(N48,'7__mapping'!$A:$B,2,0),"") | BH48: =IFERROR(VLOOKUP(AA48,'8__mapping'!$A:$B,2,0),"") | BI48: =IFERROR(VLOOKUP(AC48,'9__mapping'!$A:$B,2,0),"") | BJ48: =IFERROR(VLOOKUP(AF48,'10__mapping'!$A:$B,2,0),"") | BK48: =IFERROR(VLOOKUP(AK48,'11__mapping'!$A:$B,2,0),"") | BL48: =IFERROR(VLOOKUP(AQ48,'12__mapping'!$A:$B,2,0),"") | BM48: =IFERROR(VLOOKUP(AT48,'13__mapping'!$A:$B,2,0),"") | BN48: =IFERROR(VLOOKUP(AU48,'14__mapping'!$A:$B,2,0),"") | BO48: =IFERROR(VLOOKUP(AV48,'15__mapping'!$A:$B,2,0),"") | BP48: =IFERROR(VLOOKUP(AW48,'16__mapping'!$A:$B,2,0),"") | BQ48: =IFERROR(VLOOKUP(AX48,'17__mapping'!$A:$B,2,0),"")
A49: Create | AZ49: =IFERROR(VLOOKUP(A49,'0__mapping'!$A:$B,2,0),"") -> CREATE | BA49: =IFERROR(VLOOKUP(C49,'1__mapping'!$A:$B,2,0),"") | BB49: =INDEX('2__mapping'!B2:'2__mapping'!B1,MATCH(BA49&D49, INDEX('2__mapping'!C1:C2&'2__mapping'!A1:A2,),0)) -> 0 | BC49: =IFERROR(VLOOKUP(E49,'3__mapping'!$A:$B,2,0),"") | BD49: =IFERROR(VLOOKUP(G49,'4__mapping'!$A:$B,2,0),"") | BE49: =IFERROR(VLOOKUP(J49,'5__mapping'!$A:$B,2,0),"") | BF49: =IFERROR(VLOOKUP(K49,'6__mapping'!$A:$B,2,0),"") | BG49: =IFERROR(VLOOKUP(N49,'7__mapping'!$A:$B,2,0),"") | BH49: =IFERROR(VLOOKUP(AA49,'8__mapping'!$A:$B,2,0),"") | BI49: =IFERROR(VLOOKUP(AC49,'9__mapping'!$A:$B,2,0),"") | BJ49: =IFERROR(VLOOKUP(AF49,'10__mapping'!$A:$B,2,0),"") | BK49: =IFERROR(VLOOKUP(AK49,'11__mapping'!$A:$B,2,0),"") | BL49: =IFERROR(VLOOKUP(AQ49,'12__mapping'!$A:$B,2,0),"") | BM49: =IFERROR(VLOOKUP(AT49,'13__mapping'!$A:$B,2,0),"") | BN49: =IFERROR(VLOOKUP(AU49,'14__mapping'!$A:$B,2,0),"") | BO49: =IFERROR(VLOOKUP(AV49,'15__mapping'!$A:$B,2,0),"") | BP49: =IFERROR(VLOOKUP(AW49,'16__mapping'!$A:$B,2,0),"") | BQ49: =IFERROR(VLOOKUP(AX49,'17__mapping'!$A:$B,2,0),"")
A50: Create | AZ50: =IFERROR(VLOOKUP(A50,'0__mapping'!$A:$B,2,0),"") -> CREATE | BA50: =IFERROR(VLOOKUP(C50,'1__mapping'!$A:$B,2,0),"") | BB50: =INDEX('2__mapping'!B2:'2__mapping'!B1,MATCH(BA50&D50, INDEX('2__mapping'!C1:C2&'2__mapping'!A1:A2,),0)) -> 0 | BC50: =IFERROR(VLOOKUP(E50,'3__mapping'!$A:$B,2,0),"") | BD50: =IFERROR(VLOOKUP(G50,'4__mapping'!$A:$B,2,0),"") | BE50: =IFERROR(VLOOKUP(J50,'5__mapping'!$A:$B,2,0),"") | BF50: =IFERROR(VLOOKUP(K50,'6__mapping'!$A:$B,2,0),"") | BG50: =IFERROR(VLOOKUP(N50,'7__mapping'!$A:$B,2,0),"") | BH50: =IFERROR(VLOOKUP(AA50,'8__mapping'!$A:$B,2,0),"") | BI50: =IFERROR(VLOOKUP(AC50,'9__mapping'!$A:$B,2,0),"") | BJ50: =IFERROR(VLOOKUP(AF50,'10__mapping'!$A:$B,2,0),"") | BK50: =IFERROR(VLOOKUP(AK50,'11__mapping'!$A:$B,2,0),"") | BL50: =IFERROR(VLOOKUP(AQ50,'12__mapping'!$A:$B,2,0),"") | BM50: =IFERROR(VLOOKUP(AT50,'13__mapping'!$A:$B,2,0),"") | BN50: =IFERROR(VLOOKUP(AU50,'14__mapping'!$A:$B,2,0),"") | BO50: =IFERROR(VLOOKUP(AV50,'15__mapping'!$A:$B,2,0),"") | BP50: =IFERROR(VLOOKUP(AW50,'16__mapping'!$A:$B,2,0),"") | BQ50: =IFERROR(VLOOKUP(AX50,'17__mapping'!$A:$B,2,0),"")
A51: Create | AZ51: =IFERROR(VLOOKUP(A51,'0__mapping'!$A:$B,2,0),"") -> CREATE | BA51: =IFERROR(VLOOKUP(C51,'1__mapping'!$A:$B,2,0),"") | BB51: =INDEX('2__mapping'!B2:'2__mapping'!B1,MATCH(BA51&D51, INDEX('2__mapping'!C1:C2&'2__mapping'!A1:A2,),0)) -> 0 | BC51: =IFERROR(VLOOKUP(E51,'3__mapping'!$A:$B,2,0),"") | BD51: =IFERROR(VLOOKUP(G51,'4__mapping'!$A:$B,2,0),"") | BE51: =IFERROR(VLOOKUP(J51,'5__mapping'!$A:$B,2,0),"") | BF51: =IFERROR(VLOOKUP(K51,'6__mapping'!$A:$B,2,0),"") | BG51: =IFERROR(VLOOKUP(N51,'7__mapping'!$A:$B,2,0),"") | BH51: =IFERROR(VLOOKUP(AA51,'8__mapping'!$A:$B,2,0),"") | BI51: =IFERROR(VLOOKUP(AC51,'9__mapping'!$A:$B,2,0),"") | BJ51: =IFERROR(VLOOKUP(AF51,'10__mapping'!$A:$B,2,0),"") | BK51: =IFERROR(VLOOKUP(AK51,'11__mapping'!$A:$B,2,0),"") | BL51: =IFERROR(VLOOKUP(AQ51,'12__mapping'!$A:$B,2,0),"") | BM51: =IFERROR(VLOOKUP(AT51,'13__mapping'!$A:$B,2,0),"") | BN51: =IFERROR(VLOOKUP(AU51,'14__mapping'!$A:$B,2,0),"") | BO51: =IFERROR(VLOOKUP(AV51,'15__mapping'!$A:$B,2,0),"") | BP51: =IFERROR(VLOOKUP(AW51,'16__mapping'!$A:$B,2,0),"") | BQ51: =IFERROR(VLOOKUP(AX51,'17__mapping'!$A:$B,2,0),"")
A52: Create | AZ52: =IFERROR(VLOOKUP(A52,'0__mapping'!$A:$B,2,0),"") -> CREATE | BA52: =IFERROR(VLOOKUP(C52,'1__mapping'!$A:$B,2,0),"") | BB52: =INDEX('2__mapping'!B2:'2__mapping'!B1,MATCH(BA52&D52, INDEX('2__mapping'!C1:C2&'2__mapping'!A1:A2,),0)) -> 0 | BC52: =IFERROR(VLOOKUP(E52,'3__mapping'!$A:$B,2,0),"") | BD52: =IFERROR(VLOOKUP(G52,'4__mapping'!$A:$B,2,0),"") | BE52: =IFERROR(VLOOKUP(J52,'5__mapping'!$A:$B,2,0),"") | BF52: =IFERROR(VLOOKUP(K52,'6__mapping'!$A:$B,2,0),"") | BG52: =IFERROR(VLOOKUP(N52,'7__mapping'!$A:$B,2,0),"") | BH52: =IFERROR(VLOOKUP(AA52,'8__mapping'!$A:$B,2,0),"") | BI52: =IFERROR(VLOOKUP(AC52,'9__mapping'!$A:$B,2,0),"") | BJ52: =IFERROR(VLOOKUP(AF52,'10__mapping'!$A:$B,2,0),"") | BK52: =IFERROR(VLOOKUP(AK52,'11__mapping'!$A:$B,2,0),"") | BL52: =IFERROR(VLOOKUP(AQ52,'12__mapping'!$A:$B,2,0),"") | BM52: =IFERROR(VLOOKUP(AT52,'13__mapping'!$A:$B,2,0),"") | BN52: =IFERROR(VLOOKUP(AU52,'14__mapping'!$A:$B,2,0),"") | BO52: =IFERROR(VLOOKUP(AV52,'15__mapping'!$A:$B,2,0),"") | BP52: =IFERROR(VLOOKUP(AW52,'16__mapping'!$A:$B,2,0),"") | BQ52: =IFERROR(VLOOKUP(AX52,'17__mapping'!$A:$B,2,0),"")
A53: Create | AZ53: =IFERROR(VLOOKUP(A53,'0__mapping'!$A:$B,2,0),"") -> CREATE | BA53: =IFERROR(VLOOKUP(C53,'1__mapping'!$A:$B,2,0),"") | BB53: =INDEX('2__mapping'!B2:'2__mapping'!B1,MATCH(BA53&D53, INDEX('2__mapping'!C1:C2&'2__mapping'!A1:A2,),0)) -> 0 | BC53: =IFERROR(VLOOKUP(E53,'3__mapping'!$A:$B,2,0),"") | BD53: =IFERROR(VLOOKUP(G53,'4__mapping'!$A:$B,2,0),"") | BE53: =IFERROR(VLOOKUP(J53,'5__mapping'!$A:$B,2,0),"") | BF53: =IFERROR(VLOOKUP(K53,'6__mapping'!$A:$B,2,0),"") | BG53: =IFERROR(VLOOKUP(N53,'7__mapping'!$A:$B,2,0),"") | BH53: =IFERROR(VLOOKUP(AA53,'8__mapping'!$A:$B,2,0),"") | BI53: =IFERROR(VLOOKUP(AC53,'9__mapping'!$A:$B,2,0),"") | BJ53: =IFERROR(VLOOKUP(AF53,'10__mapping'!$A:$B,2,0),"") | BK53: =IFERROR(VLOOKUP(AK53,'11__mapping'!$A:$B,2,0),"") | BL53: =IFERROR(VLOOKUP(AQ53,'12__mapping'!$A:$B,2,0),"") | BM53: =IFERROR(VLOOKUP(AT53,'13__mapping'!$A:$B,2,0),"") | BN53: =IFERROR(VLOOKUP(AU53,'14__mapping'!$A:$B,2,0),"") | BO53: =IFERROR(VLOOKUP(AV53,'15__mapping'!$A:$B,2,0),"") | BP53: =IFERROR(VLOOKUP(AW53,'16__mapping'!$A:$B,2,0),"") | BQ53: =IFERROR(VLOOKUP(AX53,'17__mapping'!$A:$B,2,0),"")
A54: Create | AZ54: =IFERROR(VLOOKUP(A54,'0__mapping'!$A:$B,2,0),"") -> CREATE | BA54: =IFERROR(VLOOKUP(C54,'1__mapping'!$A:$B,2,0),"") | BB54: =INDEX('2__mapping'!B2:'2__mapping'!B1,MATCH(BA54&D54, INDEX('2__mapping'!C1:C2&'2__mapping'!A1:A2,),0)) -> 0 | BC54: =IFERROR(VLOOKUP(E54,'3__mapping'!$A:$B,2,0),"") | BD54: =IFERROR(VLOOKUP(G54,'4__mapping'!$A:$B,2,0),"") | BE54: =IFERROR(VLOOKUP(J54,'5__mapping'!$A:$B,2,0),"") | BF54: =IFERROR(VLOOKUP(K54,'6__mapping'!$A:$B,2,0),"") | BG54: =IFERROR(VLOOKUP(N54,'7__mapping'!$A:$B,2,0),"") | BH54: =IFERROR(VLOOKUP(AA54,'8__mapping'!$A:$B,2,0),"") | BI54: =IFERROR(VLOOKUP(AC54,'9__mapping'!$A:$B,2,0),"") | BJ54: =IFERROR(VLOOKUP(AF54,'10__mapping'!$A:$B,2,0),"") | BK54: =IFERROR(VLOOKUP(AK54,'11__mapping'!$A:$B,2,0),"") | BL54: =IFERROR(VLOOKUP(AQ54,'12__mapping'!$A:$B,2,0),"") | BM54: =IFERROR(VLOOKUP(AT54,'13__mapping'!$A:$B,2,0),"") | BN54: =IFERROR(VLOOKUP(AU54,'14__mapping'!$A:$B,2,0),"") | BO54: =IFERROR(VLOOKUP(AV54,'15__mapping'!$A:$B,2,0),"") | BP54: =IFERROR(VLOOKUP(AW54,'16__mapping'!$A:$B,2,0),"") | BQ54: =IFERROR(VLOOKUP(AX54,'17__mapping'!$A:$B,2,0),"")
A55: Create | AZ55: =IFERROR(VLOOKUP(A55,'0__mapping'!$A:$B,2,0),"") -> CREATE | BA55: =IFERROR(VLOOKUP(C55,'1__mapping'!$A:$B,2,0),"") | BB55: =INDEX('2__mapping'!B2:'2__mapping'!B1,MATCH(BA55&D55, INDEX('2__mapping'!C1:C2&'2__mapping'!A1:A2,),0)) -> 0 | BC55: =IFERROR(VLOOKUP(E55,'3__mapping'!$A:$B,2,0),"") | BD55: =IFERROR(VLOOKUP(G55,'4__mapping'!$A:$B,2,0),"") | BE55: =IFERROR(VLOOKUP(J55,'5__mapping'!$A:$B,2,0),"") | BF55: =IFERROR(VLOOKUP(K55,'6__mapping'!$A:$B,2,0),"") | BG55: =IFERROR(VLOOKUP(N55,'7__mapping'!$A:$B,2,0),"") | BH55: =IFERROR(VLOOKUP(AA55,'8__mapping'!$A:$B,2,0),"") | BI55: =IFERROR(VLOOKUP(AC55,'9__mapping'!$A:$B,2,0),"") | BJ55: =IFERROR(VLOOKUP(AF55,'10__mapping'!$A:$B,2,0),"") | BK55: =IFERROR(VLOOKUP(AK55,'11__mapping'!$A:$B,2,0),"") | BL55: =IFERROR(VLOOKUP(AQ55,'12__mapping'!$A:$B,2,0),"") | BM55: =IFERROR(VLOOKUP(AT55,'13__mapping'!$A:$B,2,0),"") | BN55: =IFERROR(VLOOKUP(AU55,'14__mapping'!$A:$B,2,0),"") | BO55: =IFERROR(VLOOKUP(AV55,'15__mapping'!$A:$B,2,0),"") | BP55: =IFERROR(VLOOKUP(AW55,'16__mapping'!$A:$B,2,0),"") | BQ55: =IFERROR(VLOOKUP(AX55,'17__mapping'!$A:$B,2,0),"")
A56: Create | AZ56: =IFERROR(VLOOKUP(A56,'0__mapping'!$A:$B,2,0),"") -> CREATE | BA56: =IFERROR(VLOOKUP(C56,'1__mapping'!$A:$B,2,0),"") | BB56: =INDEX('2__mapping'!B2:'2__mapping'!B1,MATCH(BA56&D56, INDEX('2__mapping'!C1:C2&'2__mapping'!A1:A2,),0)) -> 0 | BC56: =IFERROR(VLOOKUP(E56,'3__mapping'!$A:$B,2,0),"") | BD56: =IFERROR(VLOOKUP(G56,'4__mapping'!$A:$B,2,0),"") | BE56: =IFERROR(VLOOKUP(J56,'5__mapping'!$A:$B,2,0),"") | BF56: =IFERROR(VLOOKUP(K56,'6__mapping'!$A:$B,2,0),"") | BG56: =IFERROR(VLOOKUP(N56,'7__mapping'!$A:$B,2,0),"") | BH56: =IFERROR(VLOOKUP(AA56,'8__mapping'!$A:$B,2,0),"") | BI56: =IFERROR(VLOOKUP(AC56,'9__mapping'!$A:$B,2,0),"") | BJ56: =IFERROR(VLOOKUP(AF56,'10__mapping'!$A:$B,2,0),"") | BK56: =IFERROR(VLOOKUP(AK56,'11__mapping'!$A:$B,2,0),"") | BL56: =IFERROR(VLOOKUP(AQ56,'12__mapping'!$A:$B,2,0),"") | BM56: =IFERROR(VLOOKUP(AT56,'13__mapping'!$A:$B,2,0),"") | BN56: =IFERROR(VLOOKUP(AU56,'14__mapping'!$A:$B,2,0),"") | BO56: =IFERROR(VLOOKUP(AV56,'15__mapping'!$A:$B,2,0),"") | BP56: =IFERROR(VLOOKUP(AW56,'16__mapping'!$A:$B,2,0),"") | BQ56: =IFERROR(VLOOKUP(AX56,'17__mapping'!$A:$B,2,0),"")
A57: Create | AZ57: =IFERROR(VLOOKUP(A57,'0__mapping'!$A:$B,2,0),"") -> CREATE | BA57: =IFERROR(VLOOKUP(C57,'1__mapping'!$A:$B,2,0),"") | BB57: =INDEX('2__mapping'!B2:'2__mapping'!B1,MATCH(BA57&D57, INDEX('2__mapping'!C1:C2&'2__mapping'!A1:A2,),0)) -> 0 | BC57: =IFERROR(VLOOKUP(E57,'3__mapping'!$A:$B,2,0),"") | BD57: =IFERROR(VLOOKUP(G57,'4__mapping'!$A:$B,2,0),"") | BE57: =IFERROR(VLOOKUP(J57,'5__mapping'!$A:$B,2,0),"") | BF57: =IFERROR(VLOOKUP(K57,'6__mapping'!$A:$B,2,0),"") | BG57: =IFERROR(VLOOKUP(N57,'7__mapping'!$A:$B,2,0),"") | BH57: =IFERROR(VLOOKUP(AA57,'8__mapping'!$A:$B,2,0),"") | BI57: =IFERROR(VLOOKUP(AC57,'9__mapping'!$A:$B,2,0),"") | BJ57: =IFERROR(VLOOKUP(AF57,'10__mapping'!$A:$B,2,0),"") | BK57: =IFERROR(VLOOKUP(AK57,'11__mapping'!$A:$B,2,0),"") | BL57: =IFERROR(VLOOKUP(AQ57,'12__mapping'!$A:$B,2,0),"") | BM57: =IFERROR(VLOOKUP(AT57,'13__mapping'!$A:$B,2,0),"") | BN57: =IFERROR(VLOOKUP(AU57,'14__mapping'!$A:$B,2,0),"") | BO57: =IFERROR(VLOOKUP(AV57,'15__mapping'!$A:$B,2,0),"") | BP57: =IFERROR(VLOOKUP(AW57,'16__mapping'!$A:$B,2,0),"") | BQ57: =IFERROR(VLOOKUP(AX57,'17__mapping'!$A:$B,2,0),"")
A58: Create | AZ58: =IFERROR(VLOOKUP(A58,'0__mapping'!$A:$B,2,0),"") -> CREATE | BA58: =IFERROR(VLOOKUP(C58,'1__mapping'!$A:$B,2,0),"") | BB58: =INDEX('2__mapping'!B2:'2__mapping'!B1,MATCH(BA58&D58, INDEX('2__mapping'!C1:C2&'2__mapping'!A1:A2,),0)) -> 0 | BC58: =IFERROR(VLOOKUP(E58,'3__mapping'!$A:$B,2,0),"") | BD58: =IFERROR(VLOOKUP(G58,'4__mapping'!$A:$B,2,0),"") | BE58: =IFERROR(VLOOKUP(J58,'5__mapping'!$A:$B,2,0),"") | BF58: =IFERROR(VLOOKUP(K58,'6__mapping'!$A:$B,2,0),"") | BG58: =IFERROR(VLOOKUP(N58,'7__mapping'!$A:$B,2,0),"") | BH58: =IFERROR(VLOOKUP(AA58,'8__mapping'!$A:$B,2,0),"") | BI58: =IFERROR(VLOOKUP(AC58,'9__mapping'!$A:$B,2,0),"") | BJ58: =IFERROR(VLOOKUP(AF58,'10__mapping'!$A:$B,2,0),"") | BK58: =IFERROR(VLOOKUP(AK58,'11__mapping'!$A:$B,2,0),"") | BL58: =IFERROR(VLOOKUP(AQ58,'12__mapping'!$A:$B,2,0),"") | BM58: =IFERROR(VLOOKUP(AT58,'13__mapping'!$A:$B,2,0),"") | BN58: =IFERROR(VLOOKUP(AU58,'14__mapping'!$A:$B,2,0),"") | BO58: =IFERROR(VLOOKUP(AV58,'15__mapping'!$A:$B,2,0),"") | BP58: =IFERROR(VLOOKUP(AW58,'16__mapping'!$A:$B,2,0),"") | BQ58: =IFERROR(VLOOKUP(AX58,'17__mapping'!$A:$B,2,0),"")
A59: Create | AZ59: =IFERROR(VLOOKUP(A59,'0__mapping'!$A:$B,2,0),"") -> CREATE | BA59: =IFERROR(VLOOKUP(C59,'1__mapping'!$A:$B,2,0),"") | BB59: =INDEX('2__mapping'!B2:'2__mapping'!B1,MATCH(BA59&D59, INDEX('2__mapping'!C1:C2&'2__mapping'!A1:A2,),0)) -> 0 | BC59: =IFERROR(VLOOKUP(E59,'3__mapping'!$A:$B,2,0),"") | BD59: =IFERROR(VLOOKUP(G59,'4__mapping'!$A:$B,2,0),"") | BE59: =IFERROR(VLOOKUP(J59,'5__mapping'!$A:$B,2,0),"") | BF59: =IFERROR(VLOOKUP(K59,'6__mapping'!$A:$B,2,0),"") | BG59: =IFERROR(VLOOKUP(N59,'7__mapping'!$A:$B,2,0),"") | BH59: =IFERROR(VLOOKUP(AA59,'8__mapping'!$A:$B,2,0),"") | BI59: =IFERROR(VLOOKUP(AC59,'9__mapping'!$A:$B,2,0),"") | BJ59: =IFERROR(VLOOKUP(AF59,'10__mapping'!$A:$B,2,0),"") | BK59: =IFERROR(VLOOKUP(AK59,'11__mapping'!$A:$B,2,0),"") | BL59: =IFERROR(VLOOKUP(AQ59,'12__mapping'!$A:$B,2,0),"") | BM59: =IFERROR(VLOOKUP(AT59,'13__mapping'!$A:$B,2,0),"") | BN59: =IFERROR(VLOOKUP(AU59,'14__mapping'!$A:$B,2,0),"") | BO59: =IFERROR(VLOOKUP(AV59,'15__mapping'!$A:$B,2,0),"") | BP59: =IFERROR(VLOOKUP(AW59,'16__mapping'!$A:$B,2,0),"") | BQ59: =IFERROR(VLOOKUP(AX59,'17__mapping'!$A:$B,2,0),"")
A60: Create | AZ60: =IFERROR(VLOOKUP(A60,'0__mapping'!$A:$B,2,0),"") -> CREATE | BA60: =IFERROR(VLOOKUP(C60,'1__mapping'!$A:$B,2,0),"") | BB60: =INDEX('2__mapping'!B2:'2__mapping'!B1,MATCH(BA60&D60, INDEX('2__mapping'!C1:C2&'2__mapping'!A1:A2,),0)) -> 0 | BC60: =IFERROR(VLOOKUP(E60,'3__mapping'!$A:$B,2,0),"") | BD60: =IFERROR(VLOOKUP(G60,'4__mapping'!$A:$B,2,0),"") | BE60: =IFERROR(VLOOKUP(J60,'5__mapping'!$A:$B,2,0),"") | BF60: =IFERROR(VLOOKUP(K60,'6__mapping'!$A:$B,2,0),"") | BG60: =IFERROR(VLOOKUP(N60,'7__mapping'!$A:$B,2,0),"") | BH60: =IFERROR(VLOOKUP(AA60,'8__mapping'!$A:$B,2,0),"") | BI60: =IFERROR(VLOOKUP(AC60,'9__mapping'!$A:$B,2,0),"") | BJ60: =IFERROR(VLOOKUP(AF60,'10__mapping'!$A:$B,2,0),"") | BK60: =IFERROR(VLOOKUP(AK60,'11__mapping'!$A:$B,2,0),"") | BL60: =IFERROR(VLOOKUP(AQ60,'12__mapping'!$A:$B,2,0),"") | BM60: =IFERROR(VLOOKUP(AT60,'13__mapping'!$A:$B,2,0),"") | BN60: =IFERROR(VLOOKUP(AU60,'14__mapping'!$A:$B,2,0),"") | BO60: =IFERROR(VLOOKUP(AV60,'15__mapping'!$A:$B,2,0),"") | BP60: =IFERROR(VLOOKUP(AW60,'16__mapping'!$A:$B,2,0),"") | BQ60: =IFERROR(VLOOKUP(AX60,'17__mapping'!$A:$B,2,0),"")
A61: Create | AZ61: =IFERROR(VLOOKUP(A61,'0__mapping'!$A:$B,2,0),"") -> CREATE | BA61: =IFERROR(VLOOKUP(C61,'1__mapping'!$A:$B,2,0),"") | BB61: =INDEX('2__mapping'!B2:'2__mapping'!B1,MATCH(BA61&D61, INDEX('2__mapping'!C1:C2&'2__mapping'!A1:A2,),0)) -> 0 | BC61: =IFERROR(VLOOKUP(E61,'3__mapping'!$A:$B,2,0),"") | BD61: =IFERROR(VLOOKUP(G61,'4__mapping'!$A:$B,2,0),"") | BE61: =IFERROR(VLOOKUP(J61,'5__mapping'!$A:$B,2,0),"") | BF61: =IFERROR(VLOOKUP(K61,'6__mapping'!$A:$B,2,0),"") | BG61: =IFERROR(VLOOKUP(N61,'7__mapping'!$A:$B,2,0),"") | BH61: =IFERROR(VLOOKUP(AA61,'8__mapping'!$A:$B,2,0),"") | BI61: =IFERROR(VLOOKUP(AC61,'9__mapping'!$A:$B,2,0),"") | BJ61: =IFERROR(VLOOKUP(AF61,'10__mapping'!$A:$B,2,0),"") | BK61: =IFERROR(VLOOKUP(AK61,'11__mapping'!$A:$B,2,0),"") | BL61: =IFERROR(VLOOKUP(AQ61,'12__mapping'!$A:$B,2,0),"") | BM61: =IFERROR(VLOOKUP(AT61,'13__mapping'!$A:$B,2,0),"") | BN61: =IFERROR(VLOOKUP(AU61,'14__mapping'!$A:$B,2,0),"") | BO61: =IFERROR(VLOOKUP(AV61,'15__mapping'!$A:$B,2,0),"") | BP61: =IFERROR(VLOOKUP(AW61,'16__mapping'!$A:$B,2,0),"") | BQ61: =IFERROR(VLOOKUP(AX61,'17__mapping'!$A:$B,2,0),"")
A62: Create | AZ62: =IFERROR(VLOOKUP(A62,'0__mapping'!$A:$B,2,0),"") -> CREATE | BA62: =IFERROR(VLOOKUP(C62,'1__mapping'!$A:$B,2,0),"") | BB62: =INDEX('2__mapping'!B2:'2__mapping'!B1,MATCH(BA62&D62, INDEX('2__mapping'!C1:C2&'2__mapping'!A1:A2,),0)) -> 0 | BC62: =IFERROR(VLOOKUP(E62,'3__mapping'!$A:$B,2,0),"") | BD62: =IFERROR(VLOOKUP(G62,'4__mapping'!$A:$B,2,0),"") | BE62: =IFERROR(VLOOKUP(J62,'5__mapping'!$A:$B,2,0),"") | BF62: =IFERROR(VLOOKUP(K62,'6__mapping'!$A:$B,2,0),"") | BG62: =IFERROR(VLOOKUP(N62,'7__mapping'!$A:$B,2,0),"") | BH62: =IFERROR(VLOOKUP(AA62,'8__mapping'!$A:$B,2,0),"") | BI62: =IFERROR(VLOOKUP(AC62,'9__mapping'!$A:$B,2,0),"") | BJ62: =IFERROR(VLOOKUP(AF62,'10__mapping'!$A:$B,2,0),"") | BK62: =IFERROR(VLOOKUP(AK62,'11__mapping'!$A:$B,2,0),"") | BL62: =IFERROR(VLOOKUP(AQ62,'12__mapping'!$A:$B,2,0),"") | BM62: =IFERROR(VLOOKUP(AT62,'13__mapping'!$A:$B,2,0),"") | BN62: =IFERROR(VLOOKUP(AU62,'14__mapping'!$A:$B,2,0),"") | BO62: =IFERROR(VLOOKUP(AV62,'15__mapping'!$A:$B,2,0),"") | BP62: =IFERROR(VLOOKUP(AW62,'16__mapping'!$A:$B,2,0),"") | BQ62: =IFERROR(VLOOKUP(AX62,'17__mapping'!$A:$B,2,0),"")
A63: Create | AZ63: =IFERROR(VLOOKUP(A63,'0__mapping'!$A:$B,2,0),"") -> CREATE | BA63: =IFERROR(VLOOKUP(C63,'1__mapping'!$A:$B,2,0),"") | BB63: =INDEX('2__mapping'!B2:'2__mapping'!B1,MATCH(BA63&D63, INDEX('2__mapping'!C1:C2&'2__mapping'!A1:A2,),0)) -> 0 | BC63: =IFERROR(VLOOKUP(E63,'3__mapping'!$A:$B,2,0),"") | BD63: =IFERROR(VLOOKUP(G63,'4__mapping'!$A:$B,2,0),"") | BE63: =IFERROR(VLOOKUP(J63,'5__mapping'!$A:$B,2,0),"") | BF63: =IFERROR(VLOOKUP(K63,'6__mapping'!$A:$B,2,0),"") | BG63: =IFERROR(VLOOKUP(N63,'7__mapping'!$A:$B,2,0),"") | BH63: =IFERROR(VLOOKUP(AA63,'8__mapping'!$A:$B,2,0),"") | BI63: =IFERROR(VLOOKUP(AC63,'9__mapping'!$A:$B,2,0),"") | BJ63: =IFERROR(VLOOKUP(AF63,'10__mapping'!$A:$B,2,0),"") | BK63: =IFERROR(VLOOKUP(AK63,'11__mapping'!$A:$B,2,0),"") | BL63: =IFERROR(VLOOKUP(AQ63,'12__mapping'!$A:$B,2,0),"") | BM63: =IFERROR(VLOOKUP(AT63,'13__mapping'!$A:$B,2,0),"") | BN63: =IFERROR(VLOOKUP(AU63,'14__mapping'!$A:$B,2,0),"") | BO63: =IFERROR(VLOOKUP(AV63,'15__mapping'!$A:$B,2,0),"") | BP63: =IFERROR(VLOOKUP(AW63,'16__mapping'!$A:$B,2,0),"") | BQ63: =IFERROR(VLOOKUP(AX63,'17__mapping'!$A:$B,2,0),"")
A64: Create | AZ64: =IFERROR(VLOOKUP(A64,'0__mapping'!$A:$B,2,0),"") -> CREATE | BA64: =IFERROR(VLOOKUP(C64,'1__mapping'!$A:$B,2,0),"") | BB64: =INDEX('2__mapping'!B2:'2__mapping'!B1,MATCH(BA64&D64, INDEX('2__mapping'!C1:C2&'2__mapping'!A1:A2,),0)) -> 0 | BC64: =IFERROR(VLOOKUP(E64,'3__mapping'!$A:$B,2,0),"") | BD64: =IFERROR(VLOOKUP(G64,'4__mapping'!$A:$B,2,0),"") | BE64: =IFERROR(VLOOKUP(J64,'5__mapping'!$A:$B,2,0),"") | BF64: =IFERROR(VLOOKUP(K64,'6__mapping'!$A:$B,2,0),"") | BG64: =IFERROR(VLOOKUP(N64,'7__mapping'!$A:$B,2,0),"") | BH64: =IFERROR(VLOOKUP(AA64,'8__mapping'!$A:$B,2,0),"") | BI64: =IFERROR(VLOOKUP(AC64,'9__mapping'!$A:$B,2,0),"") | BJ64: =IFERROR(VLOOKUP(AF64,'10__mapping'!$A:$B,2,0),"") | BK64: =IFERROR(VLOOKUP(AK64,'11__mapping'!$A:$B,2,0),"") | BL64: =IFERROR(VLOOKUP(AQ64,'12__mapping'!$A:$B,2,0),"") | BM64: =IFERROR(VLOOKUP(AT64,'13__mapping'!$A:$B,2,0),"") | BN64: =IFERROR(VLOOKUP(AU64,'14__mapping'!$A:$B,2,0),"") | BO64: =IFERROR(VLOOKUP(AV64,'15__mapping'!$A:$B,2,0),"") | BP64: =IFERROR(VLOOKUP(AW64,'16__mapping'!$A:$B,2,0),"") | BQ64: =IFERROR(VLOOKUP(AX64,'17__mapping'!$A:$B,2,0),"")
A65: Create | AZ65: =IFERROR(VLOOKUP(A65,'0__mapping'!$A:$B,2,0),"") -> CREATE | BA65: =IFERROR(VLOOKUP(C65,'1__mapping'!$A:$B,2,0),"") | BB65: =INDEX('2__mapping'!B2:'2__mapping'!B1,MATCH(BA65&D65, INDEX('2__mapping'!C1:C2&'2__mapping'!A1:A2,),0)) -> 0 | BC65: =IFERROR(VLOOKUP(E65,'3__mapping'!$A:$B,2,0),"") | BD65: =IFERROR(VLOOKUP(G65,'4__mapping'!$A:$B,2,0),"") | BE65: =IFERROR(VLOOKUP(J65,'5__mapping'!$A:$B,2,0),"") | BF65: =IFERROR(VLOOKUP(K65,'6__mapping'!$A:$B,2,0),"") | BG65: =IFERROR(VLOOKUP(N65,'7__mapping'!$A:$B,2,0),"") | BH65: =IFERROR(VLOOKUP(AA65,'8__mapping'!$A:$B,2,0),"") | BI65: =IFERROR(VLOOKUP(AC65,'9__mapping'!$A:$B,2,0),"") | BJ65: =IFERROR(VLOOKUP(AF65,'10__mapping'!$A:$B,2,0),"") | BK65: =IFERROR(VLOOKUP(AK65,'11__mapping'!$A:$B,2,0),"") | BL65: =IFERROR(VLOOKUP(AQ65,'12__mapping'!$A:$B,2,0),"") | BM65: =IFERROR(VLOOKUP(AT65,'13__mapping'!$A:$B,2,0),"") | BN65: =IFERROR(VLOOKUP(AU65,'14__mapping'!$A:$B,2,0),"") | BO65: =IFERROR(VLOOKUP(AV65,'15__mapping'!$A:$B,2,0),"") | BP65: =IFERROR(VLOOKUP(AW65,'16__mapping'!$A:$B,2,0),"") | BQ65: =IFERROR(VLOOKUP(AX65,'17__mapping'!$A:$B,2,0),"")
A66: Create | AZ66: =IFERROR(VLOOKUP(A66,'0__mapping'!$A:$B,2,0),"") -> CREATE | BA66: =IFERROR(VLOOKUP(C66,'1__mapping'!$A:$B,2,0),"") | BB66: =INDEX('2__mapping'!B2:'2__mapping'!B1,MATCH(BA66&D66, INDEX('2__mapping'!C1:C2&'2__mapping'!A1:A2,),0)) -> 0 | BC66: =IFERROR(VLOOKUP(E66,'3__mapping'!$A:$B,2,0),"") | BD66: =IFERROR(VLOOKUP(G66,'4__mapping'!$A:$B,2,0),"") | BE66: =IFERROR(VLOOKUP(J66,'5__mapping'!$A:$B,2,0),"") | BF66: =IFERROR(VLOOKUP(K66,'6__mapping'!$A:$B,2,0),"") | BG66: =IFERROR(VLOOKUP(N66,'7__mapping'!$A:$B,2,0),"") | BH66: =IFERROR(VLOOKUP(AA66,'8__mapping'!$A:$B,2,0),"") | BI66: =IFERROR(VLOOKUP(AC66,'9__mapping'!$A:$B,2,0),"") | BJ66: =IFERROR(VLOOKUP(AF66,'10__mapping'!$A:$B,2,0),"") | BK66: =IFERROR(VLOOKUP(AK66,'11__mapping'!$A:$B,2,0),"") | BL66: =IFERROR(VLOOKUP(AQ66,'12__mapping'!$A:$B,2,0),"") | BM66: =IFERROR(VLOOKUP(AT66,'13__mapping'!$A:$B,2,0),"") | BN66: =IFERROR(VLOOKUP(AU66,'14__mapping'!$A:$B,2,0),"") | BO66: =IFERROR(VLOOKUP(AV66,'15__mapping'!$A:$B,2,0),"") | BP66: =IFERROR(VLOOKUP(AW66,'16__mapping'!$A:$B,2,0),"") | BQ66: =IFERROR(VLOOKUP(AX66,'17__mapping'!$A:$B,2,0),"")
A67: Create | AZ67: =IFERROR(VLOOKUP(A67,'0__mapping'!$A:$B,2,0),"") -> CREATE | BA67: =IFERROR(VLOOKUP(C67,'1__mapping'!$A:$B,2,0),"") | BB67: =INDEX('2__mapping'!B2:'2__mapping'!B1,MATCH(BA67&D67, INDEX('2__mapping'!C1:C2&'2__mapping'!A1:A2,),0)) -> 0 | BC67: =IFERROR(VLOOKUP(E67,'3__mapping'!$A:$B,2,0),"") | BD67: =IFERROR(VLOOKUP(G67,'4__mapping'!$A:$B,2,0),"") | BE67: =IFERROR(VLOOKUP(J67,'5__mapping'!$A:$B,2,0),"") | BF67: =IFERROR(VLOOKUP(K67,'6__mapping'!$A:$B,2,0),"") | BG67: =IFERROR(VLOOKUP(N67,'7__mapping'!$A:$B,2,0),"") | BH67: =IFERROR(VLOOKUP(AA67,'8__mapping'!$A:$B,2,0),"") | BI67: =IFERROR(VLOOKUP(AC67,'9__mapping'!$A:$B,2,0),"") | BJ67: =IFERROR(VLOOKUP(AF67,'10__mapping'!$A:$B,2,0),"") | BK67: =IFERROR(VLOOKUP(AK67,'11__mapping'!$A:$B,2,0),"") | BL67: =IFERROR(VLOOKUP(AQ67,'12__mapping'!$A:$B,2,0),"") | BM67: =IFERROR(VLOOKUP(AT67,'13__mapping'!$A:$B,2,0),"") | BN67: =IFERROR(VLOOKUP(AU67,'14__mapping'!$A:$B,2,0),"") | BO67: =IFERROR(VLOOKUP(AV67,'15__mapping'!$A:$B,2,0),"") | BP67: =IFERROR(VLOOKUP(AW67,'16__mapping'!$A:$B,2,0),"") | BQ67: =IFERROR(VLOOKUP(AX67,'17__mapping'!$A:$B,2,0),"")
A68: Create | AZ68: =IFERROR(VLOOKUP(A68,'0__mapping'!$A:$B,2,0),"") -> CREATE | BA68: =IFERROR(VLOOKUP(C68,'1__mapping'!$A:$B,2,0),"") | BB68: =INDEX('2__mapping'!B2:'2__mapping'!B1,MATCH(BA68&D68, INDEX('2__mapping'!C1:C2&'2__mapping'!A1:A2,),0)) -> 0 | BC68: =IFERROR(VLOOKUP(E68,'3__mapping'!$A:$B,2,0),"") | BD68: =IFERROR(VLOOKUP(G68,'4__mapping'!$A:$B,2,0),"") | BE68: =IFERROR(VLOOKUP(J68,'5__mapping'!$A:$B,2,0),"") | BF68: =IFERROR(VLOOKUP(K68,'6__mapping'!$A:$B,2,0),"") | BG68: =IFERROR(VLOOKUP(N68,'7__mapping'!$A:$B,2,0),"") | BH68: =IFERROR(VLOOKUP(AA68,'8__mapping'!$A:$B,2,0),"") | BI68: =IFERROR(VLOOKUP(AC68,'9__mapping'!$A:$B,2,0),"") | BJ68: =IFERROR(VLOOKUP(AF68,'10__mapping'!$A:$B,2,0),"") | BK68: =IFERROR(VLOOKUP(AK68,'11__mapping'!$A:$B,2,0),"") | BL68: =IFERROR(VLOOKUP(AQ68,'12__mapping'!$A:$B,2,0),"") | BM68: =IFERROR(VLOOKUP(AT68,'13__mapping'!$A:$B,2,0),"") | BN68: =IFERROR(VLOOKUP(AU68,'14__mapping'!$A:$B,2,0),"") | BO68: =IFERROR(VLOOKUP(AV68,'15__mapping'!$A:$B,2,0),"") | BP68: =IFERROR(VLOOKUP(AW68,'16__mapping'!$A:$B,2,0),"") | BQ68: =IFERROR(VLOOKUP(AX68,'17__mapping'!$A:$B,2,0),"")
A69: Create | AZ69: =IFERROR(VLOOKUP(A69,'0__mapping'!$A:$B,2,0),"") -> CREATE | BA69: =IFERROR(VLOOKUP(C69,'1__mapping'!$A:$B,2,0),"") | BB69: =INDEX('2__mapping'!B2:'2__mapping'!B1,MATCH(BA69&D69, INDEX('2__mapping'!C1:C2&'2__mapping'!A1:A2,),0)) -> 0 | BC69: =IFERROR(VLOOKUP(E69,'3__mapping'!$A:$B,2,0),"") | BD69: =IFERROR(VLOOKUP(G69,'4__mapping'!$A:$B,2,0),"") | BE69: =IFERROR(VLOOKUP(J69,'5__mapping'!$A:$B,2,0),"") | BF69: =IFERROR(VLOOKUP(K69,'6__mapping'!$A:$B,2,0),"") | BG69: =IFERROR(VLOOKUP(N69,'7__mapping'!$A:$B,2,0),"") | BH69: =IFERROR(VLOOKUP(AA69,'8__mapping'!$A:$B,2,0),"") | BI69: =IFERROR(VLOOKUP(AC69,'9__mapping'!$A:$B,2,0),"") | BJ69: =IFERROR(VLOOKUP(AF69,'10__mapping'!$A:$B,2,0),"") | BK69: =IFERROR(VLOOKUP(AK69,'11__mapping'!$A:$B,2,0),"") | BL69: =IFERROR(VLOOKUP(AQ69,'12__mapping'!$A:$B,2,0),"") | BM69: =IFERROR(VLOOKUP(AT69,'13__mapping'!$A:$B,2,0),"") | BN69: =IFERROR(VLOOKUP(AU69,'14__mapping'!$A:$B,2,0),"") | BO69: =IFERROR(VLOOKUP(AV69,'15__mapping'!$A:$B,2,0),"") | BP69: =IFERROR(VLOOKUP(AW69,'16__mapping'!$A:$B,2,0),"") | BQ69: =IFERROR(VLOOKUP(AX69,'17__mapping'!$A:$B,2,0),"")
A70: Create | AZ70: =IFERROR(VLOOKUP(A70,'0__mapping'!$A:$B,2,0),"") -> CREATE | BA70: =IFERROR(VLOOKUP(C70,'1__mapping'!$A:$B,2,0),"") | BB70: =INDEX('2__mapping'!B2:'2__mapping'!B1,MATCH(BA70&D70, INDEX('2__mapping'!C1:C2&'2__mapping'!A1:A2,),0)) -> 0 | BC70: =IFERROR(VLOOKUP(E70,'3__mapping'!$A:$B,2,0),"") | BD70: =IFERROR(VLOOKUP(G70,'4__mapping'!$A:$B,2,0),"") | BE70: =IFERROR(VLOOKUP(J70,'5__mapping'!$A:$B,2,0),"") | BF70: =IFERROR(VLOOKUP(K70,'6__mapping'!$A:$B,2,0),"") | BG70: =IFERROR(VLOOKUP(N70,'7__mapping'!$A:$B,2,0),"") | BH70: =IFERROR(VLOOKUP(AA70,'8__mapping'!$A:$B,2,0),"") | BI70: =IFERROR(VLOOKUP(AC70,'9__mapping'!$A:$B,2,0),"") | BJ70: =IFERROR(VLOOKUP(AF70,'10__mapping'!$A:$B,2,0),"") | BK70: =IFERROR(VLOOKUP(AK70,'11__mapping'!$A:$B,2,0),"") | BL70: =IFERROR(VLOOKUP(AQ70,'12__mapping'!$A:$B,2,0),"") | BM70: =IFERROR(VLOOKUP(AT70,'13__mapping'!$A:$B,2,0),"") | BN70: =IFERROR(VLOOKUP(AU70,'14__mapping'!$A:$B,2,0),"") | BO70: =IFERROR(VLOOKUP(AV70,'15__mapping'!$A:$B,2,0),"") | BP70: =IFERROR(VLOOKUP(AW70,'16__mapping'!$A:$B,2,0),"") | BQ70: =IFERROR(VLOOKUP(AX70,'17__mapping'!$A:$B,2,0),"")
A71: Create | AZ71: =IFERROR(VLOOKUP(A71,'0__mapping'!$A:$B,2,0),"") -> CREATE | BA71: =IFERROR(VLOOKUP(C71,'1__mapping'!$A:$B,2,0),"") | BB71: =INDEX('2__mapping'!B2:'2__mapping'!B1,MATCH(BA71&D71, INDEX('2__mapping'!C1:C2&'2__mapping'!A1:A2,),0)) -> 0 | BC71: =IFERROR(VLOOKUP(E71,'3__mapping'!$A:$B,2,0),"") | BD71: =IFERROR(VLOOKUP(G71,'4__mapping'!$A:$B,2,0),"") | BE71: =IFERROR(VLOOKUP(J71,'5__mapping'!$A:$B,2,0),"") | BF71: =IFERROR(VLOOKUP(K71,'6__mapping'!$A:$B,2,0),"") | BG71: =IFERROR(VLOOKUP(N71,'7__mapping'!$A:$B,2,0),"") | BH71: =IFERROR(VLOOKUP(AA71,'8__mapping'!$A:$B,2,0),"") | BI71: =IFERROR(VLOOKUP(AC71,'9__mapping'!$A:$B,2,0),"") | BJ71: =IFERROR(VLOOKUP(AF71,'10__mapping'!$A:$B,2,0),"") | BK71: =IFERROR(VLOOKUP(AK71,'11__mapping'!$A:$B,2,0),"") | BL71: =IFERROR(VLOOKUP(AQ71,'12__mapping'!$A:$B,2,0),"") | BM71: =IFERROR(VLOOKUP(AT71,'13__mapping'!$A:$B,2,0),"") | BN71: =IFERROR(VLOOKUP(AU71,'14__mapping'!$A:$B,2,0),"") | BO71: =IFERROR(VLOOKUP(AV71,'15__mapping'!$A:$B,2,0),"") | BP71: =IFERROR(VLOOKUP(AW71,'16__mapping'!$A:$B,2,0),"") | BQ71: =IFERROR(VLOOKUP(AX71,'17__mapping'!$A:$B,2,0),"")
A72: Create | AZ72: =IFERROR(VLOOKUP(A72,'0__mapping'!$A:$B,2,0),"") -> CREATE | BA72: =IFERROR(VLOOKUP(C72,'1__mapping'!$A:$B,2,0),"") | BB72: =INDEX('2__mapping'!B2:'2__mapping'!B1,MATCH(BA72&D72, INDEX('2__mapping'!C1:C2&'2__mapping'!A1:A2,),0)) -> 0 | BC72: =IFERROR(VLOOKUP(E72,'3__mapping'!$A:$B,2,0),"") | BD72: =IFERROR(VLOOKUP(G72,'4__mapping'!$A:$B,2,0),"") | BE72: =IFERROR(VLOOKUP(J72,'5__mapping'!$A:$B,2,0),"") | BF72: =IFERROR(VLOOKUP(K72,'6__mapping'!$A:$B,2,0),"") | BG72: =IFERROR(VLOOKUP(N72,'7__mapping'!$A:$B,2,0),"") | BH72: =IFERROR(VLOOKUP(AA72,'8__mapping'!$A:$B,2,0),"") | BI72: =IFERROR(VLOOKUP(AC72,'9__mapping'!$A:$B,2,0),"") | BJ72: =IFERROR(VLOOKUP(AF72,'10__mapping'!$A:$B,2,0),"") | BK72: =IFERROR(VLOOKUP(AK72,'11__mapping'!$A:$B,2,0),"") | BL72: =IFERROR(VLOOKUP(AQ72,'12__mapping'!$A:$B,2,0),"") | BM72: =IFERROR(VLOOKUP(AT72,'13__mapping'!$A:$B,2,0),"") | BN72: =IFERROR(VLOOKUP(AU72,'14__mapping'!$A:$B,2,0),"") | BO72: =IFERROR(VLOOKUP(AV72,'15__mapping'!$A:$B,2,0),"") | BP72: =IFERROR(VLOOKUP(AW72,'16__mapping'!$A:$B,2,0),"") | BQ72: =IFERROR(VLOOKUP(AX72,'17__mapping'!$A:$B,2,0),"")
A73: Create | AZ73: =IFERROR(VLOOKUP(A73,'0__mapping'!$A:$B,2,0),"") -> CREATE | BA73: =IFERROR(VLOOKUP(C73,'1__mapping'!$A:$B,2,0),"") | BB73: =INDEX('2__mapping'!B2:'2__mapping'!B1,MATCH(BA73&D73, INDEX('2__mapping'!C1:C2&'2__mapping'!A1:A2,),0)) -> 0 | BC73: =IFERROR(VLOOKUP(E73,'3__mapping'!$A:$B,2,0),"") | BD73: =IFERROR(VLOOKUP(G73,'4__mapping'!$A:$B,2,0),"") | BE73: =IFERROR(VLOOKUP(J73,'5__mapping'!$A:$B,2,0),"") | BF73: =IFERROR(VLOOKUP(K73,'6__mapping'!$A:$B,2,0),"") | BG73: =IFERROR(VLOOKUP(N73,'7__mapping'!$A:$B,2,0),"") | BH73: =IFERROR(VLOOKUP(AA73,'8__mapping'!$A:$B,2,0),"") | BI73: =IFERROR(VLOOKUP(AC73,'9__mapping'!$A:$B,2,0),"") | BJ73: =IFERROR(VLOOKUP(AF73,'10__mapping'!$A:$B,2,0),"") | BK73: =IFERROR(VLOOKUP(AK73,'11__mapping'!$A:$B,2,0),"") | BL73: =IFERROR(VLOOKUP(AQ73,'12__mapping'!$A:$B,2,0),"") | BM73: =IFERROR(VLOOKUP(AT73,'13__mapping'!$A:$B,2,0),"") | BN73: =IFERROR(VLOOKUP(AU73,'14__mapping'!$A:$B,2,0),"") | BO73: =IFERROR(VLOOKUP(AV73,'15__mapping'!$A:$B,2,0),"") | BP73: =IFERROR(VLOOKUP(AW73,'16__mapping'!$A:$B,2,0),"") | BQ73: =IFERROR(VLOOKUP(AX73,'17__mapping'!$A:$B,2,0),"")
A74: Create | AZ74: =IFERROR(VLOOKUP(A74,'0__mapping'!$A:$B,2,0),"") -> CREATE | BA74: =IFERROR(VLOOKUP(C74,'1__mapping'!$A:$B,2,0),"") | BB74: =INDEX('2__mapping'!B2:'2__mapping'!B1,MATCH(BA74&D74, INDEX('2__mapping'!C1:C2&'2__mapping'!A1:A2,),0)) -> 0 | BC74: =IFERROR(VLOOKUP(E74,'3__mapping'!$A:$B,2,0),"") | BD74: =IFERROR(VLOOKUP(G74,'4__mapping'!$A:$B,2,0),"") | BE74: =IFERROR(VLOOKUP(J74,'5__mapping'!$A:$B,2,0),"") | BF74: =IFERROR(VLOOKUP(K74,'6__mapping'!$A:$B,2,0),"") | BG74: =IFERROR(VLOOKUP(N74,'7__mapping'!$A:$B,2,0),"") | BH74: =IFERROR(VLOOKUP(AA74,'8__mapping'!$A:$B,2,0),"") | BI74: =IFERROR(VLOOKUP(AC74,'9__mapping'!$A:$B,2,0),"") | BJ74: =IFERROR(VLOOKUP(AF74,'10__mapping'!$A:$B,2,0),"") | BK74: =IFERROR(VLOOKUP(AK74,'11__mapping'!$A:$B,2,0),"") | BL74: =IFERROR(VLOOKUP(AQ74,'12__mapping'!$A:$B,2,0),"") | BM74: =IFERROR(VLOOKUP(AT74,'13__mapping'!$A:$B,2,0),"") | BN74: =IFERROR(VLOOKUP(AU74,'14__mapping'!$A:$B,2,0),"") | BO74: =IFERROR(VLOOKUP(AV74,'15__mapping'!$A:$B,2,0),"") | BP74: =IFERROR(VLOOKUP(AW74,'16__mapping'!$A:$B,2,0),"") | BQ74: =IFERROR(VLOOKUP(AX74,'17__mapping'!$A:$B,2,0),"")
A75: Create | AZ75: =IFERROR(VLOOKUP(A75,'0__mapping'!$A:$B,2,0),"") -> CREATE | BA75: =IFERROR(VLOOKUP(C75,'1__mapping'!$A:$B,2,0),"") | BB75: =INDEX('2__mapping'!B2:'2__mapping'!B1,MATCH(BA75&D75, INDEX('2__mapping'!C1:C2&'2__mapping'!A1:A2,),0)) -> 0 | BC75: =IFERROR(VLOOKUP(E75,'3__mapping'!$A:$B,2,0),"") | BD75: =IFERROR(VLOOKUP(G75,'4__mapping'!$A:$B,2,0),"") | BE75: =IFERROR(VLOOKUP(J75,'5__mapping'!$A:$B,2,0),"") | BF75: =IFERROR(VLOOKUP(K75,'6__mapping'!$A:$B,2,0),"") | BG75: =IFERROR(VLOOKUP(N75,'7__mapping'!$A:$B,2,0),"") | BH75: =IFERROR(VLOOKUP(AA75,'8__mapping'!$A:$B,2,0),"") | BI75: =IFERROR(VLOOKUP(AC75,'9__mapping'!$A:$B,2,0),"") | BJ75: =IFERROR(VLOOKUP(AF75,'10__mapping'!$A:$B,2,0),"") | BK75: =IFERROR(VLOOKUP(AK75,'11__mapping'!$A:$B,2,0),"") | BL75: =IFERROR(VLOOKUP(AQ75,'12__mapping'!$A:$B,2,0),"") | BM75: =IFERROR(VLOOKUP(AT75,'13__mapping'!$A:$B,2,0),"") | BN75: =IFERROR(VLOOKUP(AU75,'14__mapping'!$A:$B,2,0),"") | BO75: =IFERROR(VLOOKUP(AV75,'15__mapping'!$A:$B,2,0),"") | BP75: =IFERROR(VLOOKUP(AW75,'16__mapping'!$A:$B,2,0),"") | BQ75: =IFERROR(VLOOKUP(AX75,'17__mapping'!$A:$B,2,0),"")
A76: Create | AZ76: =IFERROR(VLOOKUP(A76,'0__mapping'!$A:$B,2,0),"") -> CREATE | BA76: =IFERROR(VLOOKUP(C76,'1__mapping'!$A:$B,2,0),"") | BB76: =INDEX('2__mapping'!B2:'2__mapping'!B1,MATCH(BA76&D76, INDEX('2__mapping'!C1:C2&'2__mapping'!A1:A2,),0)) -> 0 | BC76: =IFERROR(VLOOKUP(E76,'3__mapping'!$A:$B,2,0),"") | BD76: =IFERROR(VLOOKUP(G76,'4__mapping'!$A:$B,2,0),"") | BE76: =IFERROR(VLOOKUP(J76,'5__mapping'!$A:$B,2,0),"") | BF76: =IFERROR(VLOOKUP(K76,'6__mapping'!$A:$B,2,0),"") | BG76: =IFERROR(VLOOKUP(N76,'7__mapping'!$A:$B,2,0),"") | BH76: =IFERROR(VLOOKUP(AA76,'8__mapping'!$A:$B,2,0),"") | BI76: =IFERROR(VLOOKUP(AC76,'9__mapping'!$A:$B,2,0),"") | BJ76: =IFERROR(VLOOKUP(AF76,'10__mapping'!$A:$B,2,0),"") | BK76: =IFERROR(VLOOKUP(AK76,'11__mapping'!$A:$B,2,0),"") | BL76: =IFERROR(VLOOKUP(AQ76,'12__mapping'!$A:$B,2,0),"") | BM76: =IFERROR(VLOOKUP(AT76,'13__mapping'!$A:$B,2,0),"") | BN76: =IFERROR(VLOOKUP(AU76,'14__mapping'!$A:$B,2,0),"") | BO76: =IFERROR(VLOOKUP(AV76,'15__mapping'!$A:$B,2,0),"") | BP76: =IFERROR(VLOOKUP(AW76,'16__mapping'!$A:$B,2,0),"") | BQ76: =IFERROR(VLOOKUP(AX76,'17__mapping'!$A:$B,2,0),"")
A77: Create | AZ77: =IFERROR(VLOOKUP(A77,'0__mapping'!$A:$B,2,0),"") -> CREATE | BA77: =IFERROR(VLOOKUP(C77,'1__mapping'!$A:$B,2,0),"") | BB77: =INDEX('2__mapping'!B2:'2__mapping'!B1,MATCH(BA77&D77, INDEX('2__mapping'!C1:C2&'2__mapping'!A1:A2,),0)) -> 0 | BC77: =IFERROR(VLOOKUP(E77,'3__mapping'!$A:$B,2,0),"") | BD77: =IFERROR(VLOOKUP(G77,'4__mapping'!$A:$B,2,0),"") | BE77: =IFERROR(VLOOKUP(J77,'5__mapping'!$A:$B,2,0),"") | BF77: =IFERROR(VLOOKUP(K77,'6__mapping'!$A:$B,2,0),"") | BG77: =IFERROR(VLOOKUP(N77,'7__mapping'!$A:$B,2,0),"") | BH77: =IFERROR(VLOOKUP(AA77,'8__mapping'!$A:$B,2,0),"") | BI77: =IFERROR(VLOOKUP(AC77,'9__mapping'!$A:$B,2,0),"") | BJ77: =IFERROR(VLOOKUP(AF77,'10__mapping'!$A:$B,2,0),"") | BK77: =IFERROR(VLOOKUP(AK77,'11__mapping'!$A:$B,2,0),"") | BL77: =IFERROR(VLOOKUP(AQ77,'12__mapping'!$A:$B,2,0),"") | BM77: =IFERROR(VLOOKUP(AT77,'13__mapping'!$A:$B,2,0),"") | BN77: =IFERROR(VLOOKUP(AU77,'14__mapping'!$A:$B,2,0),"") | BO77: =IFERROR(VLOOKUP(AV77,'15__mapping'!$A:$B,2,0),"") | BP77: =IFERROR(VLOOKUP(AW77,'16__mapping'!$A:$B,2,0),"") | BQ77: =IFERROR(VLOOKUP(AX77,'17__mapping'!$A:$B,2,0),"")
A78: Create | AZ78: =IFERROR(VLOOKUP(A78,'0__mapping'!$A:$B,2,0),"") -> CREATE | BA78: =IFERROR(VLOOKUP(C78,'1__mapping'!$A:$B,2,0),"") | BB78: =INDEX('2__mapping'!B2:'2__mapping'!B1,MATCH(BA78&D78, INDEX('2__mapping'!C1:C2&'2__mapping'!A1:A2,),0)) -> 0 | BC78: =IFERROR(VLOOKUP(E78,'3__mapping'!$A:$B,2,0),"") | BD78: =IFERROR(VLOOKUP(G78,'4__mapping'!$A:$B,2,0),"") | BE78: =IFERROR(VLOOKUP(J78,'5__mapping'!$A:$B,2,0),"") | BF78: =IFERROR(VLOOKUP(K78,'6__mapping'!$A:$B,2,0),"") | BG78: =IFERROR(VLOOKUP(N78,'7__mapping'!$A:$B,2,0),"") | BH78: =IFERROR(VLOOKUP(AA78,'8__mapping'!$A:$B,2,0),"") | BI78: =IFERROR(VLOOKUP(AC78,'9__mapping'!$A:$B,2,0),"") | BJ78: =IFERROR(VLOOKUP(AF78,'10__mapping'!$A:$B,2,0),"") | BK78: =IFERROR(VLOOKUP(AK78,'11__mapping'!$A:$B,2,0),"") | BL78: =IFERROR(VLOOKUP(AQ78,'12__mapping'!$A:$B,2,0),"") | BM78: =IFERROR(VLOOKUP(AT78,'13__mapping'!$A:$B,2,0),"") | BN78: =IFERROR(VLOOKUP(AU78,'14__mapping'!$A:$B,2,0),"") | BO78: =IFERROR(VLOOKUP(AV78,'15__mapping'!$A:$B,2,0),"") | BP78: =IFERROR(VLOOKUP(AW78,'16__mapping'!$A:$B,2,0),"") | BQ78: =IFERROR(VLOOKUP(AX78,'17__mapping'!$A:$B,2,0),"")
A79: Create | AZ79: =IFERROR(VLOOKUP(A79,'0__mapping'!$A:$B,2,0),"") -> CREATE | BA79: =IFERROR(VLOOKUP(C79,'1__mapping'!$A:$B,2,0),"") | BB79: =INDEX('2__mapping'!B2:'2__mapping'!B1,MATCH(BA79&D79, INDEX('2__mapping'!C1:C2&'2__mapping'!A1:A2,),0)) -> 0 | BC79: =IFERROR(VLOOKUP(E79,'3__mapping'!$A:$B,2,0),"") | BD79: =IFERROR(VLOOKUP(G79,'4__mapping'!$A:$B,2,0),"") | BE79: =IFERROR(VLOOKUP(J79,'5__mapping'!$A:$B,2,0),"") | BF79: =IFERROR(VLOOKUP(K79,'6__mapping'!$A:$B,2,0),"") | BG79: =IFERROR(VLOOKUP(N79,'7__mapping'!$A:$B,2,0),"") | BH79: =IFERROR(VLOOKUP(AA79,'8__mapping'!$A:$B,2,0),"") | BI79: =IFERROR(VLOOKUP(AC79,'9__mapping'!$A:$B,2,0),"") | BJ79: =IFERROR(VLOOKUP(AF79,'10__mapping'!$A:$B,2,0),"") | BK79: =IFERROR(VLOOKUP(AK79,'11__mapping'!$A:$B,2,0),"") | BL79: =IFERROR(VLOOKUP(AQ79,'12__mapping'!$A:$B,2,0),"") | BM79: =IFERROR(VLOOKUP(AT79,'13__mapping'!$A:$B,2,0),"") | BN79: =IFERROR(VLOOKUP(AU79,'14__mapping'!$A:$B,2,0),"") | BO79: =IFERROR(VLOOKUP(AV79,'15__mapping'!$A:$B,2,0),"") | BP79: =IFERROR(VLOOKUP(AW79,'16__mapping'!$A:$B,2,0),"") | BQ79: =IFERROR(VLOOKUP(AX79,'17__mapping'!$A:$B,2,0),"")
A80: Create | AZ80: =IFERROR(VLOOKUP(A80,'0__mapping'!$A:$B,2,0),"") -> CREATE | BA80: =IFERROR(VLOOKUP(C80,'1__mapping'!$A:$B,2,0),"") | BB80: =INDEX('2__mapping'!B2:'2__mapping'!B1,MATCH(BA80&D80, INDEX('2__mapping'!C1:C2&'2__mapping'!A1:A2,),0)) -> 0 | BC80: =IFERROR(VLOOKUP(E80,'3__mapping'!$A:$B,2,0),"") | BD80: =IFERROR(VLOOKUP(G80,'4__mapping'!$A:$B,2,0),"") | BE80: =IFERROR(VLOOKUP(J80,'5__mapping'!$A:$B,2,0),"") | BF80: =IFERROR(VLOOKUP(K80,'6__mapping'!$A:$B,2,0),"") | BG80: =IFERROR(VLOOKUP(N80,'7__mapping'!$A:$B,2,0),"") | BH80: =IFERROR(VLOOKUP(AA80,'8__mapping'!$A:$B,2,0),"") | BI80: =IFERROR(VLOOKUP(AC80,'9__mapping'!$A:$B,2,0),"") | BJ80: =IFERROR(VLOOKUP(AF80,'10__mapping'!$A:$B,2,0),"") | BK80: =IFERROR(VLOOKUP(AK80,'11__mapping'!$A:$B,2,0),"") | BL80: =IFERROR(VLOOKUP(AQ80,'12__mapping'!$A:$B,2,0),"") | BM80: =IFERROR(VLOOKUP(AT80,'13__mapping'!$A:$B,2,0),"") | BN80: =IFERROR(VLOOKUP(AU80,'14__mapping'!$A:$B,2,0),"") | BO80: =IFERROR(VLOOKUP(AV80,'15__mapping'!$A:$B,2,0),"") | BP80: =IFERROR(VLOOKUP(AW80,'16__mapping'!$A:$B,2,0),"") | BQ80: =IFERROR(VLOOKUP(AX80,'17__mapping'!$A:$B,2,0),"")
A81: Create | AZ81: =IFERROR(VLOOKUP(A81,'0__mapping'!$A:$B,2,0),"") -> CREATE | BA81: =IFERROR(VLOOKUP(C81,'1__mapping'!$A:$B,2,0),"") | BB81: =INDEX('2__mapping'!B2:'2__mapping'!B1,MATCH(BA81&D81, INDEX('2__mapping'!C1:C2&'2__mapping'!A1:A2,),0)) -> 0 | BC81: =IFERROR(VLOOKUP(E81,'3__mapping'!$A:$B,2,0),"") | BD81: =IFERROR(VLOOKUP(G81,'4__mapping'!$A:$B,2,0),"") | BE81: =IFERROR(VLOOKUP(J81,'5__mapping'!$A:$B,2,0),"") | BF81: =IFERROR(VLOOKUP(K81,'6__mapping'!$A:$B,2,0),"") | BG81: =IFERROR(VLOOKUP(N81,'7__mapping'!$A:$B,2,0),"") | BH81: =IFERROR(VLOOKUP(AA81,'8__mapping'!$A:$B,2,0),"") | BI81: =IFERROR(VLOOKUP(AC81,'9__mapping'!$A:$B,2,0),"") | BJ81: =IFERROR(VLOOKUP(AF81,'10__mapping'!$A:$B,2,0),"") | BK81: =IFERROR(VLOOKUP(AK81,'11__mapping'!$A:$B,2,0),"") | BL81: =IFERROR(VLOOKUP(AQ81,'12__mapping'!$A:$B,2,0),"") | BM81: =IFERROR(VLOOKUP(AT81,'13__mapping'!$A:$B,2,0),"") | BN81: =IFERROR(VLOOKUP(AU81,'14__mapping'!$A:$B,2,0),"") | BO81: =IFERROR(VLOOKUP(AV81,'15__mapping'!$A:$B,2,0),"") | BP81: =IFERROR(VLOOKUP(AW81,'16__mapping'!$A:$B,2,0),"") | BQ81: =IFERROR(VLOOKUP(AX81,'17__mapping'!$A:$B,2,0),"")
A82: Create | AZ82: =IFERROR(VLOOKUP(A82,'0__mapping'!$A:$B,2,0),"") -> CREATE | BA82: =IFERROR(VLOOKUP(C82,'1__mapping'!$A:$B,2,0),"") | BB82: =INDEX('2__mapping'!B2:'2__mapping'!B1,MATCH(BA82&D82, INDEX('2__mapping'!C1:C2&'2__mapping'!A1:A2,),0)) -> 0 | BC82: =IFERROR(VLOOKUP(E82,'3__mapping'!$A:$B,2,0),"") | BD82: =IFERROR(VLOOKUP(G82,'4__mapping'!$A:$B,2,0),"") | BE82: =IFERROR(VLOOKUP(J82,'5__mapping'!$A:$B,2,0),"") | BF82: =IFERROR(VLOOKUP(K82,'6__mapping'!$A:$B,2,0),"") | BG82: =IFERROR(VLOOKUP(N82,'7__mapping'!$A:$B,2,0),"") | BH82: =IFERROR(VLOOKUP(AA82,'8__mapping'!$A:$B,2,0),"") | BI82: =IFERROR(VLOOKUP(AC82,'9__mapping'!$A:$B,2,0),"") | BJ82: =IFERROR(VLOOKUP(AF82,'10__mapping'!$A:$B,2,0),"") | BK82: =IFERROR(VLOOKUP(AK82,'11__mapping'!$A:$B,2,0),"") | BL82: =IFERROR(VLOOKUP(AQ82,'12__mapping'!$A:$B,2,0),"") | BM82: =IFERROR(VLOOKUP(AT82,'13__mapping'!$A:$B,2,0),"") | BN82: =IFERROR(VLOOKUP(AU82,'14__mapping'!$A:$B,2,0),"") | BO82: =IFERROR(VLOOKUP(AV82,'15__mapping'!$A:$B,2,0),"") | BP82: =IFERROR(VLOOKUP(AW82,'16__mapping'!$A:$B,2,0),"") | BQ82: =IFERROR(VLOOKUP(AX82,'17__mapping'!$A:$B,2,0),"")
A83: Create | AZ83: =IFERROR(VLOOKUP(A83,'0__mapping'!$A:$B,2,0),"") -> CREATE | BA83: =IFERROR(VLOOKUP(C83,'1__mapping'!$A:$B,2,0),"") | BB83: =INDEX('2__mapping'!B2:'2__mapping'!B1,MATCH(BA83&D83, INDEX('2__mapping'!C1:C2&'2__mapping'!A1:A2,),0)) -> 0 | BC83: =IFERROR(VLOOKUP(E83,'3__mapping'!$A:$B,2,0),"") | BD83: =IFERROR(VLOOKUP(G83,'4__mapping'!$A:$B,2,0),"") | BE83: =IFERROR(VLOOKUP(J83,'5__mapping'!$A:$B,2,0),"") | BF83: =IFERROR(VLOOKUP(K83,'6__mapping'!$A:$B,2,0),"") | BG83: =IFERROR(VLOOKUP(N83,'7__mapping'!$A:$B,2,0),"") | BH83: =IFERROR(VLOOKUP(AA83,'8__mapping'!$A:$B,2,0),"") | BI83: =IFERROR(VLOOKUP(AC83,'9__mapping'!$A:$B,2,0),"") | BJ83: =IFERROR(VLOOKUP(AF83,'10__mapping'!$A:$B,2,0),"") | BK83: =IFERROR(VLOOKUP(AK83,'11__mapping'!$A:$B,2,0),"") | BL83: =IFERROR(VLOOKUP(AQ83,'12__mapping'!$A:$B,2,0),"") | BM83: =IFERROR(VLOOKUP(AT83,'13__mapping'!$A:$B,2,0),"") | BN83: =IFERROR(VLOOKUP(AU83,'14__mapping'!$A:$B,2,0),"") | BO83: =IFERROR(VLOOKUP(AV83,'15__mapping'!$A:$B,2,0),"") | BP83: =IFERROR(VLOOKUP(AW83,'16__mapping'!$A:$B,2,0),"") | BQ83: =IFERROR(VLOOKUP(AX83,'17__mapping'!$A:$B,2,0),"")
A84: Create | AZ84: =IFERROR(VLOOKUP(A84,'0__mapping'!$A:$B,2,0),"") -> CREATE | BA84: =IFERROR(VLOOKUP(C84,'1__mapping'!$A:$B,2,0),"") | BB84: =INDEX('2__mapping'!B2:'2__mapping'!B1,MATCH(BA84&D84, INDEX('2__mapping'!C1:C2&'2__mapping'!A1:A2,),0)) -> 0 | BC84: =IFERROR(VLOOKUP(E84,'3__mapping'!$A:$B,2,0),"") | BD84: =IFERROR(VLOOKUP(G84,'4__mapping'!$A:$B,2,0),"") | BE84: =IFERROR(VLOOKUP(J84,'5__mapping'!$A:$B,2,0),"") | BF84: =IFERROR(VLOOKUP(K84,'6__mapping'!$A:$B,2,0),"") | BG84: =IFERROR(VLOOKUP(N84,'7__mapping'!$A:$B,2,0),"") | BH84: =IFERROR(VLOOKUP(AA84,'8__mapping'!$A:$B,2,0),"") | BI84: =IFERROR(VLOOKUP(AC84,'9__mapping'!$A:$B,2,0),"") | BJ84: =IFERROR(VLOOKUP(AF84,'10__mapping'!$A:$B,2,0),"") | BK84: =IFERROR(VLOOKUP(AK84,'11__mapping'!$A:$B,2,0),"") | BL84: =IFERROR(VLOOKUP(AQ84,'12__mapping'!$A:$B,2,0),"") | BM84: =IFERROR(VLOOKUP(AT84,'13__mapping'!$A:$B,2,0),"") | BN84: =IFERROR(VLOOKUP(AU84,'14__mapping'!$A:$B,2,0),"") | BO84: =IFERROR(VLOOKUP(AV84,'15__mapping'!$A:$B,2,0),"") | BP84: =IFERROR(VLOOKUP(AW84,'16__mapping'!$A:$B,2,0),"") | BQ84: =IFERROR(VLOOKUP(AX84,'17__mapping'!$A:$B,2,0),"")
A85: Create | AZ85: =IFERROR(VLOOKUP(A85,'0__mapping'!$A:$B,2,0),"") -> CREATE | BA85: =IFERROR(VLOOKUP(C85,'1__mapping'!$A:$B,2,0),"") | BB85: =INDEX('2__mapping'!B2:'2__mapping'!B1,MATCH(BA85&D85, INDEX('2__mapping'!C1:C2&'2__mapping'!A1:A2,),0)) -> 0 | BC85: =IFERROR(VLOOKUP(E85,'3__mapping'!$A:$B,2,0),"") | BD85: =IFERROR(VLOOKUP(G85,'4__mapping'!$A:$B,2,0),"") | BE85: =IFERROR(VLOOKUP(J85,'5__mapping'!$A:$B,2,0),"") | BF85: =IFERROR(VLOOKUP(K85,'6__mapping'!$A:$B,2,0),"") | BG85: =IFERROR(VLOOKUP(N85,'7__mapping'!$A:$B,2,0),"") | BH85: =IFERROR(VLOOKUP(AA85,'8__mapping'!$A:$B,2,0),"") | BI85: =IFERROR(VLOOKUP(AC85,'9__mapping'!$A:$B,2,0),"") | BJ85: =IFERROR(VLOOKUP(AF85,'10__mapping'!$A:$B,2,0),"") | BK85: =IFERROR(VLOOKUP(AK85,'11__mapping'!$A:$B,2,0),"") | BL85: =IFERROR(VLOOKUP(AQ85,'12__mapping'!$A:$B,2,0),"") | BM85: =IFERROR(VLOOKUP(AT85,'13__mapping'!$A:$B,2,0),"") | BN85: =IFERROR(VLOOKUP(AU85,'14__mapping'!$A:$B,2,0),"") | BO85: =IFERROR(VLOOKUP(AV85,'15__mapping'!$A:$B,2,0),"") | BP85: =IFERROR(VLOOKUP(AW85,'16__mapping'!$A:$B,2,0),"") | BQ85: =IFERROR(VLOOKUP(AX85,'17__mapping'!$A:$B,2,0),"")
A86: Create | AZ86: =IFERROR(VLOOKUP(A86,'0__mapping'!$A:$B,2,0),"") -> CREATE | BA86: =IFERROR(VLOOKUP(C86,'1__mapping'!$A:$B,2,0),"") | BB86: =INDEX('2__mapping'!B2:'2__mapping'!B1,MATCH(BA86&D86, INDEX('2__mapping'!C1:C2&'2__mapping'!A1:A2,),0)) -> 0 | BC86: =IFERROR(VLOOKUP(E86,'3__mapping'!$A:$B,2,0),"") | BD86: =IFERROR(VLOOKUP(G86,'4__mapping'!$A:$B,2,0),"") | BE86: =IFERROR(VLOOKUP(J86,'5__mapping'!$A:$B,2,0),"") | BF86: =IFERROR(VLOOKUP(K86,'6__mapping'!$A:$B,2,0),"") | BG86: =IFERROR(VLOOKUP(N86,'7__mapping'!$A:$B,2,0),"") | BH86: =IFERROR(VLOOKUP(AA86,'8__mapping'!$A:$B,2,0),"") | BI86: =IFERROR(VLOOKUP(AC86,'9__mapping'!$A:$B,2,0),"") | BJ86: =IFERROR(VLOOKUP(AF86,'10__mapping'!$A:$B,2,0),"") | BK86: =IFERROR(VLOOKUP(AK86,'11__mapping'!$A:$B,2,0),"") | BL86: =IFERROR(VLOOKUP(AQ86,'12__mapping'!$A:$B,2,0),"") | BM86: =IFERROR(VLOOKUP(AT86,'13__mapping'!$A:$B,2,0),"") | BN86: =IFERROR(VLOOKUP(AU86,'14__mapping'!$A:$B,2,0),"") | BO86: =IFERROR(VLOOKUP(AV86,'15__mapping'!$A:$B,2,0),"") | BP86: =IFERROR(VLOOKUP(AW86,'16__mapping'!$A:$B,2,0),"") | BQ86: =IFERROR(VLOOKUP(AX86,'17__mapping'!$A:$B,2,0),"")
A87: Create | AZ87: =IFERROR(VLOOKUP(A87,'0__mapping'!$A:$B,2,0),"") -> CREATE | BA87: =IFERROR(VLOOKUP(C87,'1__mapping'!$A:$B,2,0),"") | BB87: =INDEX('2__mapping'!B2:'2__mapping'!B1,MATCH(BA87&D87, INDEX('2__mapping'!C1:C2&'2__mapping'!A1:A2,),0)) -> 0 | BC87: =IFERROR(VLOOKUP(E87,'3__mapping'!$A:$B,2,0),"") | BD87: =IFERROR(VLOOKUP(G87,'4__mapping'!$A:$B,2,0),"") | BE87: =IFERROR(VLOOKUP(J87,'5__mapping'!$A:$B,2,0),"") | BF87: =IFERROR(VLOOKUP(K87,'6__mapping'!$A:$B,2,0),"") | BG87: =IFERROR(VLOOKUP(N87,'7__mapping'!$A:$B,2,0),"") | BH87: =IFERROR(VLOOKUP(AA87,'8__mapping'!$A:$B,2,0),"") | BI87: =IFERROR(VLOOKUP(AC87,'9__mapping'!$A:$B,2,0),"") | BJ87: =IFERROR(VLOOKUP(AF87,'10__mapping'!$A:$B,2,0),"") | BK87: =IFERROR(VLOOKUP(AK87,'11__mapping'!$A:$B,2,0),"") | BL87: =IFERROR(VLOOKUP(AQ87,'12__mapping'!$A:$B,2,0),"") | BM87: =IFERROR(VLOOKUP(AT87,'13__mapping'!$A:$B,2,0),"") | BN87: =IFERROR(VLOOKUP(AU87,'14__mapping'!$A:$B,2,0),"") | BO87: =IFERROR(VLOOKUP(AV87,'15__mapping'!$A:$B,2,0),"") | BP87: =IFERROR(VLOOKUP(AW87,'16__mapping'!$A:$B,2,0),"") | BQ87: =IFERROR(VLOOKUP(AX87,'17__mapping'!$A:$B,2,0),"")
A88: Create | AZ88: =IFERROR(VLOOKUP(A88,'0__mapping'!$A:$B,2,0),"") -> CREATE | BA88: =IFERROR(VLOOKUP(C88,'1__mapping'!$A:$B,2,0),"") | BB88: =INDEX('2__mapping'!B2:'2__mapping'!B1,MATCH(BA88&D88, INDEX('2__mapping'!C1:C2&'2__mapping'!A1:A2,),0)) -> 0 | BC88: =IFERROR(VLOOKUP(E88,'3__mapping'!$A:$B,2,0),"") | BD88: =IFERROR(VLOOKUP(G88,'4__mapping'!$A:$B,2,0),"") | BE88: =IFERROR(VLOOKUP(J88,'5__mapping'!$A:$B,2,0),"") | BF88: =IFERROR(VLOOKUP(K88,'6__mapping'!$A:$B,2,0),"") | BG88: =IFERROR(VLOOKUP(N88,'7__mapping'!$A:$B,2,0),"") | BH88: =IFERROR(VLOOKUP(AA88,'8__mapping'!$A:$B,2,0),"") | BI88: =IFERROR(VLOOKUP(AC88,'9__mapping'!$A:$B,2,0),"") | BJ88: =IFERROR(VLOOKUP(AF88,'10__mapping'!$A:$B,2,0),"") | BK88: =IFERROR(VLOOKUP(AK88,'11__mapping'!$A:$B,2,0),"") | BL88: =IFERROR(VLOOKUP(AQ88,'12__mapping'!$A:$B,2,0),"") | BM88: =IFERROR(VLOOKUP(AT88,'13__mapping'!$A:$B,2,0),"") | BN88: =IFERROR(VLOOKUP(AU88,'14__mapping'!$A:$B,2,0),"") | BO88: =IFERROR(VLOOKUP(AV88,'15__mapping'!$A:$B,2,0),"") | BP88: =IFERROR(VLOOKUP(AW88,'16__mapping'!$A:$B,2,0),"") | BQ88: =IFERROR(VLOOKUP(AX88,'17__mapping'!$A:$B,2,0),"")
A89: Create | AZ89: =IFERROR(VLOOKUP(A89,'0__mapping'!$A:$B,2,0),"") -> CREATE | BA89: =IFERROR(VLOOKUP(C89,'1__mapping'!$A:$B,2,0),"") | BB89: =INDEX('2__mapping'!B2:'2__mapping'!B1,MATCH(BA89&D89, INDEX('2__mapping'!C1:C2&'2__mapping'!A1:A2,),0)) -> 0 | BC89: =IFERROR(VLOOKUP(E89,'3__mapping'!$A:$B,2,0),"") | BD89: =IFERROR(VLOOKUP(G89,'4__mapping'!$A:$B,2,0),"") | BE89: =IFERROR(VLOOKUP(J89,'5__mapping'!$A:$B,2,0),"") | BF89: =IFERROR(VLOOKUP(K89,'6__mapping'!$A:$B,2,0),"") | BG89: =IFERROR(VLOOKUP(N89,'7__mapping'!$A:$B,2,0),"") | BH89: =IFERROR(VLOOKUP(AA89,'8__mapping'!$A:$B,2,0),"") | BI89: =IFERROR(VLOOKUP(AC89,'9__mapping'!$A:$B,2,0),"") | BJ89: =IFERROR(VLOOKUP(AF89,'10__mapping'!$A:$B,2,0),"") | BK89: =IFERROR(VLOOKUP(AK89,'11__mapping'!$A:$B,2,0),"") | BL89: =IFERROR(VLOOKUP(AQ89,'12__mapping'!$A:$B,2,0),"") | BM89: =IFERROR(VLOOKUP(AT89,'13__mapping'!$A:$B,2,0),"") | BN89: =IFERROR(VLOOKUP(AU89,'14__mapping'!$A:$B,2,0),"") | BO89: =IFERROR(VLOOKUP(AV89,'15__mapping'!$A:$B,2,0),"") | BP89: =IFERROR(VLOOKUP(AW89,'16__mapping'!$A:$B,2,0),"") | BQ89: =IFERROR(VLOOKUP(AX89,'17__mapping'!$A:$B,2,0),"")
A90: Create | AZ90: =IFERROR(VLOOKUP(A90,'0__mapping'!$A:$B,2,0),"") -> CREATE | BA90: =IFERROR(VLOOKUP(C90,'1__mapping'!$A:$B,2,0),"") | BB90: =INDEX('2__mapping'!B2:'2__mapping'!B1,MATCH(BA90&D90, INDEX('2__mapping'!C1:C2&'2__mapping'!A1:A2,),0)) -> 0 | BC90: =IFERROR(VLOOKUP(E90,'3__mapping'!$A:$B,2,0),"") | BD90: =IFERROR(VLOOKUP(G90,'4__mapping'!$A:$B,2,0),"") | BE90: =IFERROR(VLOOKUP(J90,'5__mapping'!$A:$B,2,0),"") | BF90: =IFERROR(VLOOKUP(K90,'6__mapping'!$A:$B,2,0),"") | BG90: =IFERROR(VLOOKUP(N90,'7__mapping'!$A:$B,2,0),"") | BH90: =IFERROR(VLOOKUP(AA90,'8__mapping'!$A:$B,2,0),"") | BI90: =IFERROR(VLOOKUP(AC90,'9__mapping'!$A:$B,2,0),"") | BJ90: =IFERROR(VLOOKUP(AF90,'10__mapping'!$A:$B,2,0),"") | BK90: =IFERROR(VLOOKUP(AK90,'11__mapping'!$A:$B,2,0),"") | BL90: =IFERROR(VLOOKUP(AQ90,'12__mapping'!$A:$B,2,0),"") | BM90: =IFERROR(VLOOKUP(AT90,'13__mapping'!$A:$B,2,0),"") | BN90: =IFERROR(VLOOKUP(AU90,'14__mapping'!$A:$B,2,0),"") | BO90: =IFERROR(VLOOKUP(AV90,'15__mapping'!$A:$B,2,0),"") | BP90: =IFERROR(VLOOKUP(AW90,'16__mapping'!$A:$B,2,0),"") | BQ90: =IFERROR(VLOOKUP(AX90,'17__mapping'!$A:$B,2,0),"")
A91: Create | AZ91: =IFERROR(VLOOKUP(A91,'0__mapping'!$A:$B,2,0),"") -> CREATE | BA91: =IFERROR(VLOOKUP(C91,'1__mapping'!$A:$B,2,0),"") | BB91: =INDEX('2__mapping'!B2:'2__mapping'!B1,MATCH(BA91&D91, INDEX('2__mapping'!C1:C2&'2__mapping'!A1:A2,),0)) -> 0 | BC91: =IFERROR(VLOOKUP(E91,'3__mapping'!$A:$B,2,0),"") | BD91: =IFERROR(VLOOKUP(G91,'4__mapping'!$A:$B,2,0),"") | BE91: =IFERROR(VLOOKUP(J91,'5__mapping'!$A:$B,2,0),"") | BF91: =IFERROR(VLOOKUP(K91,'6__mapping'!$A:$B,2,0),"") | BG91: =IFERROR(VLOOKUP(N91,'7__mapping'!$A:$B,2,0),"") | BH91: =IFERROR(VLOOKUP(AA91,'8__mapping'!$A:$B,2,0),"") | BI91: =IFERROR(VLOOKUP(AC91,'9__mapping'!$A:$B,2,0),"") | BJ91: =IFERROR(VLOOKUP(AF91,'10__mapping'!$A:$B,2,0),"") | BK91: =IFERROR(VLOOKUP(AK91,'11__mapping'!$A:$B,2,0),"") | BL91: =IFERROR(VLOOKUP(AQ91,'12__mapping'!$A:$B,2,0),"") | BM91: =IFERROR(VLOOKUP(AT91,'13__mapping'!$A:$B,2,0),"") | BN91: =IFERROR(VLOOKUP(AU91,'14__mapping'!$A:$B,2,0),"") | BO91: =IFERROR(VLOOKUP(AV91,'15__mapping'!$A:$B,2,0),"") | BP91: =IFERROR(VLOOKUP(AW91,'16__mapping'!$A:$B,2,0),"") | BQ91: =IFERROR(VLOOKUP(AX91,'17__mapping'!$A:$B,2,0),"")
A92: Create | AZ92: =IFERROR(VLOOKUP(A92,'0__mapping'!$A:$B,2,0),"") -> CREATE | BA92: =IFERROR(VLOOKUP(C92,'1__mapping'!$A:$B,2,0),"") | BB92: =INDEX('2__mapping'!B2:'2__mapping'!B1,MATCH(BA92&D92, INDEX('2__mapping'!C1:C2&'2__mapping'!A1:A2,),0)) -> 0 | BC92: =IFERROR(VLOOKUP(E92,'3__mapping'!$A:$B,2,0),"") | BD92: =IFERROR(VLOOKUP(G92,'4__mapping'!$A:$B,2,0),"") | BE92: =IFERROR(VLOOKUP(J92,'5__mapping'!$A:$B,2,0),"") | BF92: =IFERROR(VLOOKUP(K92,'6__mapping'!$A:$B,2,0),"") | BG92: =IFERROR(VLOOKUP(N92,'7__mapping'!$A:$B,2,0),"") | BH92: =IFERROR(VLOOKUP(AA92,'8__mapping'!$A:$B,2,0),"") | BI92: =IFERROR(VLOOKUP(AC92,'9__mapping'!$A:$B,2,0),"") | BJ92: =IFERROR(VLOOKUP(AF92,'10__mapping'!$A:$B,2,0),"") | BK92: =IFERROR(VLOOKUP(AK92,'11__mapping'!$A:$B,2,0),"") | BL92: =IFERROR(VLOOKUP(AQ92,'12__mapping'!$A:$B,2,0),"") | BM92: =IFERROR(VLOOKUP(AT92,'13__mapping'!$A:$B,2,0),"") | BN92: =IFERROR(VLOOKUP(AU92,'14__mapping'!$A:$B,2,0),"") | BO92: =IFERROR(VLOOKUP(AV92,'15__mapping'!$A:$B,2,0),"") | BP92: =IFERROR(VLOOKUP(AW92,'16__mapping'!$A:$B,2,0),"") | BQ92: =IFERROR(VLOOKUP(AX92,'17__mapping'!$A:$B,2,0),"")
A93: Create | AZ93: =IFERROR(VLOOKUP(A93,'0__mapping'!$A:$B,2,0),"") -> CREATE | BA93: =IFERROR(VLOOKUP(C93,'1__mapping'!$A:$B,2,0),"") | BB93: =INDEX('2__mapping'!B2:'2__mapping'!B1,MATCH(BA93&D93, INDEX('2__mapping'!C1:C2&'2__mapping'!A1:A2,),0)) -> 0 | BC93: =IFERROR(VLOOKUP(E93,'3__mapping'!$A:$B,2,0),"") | BD93: =IFERROR(VLOOKUP(G93,'4__mapping'!$A:$B,2,0),"") | BE93: =IFERROR(VLOOKUP(J93,'5__mapping'!$A:$B,2,0),"") | BF93: =IFERROR(VLOOKUP(K93,'6__mapping'!$A:$B,2,0),"") | BG93: =IFERROR(VLOOKUP(N93,'7__mapping'!$A:$B,2,0),"") | BH93: =IFERROR(VLOOKUP(AA93,'8__mapping'!$A:$B,2,0),"") | BI93: =IFERROR(VLOOKUP(AC93,'9__mapping'!$A:$B,2,0),"") | BJ93: =IFERROR(VLOOKUP(AF93,'10__mapping'!$A:$B,2,0),"") | BK93: =IFERROR(VLOOKUP(AK93,'11__mapping'!$A:$B,2,0),"") | BL93: =IFERROR(VLOOKUP(AQ93,'12__mapping'!$A:$B,2,0),"") | BM93: =IFERROR(VLOOKUP(AT93,'13__mapping'!$A:$B,2,0),"") | BN93: =IFERROR(VLOOKUP(AU93,'14__mapping'!$A:$B,2,0),"") | BO93: =IFERROR(VLOOKUP(AV93,'15__mapping'!$A:$B,2,0),"") | BP93: =IFERROR(VLOOKUP(AW93,'16__mapping'!$A:$B,2,0),"") | BQ93: =IFERROR(VLOOKUP(AX93,'17__mapping'!$A:$B,2,0),"")
A94: Create | AZ94: =IFERROR(VLOOKUP(A94,'0__mapping'!$A:$B,2,0),"") -> CREATE | BA94: =IFERROR(VLOOKUP(C94,'1__mapping'!$A:$B,2,0),"") | BB94: =INDEX('2__mapping'!B2:'2__mapping'!B1,MATCH(BA94&D94, INDEX('2__mapping'!C1:C2&'2__mapping'!A1:A2,),0)) -> 0 | BC94: =IFERROR(VLOOKUP(E94,'3__mapping'!$A:$B,2,0),"") | BD94: =IFERROR(VLOOKUP(G94,'4__mapping'!$A:$B,2,0),"") | BE94: =IFERROR(VLOOKUP(J94,'5__mapping'!$A:$B,2,0),"") | BF94: =IFERROR(VLOOKUP(K94,'6__mapping'!$A:$B,2,0),"") | BG94: =IFERROR(VLOOKUP(N94,'7__mapping'!$A:$B,2,0),"") | BH94: =IFERROR(VLOOKUP(AA94,'8__mapping'!$A:$B,2,0),"") | BI94: =IFERROR(VLOOKUP(AC94,'9__mapping'!$A:$B,2,0),"") | BJ94: =IFERROR(VLOOKUP(AF94,'10__mapping'!$A:$B,2,0),"") | BK94: =IFERROR(VLOOKUP(AK94,'11__mapping'!$A:$B,2,0),"") | BL94: =IFERROR(VLOOKUP(AQ94,'12__mapping'!$A:$B,2,0),"") | BM94: =IFERROR(VLOOKUP(AT94,'13__mapping'!$A:$B,2,0),"") | BN94: =IFERROR(VLOOKUP(AU94,'14__mapping'!$A:$B,2,0),"") | BO94: =IFERROR(VLOOKUP(AV94,'15__mapping'!$A:$B,2,0),"") | BP94: =IFERROR(VLOOKUP(AW94,'16__mapping'!$A:$B,2,0),"") | BQ94: =IFERROR(VLOOKUP(AX94,'17__mapping'!$A:$B,2,0),"")
A95: Create | AZ95: =IFERROR(VLOOKUP(A95,'0__mapping'!$A:$B,2,0),"") -> CREATE | BA95: =IFERROR(VLOOKUP(C95,'1__mapping'!$A:$B,2,0),"") | BB95: =INDEX('2__mapping'!B2:'2__mapping'!B1,MATCH(BA95&D95, INDEX('2__mapping'!C1:C2&'2__mapping'!A1:A2,),0)) -> 0 | BC95: =IFERROR(VLOOKUP(E95,'3__mapping'!$A:$B,2,0),"") | BD95: =IFERROR(VLOOKUP(G95,'4__mapping'!$A:$B,2,0),"") | BE95: =IFERROR(VLOOKUP(J95,'5__mapping'!$A:$B,2,0),"") | BF95: =IFERROR(VLOOKUP(K95,'6__mapping'!$A:$B,2,0),"") | BG95: =IFERROR(VLOOKUP(N95,'7__mapping'!$A:$B,2,0),"") | BH95: =IFERROR(VLOOKUP(AA95,'8__mapping'!$A:$B,2,0),"") | BI95: =IFERROR(VLOOKUP(AC95,'9__mapping'!$A:$B,2,0),"") | BJ95: =IFERROR(VLOOKUP(AF95,'10__mapping'!$A:$B,2,0),"") | BK95: =IFERROR(VLOOKUP(AK95,'11__mapping'!$A:$B,2,0),"") | BL95: =IFERROR(VLOOKUP(AQ95,'12__mapping'!$A:$B,2,0),"") | BM95: =IFERROR(VLOOKUP(AT95,'13__mapping'!$A:$B,2,0),"") | BN95: =IFERROR(VLOOKUP(AU95,'14__mapping'!$A:$B,2,0),"") | BO95: =IFERROR(VLOOKUP(AV95,'15__mapping'!$A:$B,2,0),"") | BP95: =IFERROR(VLOOKUP(AW95,'16__mapping'!$A:$B,2,0),"") | BQ95: =IFERROR(VLOOKUP(AX95,'17__mapping'!$A:$B,2,0),"")
A96: Create | AZ96: =IFERROR(VLOOKUP(A96,'0__mapping'!$A:$B,2,0),"") -> CREATE | BA96: =IFERROR(VLOOKUP(C96,'1__mapping'!$A:$B,2,0),"") | BB96: =INDEX('2__mapping'!B2:'2__mapping'!B1,MATCH(BA96&D96, INDEX('2__mapping'!C1:C2&'2__mapping'!A1:A2,),0)) -> 0 | BC96: =IFERROR(VLOOKUP(E96,'3__mapping'!$A:$B,2,0),"") | BD96: =IFERROR(VLOOKUP(G96,'4__mapping'!$A:$B,2,0),"") | BE96: =IFERROR(VLOOKUP(J96,'5__mapping'!$A:$B,2,0),"") | BF96: =IFERROR(VLOOKUP(K96,'6__mapping'!$A:$B,2,0),"") | BG96: =IFERROR(VLOOKUP(N96,'7__mapping'!$A:$B,2,0),"") | BH96: =IFERROR(VLOOKUP(AA96,'8__mapping'!$A:$B,2,0),"") | BI96: =IFERROR(VLOOKUP(AC96,'9__mapping'!$A:$B,2,0),"") | BJ96: =IFERROR(VLOOKUP(AF96,'10__mapping'!$A:$B,2,0),"") | BK96: =IFERROR(VLOOKUP(AK96,'11__mapping'!$A:$B,2,0),"") | BL96: =IFERROR(VLOOKUP(AQ96,'12__mapping'!$A:$B,2,0),"") | BM96: =IFERROR(VLOOKUP(AT96,'13__mapping'!$A:$B,2,0),"") | BN96: =IFERROR(VLOOKUP(AU96,'14__mapping'!$A:$B,2,0),"") | BO96: =IFERROR(VLOOKUP(AV96,'15__mapping'!$A:$B,2,0),"") | BP96: =IFERROR(VLOOKUP(AW96,'16__mapping'!$A:$B,2,0),"") | BQ96: =IFERROR(VLOOKUP(AX96,'17__mapping'!$A:$B,2,0),"")
A97: Create | AZ97: =IFERROR(VLOOKUP(A97,'0__mapping'!$A:$B,2,0),"") -> CREATE | BA97: =IFERROR(VLOOKUP(C97,'1__mapping'!$A:$B,2,0),"") | BB97: =INDEX('2__mapping'!B2:'2__mapping'!B1,MATCH(BA97&D97, INDEX('2__mapping'!C1:C2&'2__mapping'!A1:A2,),0)) -> 0 | BC97: =IFERROR(VLOOKUP(E97,'3__mapping'!$A:$B,2,0),"") | BD97: =IFERROR(VLOOKUP(G97,'4__mapping'!$A:$B,2,0),"") | BE97: =IFERROR(VLOOKUP(J97,'5__mapping'!$A:$B,2,0),"") | BF97: =IFERROR(VLOOKUP(K97,'6__mapping'!$A:$B,2,0),"") | BG97: =IFERROR(VLOOKUP(N97,'7__mapping'!$A:$B,2,0),"") | BH97: =IFERROR(VLOOKUP(AA97,'8__mapping'!$A:$B,2,0),"") | BI97: =IFERROR(VLOOKUP(AC97,'9__mapping'!$A:$B,2,0),"") | BJ97: =IFERROR(VLOOKUP(AF97,'10__mapping'!$A:$B,2,0),"") | BK97: =IFERROR(VLOOKUP(AK97,'11__mapping'!$A:$B,2,0),"") | BL97: =IFERROR(VLOOKUP(AQ97,'12__mapping'!$A:$B,2,0),"") | BM97: =IFERROR(VLOOKUP(AT97,'13__mapping'!$A:$B,2,0),"") | BN97: =IFERROR(VLOOKUP(AU97,'14__mapping'!$A:$B,2,0),"") | BO97: =IFERROR(VLOOKUP(AV97,'15__mapping'!$A:$B,2,0),"") | BP97: =IFERROR(VLOOKUP(AW97,'16__mapping'!$A:$B,2,0),"") | BQ97: =IFERROR(VLOOKUP(AX97,'17__mapping'!$A:$B,2,0),"")
A98: Create | AZ98: =IFERROR(VLOOKUP(A98,'0__mapping'!$A:$B,2,0),"") -> CREATE | BA98: =IFERROR(VLOOKUP(C98,'1__mapping'!$A:$B,2,0),"") | BB98: =INDEX('2__mapping'!B2:'2__mapping'!B1,MATCH(BA98&D98, INDEX('2__mapping'!C1:C2&'2__mapping'!A1:A2,),0)) -> 0 | BC98: =IFERROR(VLOOKUP(E98,'3__mapping'!$A:$B,2,0),"") | BD98: =IFERROR(VLOOKUP(G98,'4__mapping'!$A:$B,2,0),"") | BE98: =IFERROR(VLOOKUP(J98,'5__mapping'!$A:$B,2,0),"") | BF98: =IFERROR(VLOOKUP(K98,'6__mapping'!$A:$B,2,0),"") | BG98: =IFERROR(VLOOKUP(N98,'7__mapping'!$A:$B,2,0),"") | BH98: =IFERROR(VLOOKUP(AA98,'8__mapping'!$A:$B,2,0),"") | BI98: =IFERROR(VLOOKUP(AC98,'9__mapping'!$A:$B,2,0),"") | BJ98: =IFERROR(VLOOKUP(AF98,'10__mapping'!$A:$B,2,0),"") | BK98: =IFERROR(VLOOKUP(AK98,'11__mapping'!$A:$B,2,0),"") | BL98: =IFERROR(VLOOKUP(AQ98,'12__mapping'!$A:$B,2,0),"") | BM98: =IFERROR(VLOOKUP(AT98,'13__mapping'!$A:$B,2,0),"") | BN98: =IFERROR(VLOOKUP(AU98,'14__mapping'!$A:$B,2,0),"") | BO98: =IFERROR(VLOOKUP(AV98,'15__mapping'!$A:$B,2,0),"") | BP98: =IFERROR(VLOOKUP(AW98,'16__mapping'!$A:$B,2,0),"") | BQ98: =IFERROR(VLOOKUP(AX98,'17__mapping'!$A:$B,2,0),"")
A99: Create | AZ99: =IFERROR(VLOOKUP(A99,'0__mapping'!$A:$B,2,0),"") -> CREATE | BA99: =IFERROR(VLOOKUP(C99,'1__mapping'!$A:$B,2,0),"") | BB99: =INDEX('2__mapping'!B2:'2__mapping'!B1,MATCH(BA99&D99, INDEX('2__mapping'!C1:C2&'2__mapping'!A1:A2,),0)) -> 0 | BC99: =IFERROR(VLOOKUP(E99,'3__mapping'!$A:$B,2,0),"") | BD99: =IFERROR(VLOOKUP(G99,'4__mapping'!$A:$B,2,0),"") | BE99: =IFERROR(VLOOKUP(J99,'5__mapping'!$A:$B,2,0),"") | BF99: =IFERROR(VLOOKUP(K99,'6__mapping'!$A:$B,2,0),"") | BG99: =IFERROR(VLOOKUP(N99,'7__mapping'!$A:$B,2,0),"") | BH99: =IFERROR(VLOOKUP(AA99,'8__mapping'!$A:$B,2,0),"") | BI99: =IFERROR(VLOOKUP(AC99,'9__mapping'!$A:$B,2,0),"") | BJ99: =IFERROR(VLOOKUP(AF99,'10__mapping'!$A:$B,2,0),"") | BK99: =IFERROR(VLOOKUP(AK99,'11__mapping'!$A:$B,2,0),"") | BL99: =IFERROR(VLOOKUP(AQ99,'12__mapping'!$A:$B,2,0),"") | BM99: =IFERROR(VLOOKUP(AT99,'13__mapping'!$A:$B,2,0),"") | BN99: =IFERROR(VLOOKUP(AU99,'14__mapping'!$A:$B,2,0),"") | BO99: =IFERROR(VLOOKUP(AV99,'15__mapping'!$A:$B,2,0),"") | BP99: =IFERROR(VLOOKUP(AW99,'16__mapping'!$A:$B,2,0),"") | BQ99: =IFERROR(VLOOKUP(AX99,'17__mapping'!$A:$B,2,0),"")
A100: Create | AZ100: =IFERROR(VLOOKUP(A100,'0__mapping'!$A:$B,2,0),"") -> CREATE | BA100: =IFERROR(VLOOKUP(C100,'1__mapping'!$A:$B,2,0),"") | BB100: =INDEX('2__mapping'!B2:'2__mapping'!B1,MATCH(BA100&D100, INDEX('2__mapping'!C1:C2&'2__mapping'!A1:A2,),0)) -> 0 | BC100: =IFERROR(VLOOKUP(E100,'3__mapping'!$A:$B,2,0),"") | BD100: =IFERROR(VLOOKUP(G100,'4__mapping'!$A:$B,2,0),"") | BE100: =IFERROR(VLOOKUP(J100,'5__mapping'!$A:$B,2,0),"") | BF100: =IFERROR(VLOOKUP(K100,'6__mapping'!$A:$B,2,0),"") | BG100: =IFERROR(VLOOKUP(N100,'7__mapping'!$A:$B,2,0),"") | BH100: =IFERROR(VLOOKUP(AA100,'8__mapping'!$A:$B,2,0),"") | BI100: =IFERROR(VLOOKUP(AC100,'9__mapping'!$A:$B,2,0),"") | BJ100: =IFERROR(VLOOKUP(AF100,'10__mapping'!$A:$B,2,0),"") | BK100: =IFERROR(VLOOKUP(AK100,'11__mapping'!$A:$B,2,0),"") | BL100: =IFERROR(VLOOKUP(AQ100,'12__mapping'!$A:$B,2,0),"") | BM100: =IFERROR(VLOOKUP(AT100,'13__mapping'!$A:$B,2,0),"") | BN100: =IFERROR(VLOOKUP(AU100,'14__mapping'!$A:$B,2,0),"") | BO100: =IFERROR(VLOOKUP(AV100,'15__mapping'!$A:$B,2,0),"") | BP100: =IFERROR(VLOOKUP(AW100,'16__mapping'!$A:$B,2,0),"") | BQ100: =IFERROR(VLOOKUP(AX100,'17__mapping'!$A:$B,2,0),"")
...

Sheet 0__mapping
A1: label | B1: value
A2: Create | B2: CREATE
A3: Edit | B3: EDIT

Sheet 1__mapping
A1: label | B1: value
A2: A Company | B2: f00901e4-44e4-45ae-a8b6-b687727925da
A3: ABC | B3: e67e34fd-723f-44e0-81db-ab17acdaea6a
A4: Acme Corporation | B4: 32104d43-bb4d-4e3a-abf6-2af3d09add6d
A5: Crystal Dynamics | B5: cbbd14f3-c38c-4bf6-a886-ceaf7b51f6bb
A6: EDG | B6: 0e1edff7-9921-465a-9d9e-52bd21d09c60
A7: Example Corporation | B7: f5af7b22-1548-4efa-b31c-8d6f44b692e1
A8: Jaguar Corporation | B8: 2c902f19-5144-480b-97c1-408d47105794
A9: Keystone Enterprises | B9: 8a0035c0-6e70-41c2-87c9-d50581f5a3ee
A10: Kitsune Electric | B10: 0d3e4243-b524-4dad-b9dd-5c4cdd7ed8ba
A11: Lionheart Industries | B11: 6a44e067-8cd0-40dd-b484-179b5e75cbac
A12: Lover Company | B12: 1af6062c-2651-40a7-98a4-3360eac47e55
... A36: Zytech Corporation | B36: 743e3ebb-7609-4103-ac2a-93c737f9294f

Sheet 2__mapping
A1: label | B1: value | C1: direct_client_id

Sheet 3__mapping
A1: label | B1: value
A2: Afghanistan | B2: AF
A3: Åland Islands | B3: AX
A4: Albania | B4: AL
A5: Algeria | B5: DZ
A6: American Samoa | B6: AS
A7: Andorra | B7: AD
A8: Angola | B8: AO
A9: Anguilla | B9: AI
A10: Antarctica | B10: AQ
A11: Antigua & Barbuda | B11: AG
A12: Argentina | B12: AR
... A251: Zimbabwe | B251: ZW

Sheet 4__mapping
A1: label | B1: value
A2: ❌ | B2: FALSE
A3: ✔ | B3: TRUE

Sheet 5__mapping
A1: label | B1: value
A2: Fixed Term | B2: FIXED_TERM
A3: Fixed Term End Confirmed | B3: FIXED_TERM_END_CONFIRMED
A4: Fixed Term Renewable | B4: FIXED_TERM_RENEWABLE
A5: Indefinite | B5: INDEFINITE
A6: Indefinite End Confirmed | B6: INDEFINITE_END_CONFIRMED

Sheet 6__mapping
A1: label | B1: value
A2: ❌ | B2: FALSE
A3: ✔ | B3: TRUE

Sheet 7__mapping
A1: label | B1: value
A2: Crystal Dynamics - JP - 123 Provider - JPY | B2: b5aceb12-1efa-43d1-936f-9987cec5b15b
A3: Crystal Dynamics - JP - 123 Provider - JPY | B3: 1ba25264-ae3c-4dc2-a642-e6fbfcc31632
A4: Crystal Dynamics - JP - Mazars - JPY | B4: 1591c251-43ea-443d-941b-da21e3beef1d
A5: Crystal Dynamics - JP - SThree - JPY | B5: d3c31f01-f29a-48e8-9d96-f09966758e0f
A6: Example Corporation (China) - CN - Example Provider - CNY | B6: 8cfe2c7d-3a89-4aa2-be69-e04d0f46b0f1
A7: Example Corporation (China) - CN - Example Provider - CNY | B7: 341d8cbc-5f21-48e9-9b71-b8692a16a95b
A8: Jaguar Corporation - JP - Mazars - JPY | B8: a2aabda2-5ada-409b-a614-4090c3c3f5fe
A9: Jaguar Corporation - JP - SThree - JPY | B9: 25bdc5b5-f657-44fa-a343-6cd64f8b5a0a
A10: Kitsune Electric (Australia) - AU - Example Provider - AUD | B10: 2dc71d9b-4472-477d-a91d-485789be0759
A11: Kitsune Electric (Australia) - AU - Mazars - AUD | B11: f34553b1-e17c-4535-887f-f163a7522d55
A12: Kitsune Electric (Germany) - DE - Boston Group - EUR | B12: e139d59a-09fa-4837-867a-da43a5e606d2
... A14: Sample Company - CN - One Provider - CNY | B14: c7e20b54-0d79-4fc1-8ecb-c12c9776c8b7

Sheet 8__mapping
A1: label | B1: value
A2: Afghanistan | B2: AF
A3: Åland Islands | B3: AX
A4: Albania | B4: AL
A5: Algeria | B5: DZ
A6: American Samoa | B6: AS
A7: Andorra | B7: AD
A8: Angola | B8: AO
A9: Anguilla | B9: AI
A10: Antarctica | B10: AQ
A11: Antigua & Barbuda | B11: AG
A12: Argentina | B12: AR
... A251: Zimbabwe | B251: ZW

Sheet 9__mapping
A1: label | B1: value
A2: Female | B2: FEMALE
A3: Male | B3: MALE
A4: Non Binary | B4: NON_BINARY
A5: Other | B5: OTHER
A6: Prefer not to disclose | B6: NOT_DISCLOSED

Sheet 10__mapping
A1: label | B1: value
A2: Afghanistan | B2: AF
A3: Åland Islands | B3: AX
A4: Albania | B4: AL
A5: Algeria | B5: DZ
A6: American Samoa | B6: AS
A7: Andorra | B7: AD
A8: Angola | B8: AO
A9: Anguilla | B9: AI
A10: Antarctica | B10: AQ
A11: Antigua & Barbuda | B11: AG
A12: Argentina | B12: AR
... A251: Zimbabwe | B251: ZW

Sheet 11__mapping
A1: label | B1: value
A2: Afghanistan | B2: AF
A3: Åland Islands | B3: AX
A4: Albania | B4: AL
A5: Algeria | B5: DZ
A6: American Samoa | B6: AS
A7: Andorra | B7: AD
A8: Angola | B8: AO
A9: Anguilla | B9: AI
A10: Antarctica | B10: AQ
A11: Antigua & Barbuda | B11: AG
A12: Argentina | B12: AR
... A251: Zimbabwe | B251: ZW

Sheet 12__mapping
A1: label | B1: value
A2: Afghanistan | B2: AF
A3: Åland Islands | B3: AX
A4: Albania | B4: AL
A5: Algeria | B5: DZ
A6: American Samoa | B6: AS
A7: Andorra | B7: AD
A8: Angola | B8: AO
A9: Anguilla | B9: AI
A10: Antarctica | B10: AQ
A11: Antigua & Barbuda | B11: AG
A12: Argentina | B12: AR
... A251: Zimbabwe | B251: ZW

Sheet 13__mapping
A1: label | B1: value
A2: Bezos | B2: fbdb9cf8-2d8b-46d9-9c06-1de52f64e1e5
A3: Bill | B3: 1c489c63-7cf6-4988-9834-1b53d7fc54a7
A4: Elon | B4: d0baeb45-fefc-4a82-8aba-308ec194ea97
A5: Zuck | B5: 7c30d685-7222-4d9a-9b4b-d6bc7d2b3318

Sheet 14__mapping
A1: label | B1: value
A2: Development | B2: f2d60abf-4146-44ad-9640-5594662bf324
A3: Product Management | B3: 9479d939-48b4-4503-9347-feb998f9c09f
A4: User Experience | B4: 2b5f9657-039f-445a-a5bb-3c5d3147f08b

Sheet 15__mapping
A1: label | B1: value
A2: Accounting | B2: ab58f928-b45f-4730-9bb1-3d4dd9e82bb8
A3: Marketing | B3: 88984eb6-50ee-4096-903c-56db3dcb4242
A4: Payroll | B4: 9469314e-d471-475f-9912-2405dfadd550
A5: Sales | B5: dbc742a4-aa9e-4a48-a640-602bf34e5f73

Sheet 16__mapping
A1: label | B1: value
A2: A | B2: dad3978f-6164-437a-90cc-6537ec26417c
A3: B | B3: b0b89c02-1358-45b8-b71e-3590f732c4bd
A4: C | B4: 1ee30de9-0dfa-431c-800e-124124be302a

Sheet 17__mapping
A1: label | B1: value
A2: AB | B2: a3488046-5a7f-42fe-a220-f875579b0dbe
A3: B | B3: f4a4ef86-7e2a-43a5-8438-041d51ca0ba2

Sheet __metadata
A1: version
A2: v2023-01
